BEGIN:VCALENDAR
VERSION:2.0
PRODID:-//Holy Spirit Catholic Church - ECPv6.15.20//NONSGML v1.0//EN
CALSCALE:GREGORIAN
METHOD:PUBLISH
X-ORIGINAL-URL:https://holyspiritmgm.org
X-WR-CALDESC:Events for Holy Spirit Catholic Church
REFRESH-INTERVAL;VALUE=DURATION:PT1H
X-Robots-Tag:noindex
X-PUBLISHED-TTL:PT1H
BEGIN:VTIMEZONE
TZID:America/Chicago
BEGIN:DAYLIGHT
TZOFFSETFROM:-0600
TZOFFSETTO:-0500
TZNAME:CDT
DTSTART:20220313T080000
END:DAYLIGHT
BEGIN:STANDARD
TZOFFSETFROM:-0500
TZOFFSETTO:-0600
TZNAME:CST
DTSTART:20221106T070000
END:STANDARD
BEGIN:DAYLIGHT
TZOFFSETFROM:-0600
TZOFFSETTO:-0500
TZNAME:CDT
DTSTART:20230312T080000
END:DAYLIGHT
BEGIN:STANDARD
TZOFFSETFROM:-0500
TZOFFSETTO:-0600
TZNAME:CST
DTSTART:20231105T070000
END:STANDARD
BEGIN:DAYLIGHT
TZOFFSETFROM:-0600
TZOFFSETTO:-0500
TZNAME:CDT
DTSTART:20240310T080000
END:DAYLIGHT
BEGIN:STANDARD
TZOFFSETFROM:-0500
TZOFFSETTO:-0600
TZNAME:CST
DTSTART:20241103T070000
END:STANDARD
END:VTIMEZONE
BEGIN:VEVENT
DTSTART;TZID=America/Chicago:20230712T090000
DTEND;TZID=America/Chicago:20230713T090000
DTSTAMP:20260423T060633
CREATED:20230511T190633Z
LAST-MODIFIED:20230511T213547Z
UID:10000533-1689152400-1689238800@holyspiritmgm.org
SUMMARY:Eucharistic Adoration
DESCRIPTION:Begins 9am Wednesday until 8am Thursday
URL:https://holyspiritmgm.org/event/eucharistic-adoration/2023-07-12/
END:VEVENT
BEGIN:VEVENT
DTSTART;TZID=America/Chicago:20230712T173000
DTEND;TZID=America/Chicago:20230712T181500
DTSTAMP:20260423T060633
CREATED:20230511T213850Z
LAST-MODIFIED:20230511T214027Z
UID:10001057-1689183000-1689185700@holyspiritmgm.org
SUMMARY:Men of St. Joseph
DESCRIPTION:Meet in the Library
URL:https://holyspiritmgm.org/event/men-of-st-joseph/2023-07-12/
END:VEVENT
BEGIN:VEVENT
DTSTART;TZID=America/Chicago:20230712T173000
DTEND;TZID=America/Chicago:20230712T183000
DTSTAMP:20260423T060633
CREATED:20230511T213706Z
LAST-MODIFIED:20230511T213706Z
UID:10000795-1689183000-1689186600@holyspiritmgm.org
SUMMARY:Daughters of Mary
DESCRIPTION:
URL:https://holyspiritmgm.org/event/daughters-of-mary/2023-07-12/
END:VEVENT
BEGIN:VEVENT
DTSTART;TZID=America/Chicago:20230712T190000
DTEND;TZID=America/Chicago:20230712T203000
DTSTAMP:20260423T060633
CREATED:20230511T214255Z
LAST-MODIFIED:20230511T214255Z
UID:10001319-1689188400-1689193800@holyspiritmgm.org
SUMMARY:Adult Bible Study
DESCRIPTION:Meet in the Library
URL:https://holyspiritmgm.org/event/adult-bible-study/2023-07-12/
END:VEVENT
BEGIN:VEVENT
DTSTART;TZID=America/Chicago:20230712T190000
DTEND;TZID=America/Chicago:20230712T203000
DTSTAMP:20260423T060633
CREATED:20230511T214433Z
LAST-MODIFIED:20230511T214433Z
UID:10001581-1689188400-1689193800@holyspiritmgm.org
SUMMARY:Youth Group
DESCRIPTION:Meet in the Parish Hall
URL:https://holyspiritmgm.org/event/youth-group/2023-07-12/
END:VEVENT
BEGIN:VEVENT
DTSTART;TZID=America/Chicago:20230716T091500
DTEND;TZID=America/Chicago:20230716T104500
DTSTAMP:20260423T060633
CREATED:20230511T214810Z
LAST-MODIFIED:20230511T214810Z
UID:10001843-1689498900-1689504300@holyspiritmgm.org
SUMMARY:Adult Faith Formation Class
DESCRIPTION:Meet in the Parish Hall
URL:https://holyspiritmgm.org/event/adult-faith-formation-class/2023-07-16/
END:VEVENT
BEGIN:VEVENT
DTSTART;TZID=America/Chicago:20230716T091500
DTEND;TZID=America/Chicago:20230716T104500
DTSTAMP:20260423T060633
CREATED:20230511T215038Z
LAST-MODIFIED:20230511T215112Z
UID:10002104-1689498900-1689504300@holyspiritmgm.org
SUMMARY:Children Faith Formation
DESCRIPTION:Meet in the School
URL:https://holyspiritmgm.org/event/children-faith-formation/2023-07-16/
END:VEVENT
BEGIN:VEVENT
DTSTART;TZID=America/Chicago:20230717T080000
DTEND;TZID=America/Chicago:20230721T120000
DTSTAMP:20260423T060633
CREATED:20230712T171359Z
LAST-MODIFIED:20230712T171359Z
UID:10002356-1689580800-1689940800@holyspiritmgm.org
SUMMARY:VBS
DESCRIPTION:
URL:https://holyspiritmgm.org/event/vbs/
ATTACH;FMTTYPE=image/webp:https://holyspiritmgm.org/wp-content/uploads/2023/07/8D53B181-F4A7-4D6A-B0A9-0A1E12E02F20-scaled.webp
END:VEVENT
BEGIN:VEVENT
DTSTART;TZID=America/Chicago:20230718T090000
DTEND;TZID=America/Chicago:20230718T110000
DTSTAMP:20260423T060633
CREATED:20230511T185318Z
LAST-MODIFIED:20230511T185951Z
UID:10000010-1689670800-1689678000@holyspiritmgm.org
SUMMARY:Knitting and Crocheting Meeting
DESCRIPTION:Meet in the Library. \nQuestions\, Contact Peggy Comer 828-490-7976
URL:https://holyspiritmgm.org/event/knitting-and-crocheting-meeting/2023-07-18/
END:VEVENT
BEGIN:VEVENT
DTSTART;TZID=America/Chicago:20230718T190000
DTEND;TZID=America/Chicago:20230718T203000
DTSTAMP:20260423T060633
CREATED:20230511T190228Z
LAST-MODIFIED:20230511T190449Z
UID:10000272-1689706800-1689712200@holyspiritmgm.org
SUMMARY:Adult Choir Practice
DESCRIPTION:
URL:https://holyspiritmgm.org/event/adult-choir-practice/2023-07-18/
END:VEVENT
BEGIN:VEVENT
DTSTART;TZID=America/Chicago:20230719T090000
DTEND;TZID=America/Chicago:20230720T090000
DTSTAMP:20260423T060633
CREATED:20230511T190633Z
LAST-MODIFIED:20230511T213547Z
UID:10000534-1689757200-1689843600@holyspiritmgm.org
SUMMARY:Eucharistic Adoration
DESCRIPTION:Begins 9am Wednesday until 8am Thursday
URL:https://holyspiritmgm.org/event/eucharistic-adoration/2023-07-19/
END:VEVENT
BEGIN:VEVENT
DTSTART;TZID=America/Chicago:20230719T173000
DTEND;TZID=America/Chicago:20230719T181500
DTSTAMP:20260423T060633
CREATED:20230511T213850Z
LAST-MODIFIED:20230511T214027Z
UID:10001058-1689787800-1689790500@holyspiritmgm.org
SUMMARY:Men of St. Joseph
DESCRIPTION:Meet in the Library
URL:https://holyspiritmgm.org/event/men-of-st-joseph/2023-07-19/
END:VEVENT
BEGIN:VEVENT
DTSTART;TZID=America/Chicago:20230719T173000
DTEND;TZID=America/Chicago:20230719T183000
DTSTAMP:20260423T060633
CREATED:20230511T213706Z
LAST-MODIFIED:20230511T213706Z
UID:10000796-1689787800-1689791400@holyspiritmgm.org
SUMMARY:Daughters of Mary
DESCRIPTION:
URL:https://holyspiritmgm.org/event/daughters-of-mary/2023-07-19/
END:VEVENT
BEGIN:VEVENT
DTSTART;TZID=America/Chicago:20230719T190000
DTEND;TZID=America/Chicago:20230719T203000
DTSTAMP:20260423T060633
CREATED:20230511T214255Z
LAST-MODIFIED:20230511T214255Z
UID:10001320-1689793200-1689798600@holyspiritmgm.org
SUMMARY:Adult Bible Study
DESCRIPTION:Meet in the Library
URL:https://holyspiritmgm.org/event/adult-bible-study/2023-07-19/
END:VEVENT
BEGIN:VEVENT
DTSTART;TZID=America/Chicago:20230719T190000
DTEND;TZID=America/Chicago:20230719T203000
DTSTAMP:20260423T060633
CREATED:20230511T214433Z
LAST-MODIFIED:20230511T214433Z
UID:10001582-1689793200-1689798600@holyspiritmgm.org
SUMMARY:Youth Group
DESCRIPTION:Meet in the Parish Hall
URL:https://holyspiritmgm.org/event/youth-group/2023-07-19/
END:VEVENT
BEGIN:VEVENT
DTSTART;TZID=America/Chicago:20230723T091500
DTEND;TZID=America/Chicago:20230723T104500
DTSTAMP:20260423T060633
CREATED:20230511T214810Z
LAST-MODIFIED:20230511T214810Z
UID:10001844-1690103700-1690109100@holyspiritmgm.org
SUMMARY:Adult Faith Formation Class
DESCRIPTION:Meet in the Parish Hall
URL:https://holyspiritmgm.org/event/adult-faith-formation-class/2023-07-23/
END:VEVENT
BEGIN:VEVENT
DTSTART;TZID=America/Chicago:20230723T091500
DTEND;TZID=America/Chicago:20230723T104500
DTSTAMP:20260423T060633
CREATED:20230511T215038Z
LAST-MODIFIED:20230511T215112Z
UID:10002105-1690103700-1690109100@holyspiritmgm.org
SUMMARY:Children Faith Formation
DESCRIPTION:Meet in the School
URL:https://holyspiritmgm.org/event/children-faith-formation/2023-07-23/
END:VEVENT
BEGIN:VEVENT
DTSTART;TZID=America/Chicago:20230725T090000
DTEND;TZID=America/Chicago:20230725T110000
DTSTAMP:20260423T060633
CREATED:20230511T185318Z
LAST-MODIFIED:20230511T185951Z
UID:10000011-1690275600-1690282800@holyspiritmgm.org
SUMMARY:Knitting and Crocheting Meeting
DESCRIPTION:Meet in the Library. \nQuestions\, Contact Peggy Comer 828-490-7976
URL:https://holyspiritmgm.org/event/knitting-and-crocheting-meeting/2023-07-25/
END:VEVENT
BEGIN:VEVENT
DTSTART;TZID=America/Chicago:20230725T190000
DTEND;TZID=America/Chicago:20230725T203000
DTSTAMP:20260423T060633
CREATED:20230511T190228Z
LAST-MODIFIED:20230511T190449Z
UID:10000273-1690311600-1690317000@holyspiritmgm.org
SUMMARY:Adult Choir Practice
DESCRIPTION:
URL:https://holyspiritmgm.org/event/adult-choir-practice/2023-07-25/
END:VEVENT
BEGIN:VEVENT
DTSTART;TZID=America/Chicago:20230726T090000
DTEND;TZID=America/Chicago:20230727T090000
DTSTAMP:20260423T060633
CREATED:20230511T190633Z
LAST-MODIFIED:20230511T213547Z
UID:10000535-1690362000-1690448400@holyspiritmgm.org
SUMMARY:Eucharistic Adoration
DESCRIPTION:Begins 9am Wednesday until 8am Thursday
URL:https://holyspiritmgm.org/event/eucharistic-adoration/2023-07-26/
END:VEVENT
BEGIN:VEVENT
DTSTART;TZID=America/Chicago:20230726T173000
DTEND;TZID=America/Chicago:20230726T181500
DTSTAMP:20260423T060633
CREATED:20230511T213850Z
LAST-MODIFIED:20230511T214027Z
UID:10001059-1690392600-1690395300@holyspiritmgm.org
SUMMARY:Men of St. Joseph
DESCRIPTION:Meet in the Library
URL:https://holyspiritmgm.org/event/men-of-st-joseph/2023-07-26/
END:VEVENT
BEGIN:VEVENT
DTSTART;TZID=America/Chicago:20230726T173000
DTEND;TZID=America/Chicago:20230726T183000
DTSTAMP:20260423T060633
CREATED:20230511T213706Z
LAST-MODIFIED:20230511T213706Z
UID:10000797-1690392600-1690396200@holyspiritmgm.org
SUMMARY:Daughters of Mary
DESCRIPTION:
URL:https://holyspiritmgm.org/event/daughters-of-mary/2023-07-26/
END:VEVENT
BEGIN:VEVENT
DTSTART;TZID=America/Chicago:20230726T190000
DTEND;TZID=America/Chicago:20230726T203000
DTSTAMP:20260423T060633
CREATED:20230511T214255Z
LAST-MODIFIED:20230511T214255Z
UID:10001321-1690398000-1690403400@holyspiritmgm.org
SUMMARY:Adult Bible Study
DESCRIPTION:Meet in the Library
URL:https://holyspiritmgm.org/event/adult-bible-study/2023-07-26/
END:VEVENT
BEGIN:VEVENT
DTSTART;TZID=America/Chicago:20230726T190000
DTEND;TZID=America/Chicago:20230726T203000
DTSTAMP:20260423T060633
CREATED:20230511T214433Z
LAST-MODIFIED:20230511T214433Z
UID:10001583-1690398000-1690403400@holyspiritmgm.org
SUMMARY:Youth Group
DESCRIPTION:Meet in the Parish Hall
URL:https://holyspiritmgm.org/event/youth-group/2023-07-26/
END:VEVENT
BEGIN:VEVENT
DTSTART;TZID=America/Chicago:20230730T091500
DTEND;TZID=America/Chicago:20230730T104500
DTSTAMP:20260423T060633
CREATED:20230511T214810Z
LAST-MODIFIED:20230511T214810Z
UID:10001845-1690708500-1690713900@holyspiritmgm.org
SUMMARY:Adult Faith Formation Class
DESCRIPTION:Meet in the Parish Hall
URL:https://holyspiritmgm.org/event/adult-faith-formation-class/2023-07-30/
END:VEVENT
BEGIN:VEVENT
DTSTART;TZID=America/Chicago:20230730T091500
DTEND;TZID=America/Chicago:20230730T104500
DTSTAMP:20260423T060633
CREATED:20230511T215038Z
LAST-MODIFIED:20230511T215112Z
UID:10002106-1690708500-1690713900@holyspiritmgm.org
SUMMARY:Children Faith Formation
DESCRIPTION:Meet in the School
URL:https://holyspiritmgm.org/event/children-faith-formation/2023-07-30/
END:VEVENT
BEGIN:VEVENT
DTSTART;TZID=America/Chicago:20230801T090000
DTEND;TZID=America/Chicago:20230801T110000
DTSTAMP:20260423T060633
CREATED:20230511T185318Z
LAST-MODIFIED:20230511T185951Z
UID:10000012-1690880400-1690887600@holyspiritmgm.org
SUMMARY:Knitting and Crocheting Meeting
DESCRIPTION:Meet in the Library. \nQuestions\, Contact Peggy Comer 828-490-7976
URL:https://holyspiritmgm.org/event/knitting-and-crocheting-meeting/2023-08-01/
END:VEVENT
BEGIN:VEVENT
DTSTART;TZID=America/Chicago:20230801T190000
DTEND;TZID=America/Chicago:20230801T203000
DTSTAMP:20260423T060633
CREATED:20230511T190228Z
LAST-MODIFIED:20230511T190449Z
UID:10000274-1690916400-1690921800@holyspiritmgm.org
SUMMARY:Adult Choir Practice
DESCRIPTION:
URL:https://holyspiritmgm.org/event/adult-choir-practice/2023-08-01/
END:VEVENT
BEGIN:VEVENT
DTSTART;TZID=America/Chicago:20230802T090000
DTEND;TZID=America/Chicago:20230803T090000
DTSTAMP:20260423T060633
CREATED:20230511T190633Z
LAST-MODIFIED:20230511T213547Z
UID:10000536-1690966800-1691053200@holyspiritmgm.org
SUMMARY:Eucharistic Adoration
DESCRIPTION:Begins 9am Wednesday until 8am Thursday
URL:https://holyspiritmgm.org/event/eucharistic-adoration/2023-08-02/
END:VEVENT
BEGIN:VEVENT
DTSTART;TZID=America/Chicago:20230802T173000
DTEND;TZID=America/Chicago:20230802T181500
DTSTAMP:20260423T060633
CREATED:20230511T213850Z
LAST-MODIFIED:20230511T214027Z
UID:10001060-1690997400-1691000100@holyspiritmgm.org
SUMMARY:Men of St. Joseph
DESCRIPTION:Meet in the Library
URL:https://holyspiritmgm.org/event/men-of-st-joseph/2023-08-02/
END:VEVENT
END:VCALENDAR