BEGIN:VCALENDAR
VERSION:2.0
PRODID:-//Holy Spirit Catholic Church - ECPv6.15.20//NONSGML v1.0//EN
CALSCALE:GREGORIAN
METHOD:PUBLISH
X-ORIGINAL-URL:https://holyspiritmgm.org
X-WR-CALDESC:Events for Holy Spirit Catholic Church
REFRESH-INTERVAL;VALUE=DURATION:PT1H
X-Robots-Tag:noindex
X-PUBLISHED-TTL:PT1H
BEGIN:VTIMEZONE
TZID:America/Chicago
BEGIN:DAYLIGHT
TZOFFSETFROM:-0600
TZOFFSETTO:-0500
TZNAME:CDT
DTSTART:20220313T080000
END:DAYLIGHT
BEGIN:STANDARD
TZOFFSETFROM:-0500
TZOFFSETTO:-0600
TZNAME:CST
DTSTART:20221106T070000
END:STANDARD
BEGIN:DAYLIGHT
TZOFFSETFROM:-0600
TZOFFSETTO:-0500
TZNAME:CDT
DTSTART:20230312T080000
END:DAYLIGHT
BEGIN:STANDARD
TZOFFSETFROM:-0500
TZOFFSETTO:-0600
TZNAME:CST
DTSTART:20231105T070000
END:STANDARD
BEGIN:DAYLIGHT
TZOFFSETFROM:-0600
TZOFFSETTO:-0500
TZNAME:CDT
DTSTART:20240310T080000
END:DAYLIGHT
BEGIN:STANDARD
TZOFFSETFROM:-0500
TZOFFSETTO:-0600
TZNAME:CST
DTSTART:20241103T070000
END:STANDARD
END:VTIMEZONE
BEGIN:VEVENT
DTSTART;TZID=America/Chicago:20231129T090000
DTEND;TZID=America/Chicago:20231130T090000
DTSTAMP:20260422T212133
CREATED:20230511T190633Z
LAST-MODIFIED:20230511T213547Z
UID:10000553-1701248400-1701334800@holyspiritmgm.org
SUMMARY:Eucharistic Adoration
DESCRIPTION:Begins 9am Wednesday until 8am Thursday
URL:https://holyspiritmgm.org/event/eucharistic-adoration/2023-11-29/
END:VEVENT
BEGIN:VEVENT
DTSTART;TZID=America/Chicago:20231203T091500
DTEND;TZID=America/Chicago:20231203T104500
DTSTAMP:20260422T212133
CREATED:20230511T214810Z
LAST-MODIFIED:20230511T214810Z
UID:10001863-1701594900-1701600300@holyspiritmgm.org
SUMMARY:Adult Faith Formation Class
DESCRIPTION:Meet in the Parish Hall
URL:https://holyspiritmgm.org/event/adult-faith-formation-class/2023-12-03/
END:VEVENT
BEGIN:VEVENT
DTSTART;TZID=America/Chicago:20231203T091500
DTEND;TZID=America/Chicago:20231203T104500
DTSTAMP:20260422T212133
CREATED:20230511T215038Z
LAST-MODIFIED:20230511T215112Z
UID:10002124-1701594900-1701600300@holyspiritmgm.org
SUMMARY:Children Faith Formation
DESCRIPTION:Meet in the School
URL:https://holyspiritmgm.org/event/children-faith-formation/2023-12-03/
END:VEVENT
BEGIN:VEVENT
DTSTART;TZID=America/Chicago:20231205T090000
DTEND;TZID=America/Chicago:20231205T110000
DTSTAMP:20260422T212133
CREATED:20230511T185318Z
LAST-MODIFIED:20230511T185951Z
UID:10000030-1701766800-1701774000@holyspiritmgm.org
SUMMARY:Knitting and Crocheting Meeting
DESCRIPTION:Meet in the Library. \nQuestions\, Contact Peggy Comer 828-490-7976
URL:https://holyspiritmgm.org/event/knitting-and-crocheting-meeting/2023-12-05/
END:VEVENT
BEGIN:VEVENT
DTSTART;TZID=America/Chicago:20231205T190000
DTEND;TZID=America/Chicago:20231205T203000
DTSTAMP:20260422T212133
CREATED:20230511T190228Z
LAST-MODIFIED:20230511T190449Z
UID:10000292-1701802800-1701808200@holyspiritmgm.org
SUMMARY:Adult Choir Practice
DESCRIPTION:
URL:https://holyspiritmgm.org/event/adult-choir-practice/2023-12-05/
END:VEVENT
BEGIN:VEVENT
DTSTART;TZID=America/Chicago:20231206T090000
DTEND;TZID=America/Chicago:20231207T090000
DTSTAMP:20260422T212133
CREATED:20230511T190633Z
LAST-MODIFIED:20230511T213547Z
UID:10000554-1701853200-1701939600@holyspiritmgm.org
SUMMARY:Eucharistic Adoration
DESCRIPTION:Begins 9am Wednesday until 8am Thursday
URL:https://holyspiritmgm.org/event/eucharistic-adoration/2023-12-06/
END:VEVENT
BEGIN:VEVENT
DTSTART;TZID=America/Chicago:20231206T173000
DTEND;TZID=America/Chicago:20231206T181500
DTSTAMP:20260422T212133
CREATED:20230511T213850Z
LAST-MODIFIED:20230511T214027Z
UID:10001078-1701883800-1701886500@holyspiritmgm.org
SUMMARY:Men of St. Joseph
DESCRIPTION:Meet in the Library
URL:https://holyspiritmgm.org/event/men-of-st-joseph/2023-12-06/
END:VEVENT
BEGIN:VEVENT
DTSTART;TZID=America/Chicago:20231206T173000
DTEND;TZID=America/Chicago:20231206T183000
DTSTAMP:20260422T212133
CREATED:20230511T213706Z
LAST-MODIFIED:20230511T213706Z
UID:10000816-1701883800-1701887400@holyspiritmgm.org
SUMMARY:Daughters of Mary
DESCRIPTION:
URL:https://holyspiritmgm.org/event/daughters-of-mary/2023-12-06/
END:VEVENT
BEGIN:VEVENT
DTSTART;TZID=America/Chicago:20231206T190000
DTEND;TZID=America/Chicago:20231206T203000
DTSTAMP:20260422T212133
CREATED:20230511T214255Z
LAST-MODIFIED:20230511T214255Z
UID:10001340-1701889200-1701894600@holyspiritmgm.org
SUMMARY:Adult Bible Study
DESCRIPTION:Meet in the Library
URL:https://holyspiritmgm.org/event/adult-bible-study/2023-12-06/
END:VEVENT
BEGIN:VEVENT
DTSTART;TZID=America/Chicago:20231206T190000
DTEND;TZID=America/Chicago:20231206T203000
DTSTAMP:20260422T212133
CREATED:20230511T214433Z
LAST-MODIFIED:20230511T214433Z
UID:10001602-1701889200-1701894600@holyspiritmgm.org
SUMMARY:Youth Group
DESCRIPTION:Meet in the Parish Hall
URL:https://holyspiritmgm.org/event/youth-group/2023-12-06/
END:VEVENT
BEGIN:VEVENT
DTSTART;TZID=America/Chicago:20231210T091500
DTEND;TZID=America/Chicago:20231210T104500
DTSTAMP:20260422T212133
CREATED:20230511T214810Z
LAST-MODIFIED:20230511T214810Z
UID:10001864-1702199700-1702205100@holyspiritmgm.org
SUMMARY:Adult Faith Formation Class
DESCRIPTION:Meet in the Parish Hall
URL:https://holyspiritmgm.org/event/adult-faith-formation-class/2023-12-10/
END:VEVENT
BEGIN:VEVENT
DTSTART;TZID=America/Chicago:20231210T091500
DTEND;TZID=America/Chicago:20231210T104500
DTSTAMP:20260422T212133
CREATED:20230511T215038Z
LAST-MODIFIED:20230511T215112Z
UID:10002125-1702199700-1702205100@holyspiritmgm.org
SUMMARY:Children Faith Formation
DESCRIPTION:Meet in the School
URL:https://holyspiritmgm.org/event/children-faith-formation/2023-12-10/
END:VEVENT
BEGIN:VEVENT
DTSTART;TZID=America/Chicago:20231212T090000
DTEND;TZID=America/Chicago:20231212T110000
DTSTAMP:20260422T212133
CREATED:20230511T185318Z
LAST-MODIFIED:20230511T185951Z
UID:10000031-1702371600-1702378800@holyspiritmgm.org
SUMMARY:Knitting and Crocheting Meeting
DESCRIPTION:Meet in the Library. \nQuestions\, Contact Peggy Comer 828-490-7976
URL:https://holyspiritmgm.org/event/knitting-and-crocheting-meeting/2023-12-12/
END:VEVENT
BEGIN:VEVENT
DTSTART;TZID=America/Chicago:20231212T190000
DTEND;TZID=America/Chicago:20231212T203000
DTSTAMP:20260422T212133
CREATED:20230511T190228Z
LAST-MODIFIED:20230511T190449Z
UID:10000293-1702407600-1702413000@holyspiritmgm.org
SUMMARY:Adult Choir Practice
DESCRIPTION:
URL:https://holyspiritmgm.org/event/adult-choir-practice/2023-12-12/
END:VEVENT
BEGIN:VEVENT
DTSTART;TZID=America/Chicago:20231213T090000
DTEND;TZID=America/Chicago:20231214T090000
DTSTAMP:20260422T212133
CREATED:20230511T190633Z
LAST-MODIFIED:20230511T213547Z
UID:10000555-1702458000-1702544400@holyspiritmgm.org
SUMMARY:Eucharistic Adoration
DESCRIPTION:Begins 9am Wednesday until 8am Thursday
URL:https://holyspiritmgm.org/event/eucharistic-adoration/2023-12-13/
END:VEVENT
BEGIN:VEVENT
DTSTART;TZID=America/Chicago:20231213T173000
DTEND;TZID=America/Chicago:20231213T181500
DTSTAMP:20260422T212133
CREATED:20230511T213850Z
LAST-MODIFIED:20230511T214027Z
UID:10001079-1702488600-1702491300@holyspiritmgm.org
SUMMARY:Men of St. Joseph
DESCRIPTION:Meet in the Library
URL:https://holyspiritmgm.org/event/men-of-st-joseph/2023-12-13/
END:VEVENT
BEGIN:VEVENT
DTSTART;TZID=America/Chicago:20231213T173000
DTEND;TZID=America/Chicago:20231213T183000
DTSTAMP:20260422T212133
CREATED:20230511T213706Z
LAST-MODIFIED:20230511T213706Z
UID:10000817-1702488600-1702492200@holyspiritmgm.org
SUMMARY:Daughters of Mary
DESCRIPTION:
URL:https://holyspiritmgm.org/event/daughters-of-mary/2023-12-13/
END:VEVENT
BEGIN:VEVENT
DTSTART;TZID=America/Chicago:20231213T190000
DTEND;TZID=America/Chicago:20231213T203000
DTSTAMP:20260422T212133
CREATED:20230511T214255Z
LAST-MODIFIED:20230511T214255Z
UID:10001341-1702494000-1702499400@holyspiritmgm.org
SUMMARY:Adult Bible Study
DESCRIPTION:Meet in the Library
URL:https://holyspiritmgm.org/event/adult-bible-study/2023-12-13/
END:VEVENT
BEGIN:VEVENT
DTSTART;TZID=America/Chicago:20231213T190000
DTEND;TZID=America/Chicago:20231213T203000
DTSTAMP:20260422T212133
CREATED:20230511T214433Z
LAST-MODIFIED:20230511T214433Z
UID:10001603-1702494000-1702499400@holyspiritmgm.org
SUMMARY:Youth Group
DESCRIPTION:Meet in the Parish Hall
URL:https://holyspiritmgm.org/event/youth-group/2023-12-13/
END:VEVENT
BEGIN:VEVENT
DTSTART;TZID=America/Chicago:20231217T091500
DTEND;TZID=America/Chicago:20231217T104500
DTSTAMP:20260422T212133
CREATED:20230511T214810Z
LAST-MODIFIED:20230511T214810Z
UID:10001865-1702804500-1702809900@holyspiritmgm.org
SUMMARY:Adult Faith Formation Class
DESCRIPTION:Meet in the Parish Hall
URL:https://holyspiritmgm.org/event/adult-faith-formation-class/2023-12-17/
END:VEVENT
BEGIN:VEVENT
DTSTART;TZID=America/Chicago:20231217T091500
DTEND;TZID=America/Chicago:20231217T104500
DTSTAMP:20260422T212133
CREATED:20230511T215038Z
LAST-MODIFIED:20230511T215112Z
UID:10002126-1702804500-1702809900@holyspiritmgm.org
SUMMARY:Children Faith Formation
DESCRIPTION:Meet in the School
URL:https://holyspiritmgm.org/event/children-faith-formation/2023-12-17/
END:VEVENT
BEGIN:VEVENT
DTSTART;TZID=America/Chicago:20231219T090000
DTEND;TZID=America/Chicago:20231219T110000
DTSTAMP:20260422T212133
CREATED:20230511T185318Z
LAST-MODIFIED:20230511T185951Z
UID:10000032-1702976400-1702983600@holyspiritmgm.org
SUMMARY:Knitting and Crocheting Meeting
DESCRIPTION:Meet in the Library. \nQuestions\, Contact Peggy Comer 828-490-7976
URL:https://holyspiritmgm.org/event/knitting-and-crocheting-meeting/2023-12-19/
END:VEVENT
BEGIN:VEVENT
DTSTART;TZID=America/Chicago:20231219T190000
DTEND;TZID=America/Chicago:20231219T203000
DTSTAMP:20260422T212133
CREATED:20230511T190228Z
LAST-MODIFIED:20230511T190449Z
UID:10000294-1703012400-1703017800@holyspiritmgm.org
SUMMARY:Adult Choir Practice
DESCRIPTION:
URL:https://holyspiritmgm.org/event/adult-choir-practice/2023-12-19/
END:VEVENT
BEGIN:VEVENT
DTSTART;TZID=America/Chicago:20231220T090000
DTEND;TZID=America/Chicago:20231221T090000
DTSTAMP:20260422T212133
CREATED:20230511T190633Z
LAST-MODIFIED:20230511T213547Z
UID:10000556-1703062800-1703149200@holyspiritmgm.org
SUMMARY:Eucharistic Adoration
DESCRIPTION:Begins 9am Wednesday until 8am Thursday
URL:https://holyspiritmgm.org/event/eucharistic-adoration/2023-12-20/
END:VEVENT
BEGIN:VEVENT
DTSTART;TZID=America/Chicago:20231220T173000
DTEND;TZID=America/Chicago:20231220T181500
DTSTAMP:20260422T212133
CREATED:20230511T213850Z
LAST-MODIFIED:20230511T214027Z
UID:10001080-1703093400-1703096100@holyspiritmgm.org
SUMMARY:Men of St. Joseph
DESCRIPTION:Meet in the Library
URL:https://holyspiritmgm.org/event/men-of-st-joseph/2023-12-20/
END:VEVENT
BEGIN:VEVENT
DTSTART;TZID=America/Chicago:20231220T173000
DTEND;TZID=America/Chicago:20231220T183000
DTSTAMP:20260422T212133
CREATED:20230511T213706Z
LAST-MODIFIED:20230511T213706Z
UID:10000818-1703093400-1703097000@holyspiritmgm.org
SUMMARY:Daughters of Mary
DESCRIPTION:
URL:https://holyspiritmgm.org/event/daughters-of-mary/2023-12-20/
END:VEVENT
BEGIN:VEVENT
DTSTART;TZID=America/Chicago:20231220T190000
DTEND;TZID=America/Chicago:20231220T203000
DTSTAMP:20260422T212133
CREATED:20230511T214255Z
LAST-MODIFIED:20230511T214255Z
UID:10001342-1703098800-1703104200@holyspiritmgm.org
SUMMARY:Adult Bible Study
DESCRIPTION:Meet in the Library
URL:https://holyspiritmgm.org/event/adult-bible-study/2023-12-20/
END:VEVENT
BEGIN:VEVENT
DTSTART;TZID=America/Chicago:20231220T190000
DTEND;TZID=America/Chicago:20231220T203000
DTSTAMP:20260422T212133
CREATED:20230511T214433Z
LAST-MODIFIED:20230511T214433Z
UID:10001604-1703098800-1703104200@holyspiritmgm.org
SUMMARY:Youth Group
DESCRIPTION:Meet in the Parish Hall
URL:https://holyspiritmgm.org/event/youth-group/2023-12-20/
END:VEVENT
BEGIN:VEVENT
DTSTART;TZID=America/Chicago:20231224T091500
DTEND;TZID=America/Chicago:20231224T104500
DTSTAMP:20260422T212133
CREATED:20230511T214810Z
LAST-MODIFIED:20230511T214810Z
UID:10001866-1703409300-1703414700@holyspiritmgm.org
SUMMARY:Adult Faith Formation Class
DESCRIPTION:Meet in the Parish Hall
URL:https://holyspiritmgm.org/event/adult-faith-formation-class/2023-12-24/
END:VEVENT
BEGIN:VEVENT
DTSTART;TZID=America/Chicago:20231224T091500
DTEND;TZID=America/Chicago:20231224T104500
DTSTAMP:20260422T212133
CREATED:20230511T215038Z
LAST-MODIFIED:20230511T215112Z
UID:10002127-1703409300-1703414700@holyspiritmgm.org
SUMMARY:Children Faith Formation
DESCRIPTION:Meet in the School
URL:https://holyspiritmgm.org/event/children-faith-formation/2023-12-24/
END:VEVENT
END:VCALENDAR