BEGIN:VCALENDAR
VERSION:2.0
PRODID:-//Holy Spirit Catholic Church - ECPv6.15.20//NONSGML v1.0//EN
CALSCALE:GREGORIAN
METHOD:PUBLISH
X-ORIGINAL-URL:https://holyspiritmgm.org
X-WR-CALDESC:Events for Holy Spirit Catholic Church
REFRESH-INTERVAL;VALUE=DURATION:PT1H
X-Robots-Tag:noindex
X-PUBLISHED-TTL:PT1H
BEGIN:VTIMEZONE
TZID:America/Chicago
BEGIN:DAYLIGHT
TZOFFSETFROM:-0600
TZOFFSETTO:-0500
TZNAME:CDT
DTSTART:20230312T080000
END:DAYLIGHT
BEGIN:STANDARD
TZOFFSETFROM:-0500
TZOFFSETTO:-0600
TZNAME:CST
DTSTART:20231105T070000
END:STANDARD
BEGIN:DAYLIGHT
TZOFFSETFROM:-0600
TZOFFSETTO:-0500
TZNAME:CDT
DTSTART:20240310T080000
END:DAYLIGHT
BEGIN:STANDARD
TZOFFSETFROM:-0500
TZOFFSETTO:-0600
TZNAME:CST
DTSTART:20241103T070000
END:STANDARD
BEGIN:DAYLIGHT
TZOFFSETFROM:-0600
TZOFFSETTO:-0500
TZNAME:CDT
DTSTART:20250309T080000
END:DAYLIGHT
BEGIN:STANDARD
TZOFFSETFROM:-0500
TZOFFSETTO:-0600
TZNAME:CST
DTSTART:20251102T070000
END:STANDARD
END:VTIMEZONE
BEGIN:VEVENT
DTSTART;TZID=America/Chicago:20240228T090000
DTEND;TZID=America/Chicago:20240229T090000
DTSTAMP:20260422T174852
CREATED:20230511T190633Z
LAST-MODIFIED:20230511T213547Z
UID:10000566-1709110800-1709197200@holyspiritmgm.org
SUMMARY:Eucharistic Adoration
DESCRIPTION:Begins 9am Wednesday until 8am Thursday
URL:https://holyspiritmgm.org/event/eucharistic-adoration/2024-02-28/
END:VEVENT
BEGIN:VEVENT
DTSTART;TZID=America/Chicago:20240303T091500
DTEND;TZID=America/Chicago:20240303T104500
DTSTAMP:20260422T174852
CREATED:20230511T214810Z
LAST-MODIFIED:20230511T214810Z
UID:10001876-1709457300-1709462700@holyspiritmgm.org
SUMMARY:Adult Faith Formation Class
DESCRIPTION:Meet in the Parish Hall
URL:https://holyspiritmgm.org/event/adult-faith-formation-class/2024-03-03/
END:VEVENT
BEGIN:VEVENT
DTSTART;TZID=America/Chicago:20240303T091500
DTEND;TZID=America/Chicago:20240303T104500
DTSTAMP:20260422T174852
CREATED:20230511T215038Z
LAST-MODIFIED:20230511T215112Z
UID:10002137-1709457300-1709462700@holyspiritmgm.org
SUMMARY:Children Faith Formation
DESCRIPTION:Meet in the School
URL:https://holyspiritmgm.org/event/children-faith-formation/2024-03-03/
END:VEVENT
BEGIN:VEVENT
DTSTART;TZID=America/Chicago:20240305T090000
DTEND;TZID=America/Chicago:20240305T110000
DTSTAMP:20260422T174852
CREATED:20230511T185318Z
LAST-MODIFIED:20230511T185951Z
UID:10000043-1709629200-1709636400@holyspiritmgm.org
SUMMARY:Knitting and Crocheting Meeting
DESCRIPTION:Meet in the Library. \nQuestions\, Contact Peggy Comer 828-490-7976
URL:https://holyspiritmgm.org/event/knitting-and-crocheting-meeting/2024-03-05/
END:VEVENT
BEGIN:VEVENT
DTSTART;TZID=America/Chicago:20240305T190000
DTEND;TZID=America/Chicago:20240305T203000
DTSTAMP:20260422T174852
CREATED:20230511T190228Z
LAST-MODIFIED:20230511T190449Z
UID:10000305-1709665200-1709670600@holyspiritmgm.org
SUMMARY:Adult Choir Practice
DESCRIPTION:
URL:https://holyspiritmgm.org/event/adult-choir-practice/2024-03-05/
END:VEVENT
BEGIN:VEVENT
DTSTART;TZID=America/Chicago:20240306T090000
DTEND;TZID=America/Chicago:20240307T090000
DTSTAMP:20260422T174852
CREATED:20230511T190633Z
LAST-MODIFIED:20230511T213547Z
UID:10000567-1709715600-1709802000@holyspiritmgm.org
SUMMARY:Eucharistic Adoration
DESCRIPTION:Begins 9am Wednesday until 8am Thursday
URL:https://holyspiritmgm.org/event/eucharistic-adoration/2024-03-06/
END:VEVENT
BEGIN:VEVENT
DTSTART;TZID=America/Chicago:20240306T173000
DTEND;TZID=America/Chicago:20240306T181500
DTSTAMP:20260422T174852
CREATED:20230511T213850Z
LAST-MODIFIED:20230511T214027Z
UID:10001091-1709746200-1709748900@holyspiritmgm.org
SUMMARY:Men of St. Joseph
DESCRIPTION:Meet in the Library
URL:https://holyspiritmgm.org/event/men-of-st-joseph/2024-03-06/
END:VEVENT
BEGIN:VEVENT
DTSTART;TZID=America/Chicago:20240306T173000
DTEND;TZID=America/Chicago:20240306T183000
DTSTAMP:20260422T174852
CREATED:20230511T213706Z
LAST-MODIFIED:20230511T213706Z
UID:10000829-1709746200-1709749800@holyspiritmgm.org
SUMMARY:Daughters of Mary
DESCRIPTION:
URL:https://holyspiritmgm.org/event/daughters-of-mary/2024-03-06/
END:VEVENT
BEGIN:VEVENT
DTSTART;TZID=America/Chicago:20240306T190000
DTEND;TZID=America/Chicago:20240306T203000
DTSTAMP:20260422T174852
CREATED:20230511T214255Z
LAST-MODIFIED:20230511T214255Z
UID:10001353-1709751600-1709757000@holyspiritmgm.org
SUMMARY:Adult Bible Study
DESCRIPTION:Meet in the Library
URL:https://holyspiritmgm.org/event/adult-bible-study/2024-03-06/
END:VEVENT
BEGIN:VEVENT
DTSTART;TZID=America/Chicago:20240306T190000
DTEND;TZID=America/Chicago:20240306T203000
DTSTAMP:20260422T174852
CREATED:20230511T214433Z
LAST-MODIFIED:20230511T214433Z
UID:10001615-1709751600-1709757000@holyspiritmgm.org
SUMMARY:Youth Group
DESCRIPTION:Meet in the Parish Hall
URL:https://holyspiritmgm.org/event/youth-group/2024-03-06/
END:VEVENT
BEGIN:VEVENT
DTSTART;TZID=America/Chicago:20240310T091500
DTEND;TZID=America/Chicago:20240310T104500
DTSTAMP:20260422T174852
CREATED:20230511T214810Z
LAST-MODIFIED:20230511T214810Z
UID:10001877-1710062100-1710067500@holyspiritmgm.org
SUMMARY:Adult Faith Formation Class
DESCRIPTION:Meet in the Parish Hall
URL:https://holyspiritmgm.org/event/adult-faith-formation-class/2024-03-10/
END:VEVENT
BEGIN:VEVENT
DTSTART;TZID=America/Chicago:20240310T091500
DTEND;TZID=America/Chicago:20240310T104500
DTSTAMP:20260422T174852
CREATED:20230511T215038Z
LAST-MODIFIED:20230511T215112Z
UID:10002138-1710062100-1710067500@holyspiritmgm.org
SUMMARY:Children Faith Formation
DESCRIPTION:Meet in the School
URL:https://holyspiritmgm.org/event/children-faith-formation/2024-03-10/
END:VEVENT
BEGIN:VEVENT
DTSTART;TZID=America/Chicago:20240312T090000
DTEND;TZID=America/Chicago:20240312T110000
DTSTAMP:20260422T174852
CREATED:20230511T185318Z
LAST-MODIFIED:20230511T185951Z
UID:10000044-1710234000-1710241200@holyspiritmgm.org
SUMMARY:Knitting and Crocheting Meeting
DESCRIPTION:Meet in the Library. \nQuestions\, Contact Peggy Comer 828-490-7976
URL:https://holyspiritmgm.org/event/knitting-and-crocheting-meeting/2024-03-12/
END:VEVENT
BEGIN:VEVENT
DTSTART;TZID=America/Chicago:20240312T190000
DTEND;TZID=America/Chicago:20240312T203000
DTSTAMP:20260422T174852
CREATED:20230511T190228Z
LAST-MODIFIED:20230511T190449Z
UID:10000306-1710270000-1710275400@holyspiritmgm.org
SUMMARY:Adult Choir Practice
DESCRIPTION:
URL:https://holyspiritmgm.org/event/adult-choir-practice/2024-03-12/
END:VEVENT
BEGIN:VEVENT
DTSTART;TZID=America/Chicago:20240313T090000
DTEND;TZID=America/Chicago:20240314T090000
DTSTAMP:20260422T174852
CREATED:20230511T190633Z
LAST-MODIFIED:20230511T213547Z
UID:10000568-1710320400-1710406800@holyspiritmgm.org
SUMMARY:Eucharistic Adoration
DESCRIPTION:Begins 9am Wednesday until 8am Thursday
URL:https://holyspiritmgm.org/event/eucharistic-adoration/2024-03-13/
END:VEVENT
BEGIN:VEVENT
DTSTART;TZID=America/Chicago:20240313T173000
DTEND;TZID=America/Chicago:20240313T181500
DTSTAMP:20260422T174852
CREATED:20230511T213850Z
LAST-MODIFIED:20230511T214027Z
UID:10001092-1710351000-1710353700@holyspiritmgm.org
SUMMARY:Men of St. Joseph
DESCRIPTION:Meet in the Library
URL:https://holyspiritmgm.org/event/men-of-st-joseph/2024-03-13/
END:VEVENT
BEGIN:VEVENT
DTSTART;TZID=America/Chicago:20240313T173000
DTEND;TZID=America/Chicago:20240313T183000
DTSTAMP:20260422T174852
CREATED:20230511T213706Z
LAST-MODIFIED:20230511T213706Z
UID:10000830-1710351000-1710354600@holyspiritmgm.org
SUMMARY:Daughters of Mary
DESCRIPTION:
URL:https://holyspiritmgm.org/event/daughters-of-mary/2024-03-13/
END:VEVENT
BEGIN:VEVENT
DTSTART;TZID=America/Chicago:20240313T190000
DTEND;TZID=America/Chicago:20240313T203000
DTSTAMP:20260422T174852
CREATED:20230511T214255Z
LAST-MODIFIED:20230511T214255Z
UID:10001354-1710356400-1710361800@holyspiritmgm.org
SUMMARY:Adult Bible Study
DESCRIPTION:Meet in the Library
URL:https://holyspiritmgm.org/event/adult-bible-study/2024-03-13/
END:VEVENT
BEGIN:VEVENT
DTSTART;TZID=America/Chicago:20240313T190000
DTEND;TZID=America/Chicago:20240313T203000
DTSTAMP:20260422T174852
CREATED:20230511T214433Z
LAST-MODIFIED:20230511T214433Z
UID:10001616-1710356400-1710361800@holyspiritmgm.org
SUMMARY:Youth Group
DESCRIPTION:Meet in the Parish Hall
URL:https://holyspiritmgm.org/event/youth-group/2024-03-13/
END:VEVENT
BEGIN:VEVENT
DTSTART;TZID=America/Chicago:20240317T091500
DTEND;TZID=America/Chicago:20240317T104500
DTSTAMP:20260422T174852
CREATED:20230511T214810Z
LAST-MODIFIED:20230511T214810Z
UID:10001878-1710666900-1710672300@holyspiritmgm.org
SUMMARY:Adult Faith Formation Class
DESCRIPTION:Meet in the Parish Hall
URL:https://holyspiritmgm.org/event/adult-faith-formation-class/2024-03-17/
END:VEVENT
BEGIN:VEVENT
DTSTART;TZID=America/Chicago:20240317T091500
DTEND;TZID=America/Chicago:20240317T104500
DTSTAMP:20260422T174852
CREATED:20230511T215038Z
LAST-MODIFIED:20230511T215112Z
UID:10002139-1710666900-1710672300@holyspiritmgm.org
SUMMARY:Children Faith Formation
DESCRIPTION:Meet in the School
URL:https://holyspiritmgm.org/event/children-faith-formation/2024-03-17/
END:VEVENT
BEGIN:VEVENT
DTSTART;TZID=America/Chicago:20240319T090000
DTEND;TZID=America/Chicago:20240319T110000
DTSTAMP:20260422T174852
CREATED:20230511T185318Z
LAST-MODIFIED:20230511T185951Z
UID:10000045-1710838800-1710846000@holyspiritmgm.org
SUMMARY:Knitting and Crocheting Meeting
DESCRIPTION:Meet in the Library. \nQuestions\, Contact Peggy Comer 828-490-7976
URL:https://holyspiritmgm.org/event/knitting-and-crocheting-meeting/2024-03-19/
END:VEVENT
BEGIN:VEVENT
DTSTART;TZID=America/Chicago:20240319T190000
DTEND;TZID=America/Chicago:20240319T203000
DTSTAMP:20260422T174852
CREATED:20230511T190228Z
LAST-MODIFIED:20230511T190449Z
UID:10000307-1710874800-1710880200@holyspiritmgm.org
SUMMARY:Adult Choir Practice
DESCRIPTION:
URL:https://holyspiritmgm.org/event/adult-choir-practice/2024-03-19/
END:VEVENT
BEGIN:VEVENT
DTSTART;TZID=America/Chicago:20240320T090000
DTEND;TZID=America/Chicago:20240321T090000
DTSTAMP:20260422T174852
CREATED:20230511T190633Z
LAST-MODIFIED:20230511T213547Z
UID:10000569-1710925200-1711011600@holyspiritmgm.org
SUMMARY:Eucharistic Adoration
DESCRIPTION:Begins 9am Wednesday until 8am Thursday
URL:https://holyspiritmgm.org/event/eucharistic-adoration/2024-03-20/
END:VEVENT
BEGIN:VEVENT
DTSTART;TZID=America/Chicago:20240320T173000
DTEND;TZID=America/Chicago:20240320T181500
DTSTAMP:20260422T174852
CREATED:20230511T213850Z
LAST-MODIFIED:20230511T214027Z
UID:10001093-1710955800-1710958500@holyspiritmgm.org
SUMMARY:Men of St. Joseph
DESCRIPTION:Meet in the Library
URL:https://holyspiritmgm.org/event/men-of-st-joseph/2024-03-20/
END:VEVENT
BEGIN:VEVENT
DTSTART;TZID=America/Chicago:20240320T173000
DTEND;TZID=America/Chicago:20240320T183000
DTSTAMP:20260422T174852
CREATED:20230511T213706Z
LAST-MODIFIED:20230511T213706Z
UID:10000831-1710955800-1710959400@holyspiritmgm.org
SUMMARY:Daughters of Mary
DESCRIPTION:
URL:https://holyspiritmgm.org/event/daughters-of-mary/2024-03-20/
END:VEVENT
BEGIN:VEVENT
DTSTART;TZID=America/Chicago:20240320T190000
DTEND;TZID=America/Chicago:20240320T203000
DTSTAMP:20260422T174852
CREATED:20230511T214255Z
LAST-MODIFIED:20230511T214255Z
UID:10001355-1710961200-1710966600@holyspiritmgm.org
SUMMARY:Adult Bible Study
DESCRIPTION:Meet in the Library
URL:https://holyspiritmgm.org/event/adult-bible-study/2024-03-20/
END:VEVENT
BEGIN:VEVENT
DTSTART;TZID=America/Chicago:20240320T190000
DTEND;TZID=America/Chicago:20240320T203000
DTSTAMP:20260422T174852
CREATED:20230511T214433Z
LAST-MODIFIED:20230511T214433Z
UID:10001617-1710961200-1710966600@holyspiritmgm.org
SUMMARY:Youth Group
DESCRIPTION:Meet in the Parish Hall
URL:https://holyspiritmgm.org/event/youth-group/2024-03-20/
END:VEVENT
BEGIN:VEVENT
DTSTART;TZID=America/Chicago:20240324T091500
DTEND;TZID=America/Chicago:20240324T104500
DTSTAMP:20260422T174852
CREATED:20230511T214810Z
LAST-MODIFIED:20230511T214810Z
UID:10001879-1711271700-1711277100@holyspiritmgm.org
SUMMARY:Adult Faith Formation Class
DESCRIPTION:Meet in the Parish Hall
URL:https://holyspiritmgm.org/event/adult-faith-formation-class/2024-03-24/
END:VEVENT
BEGIN:VEVENT
DTSTART;TZID=America/Chicago:20240324T091500
DTEND;TZID=America/Chicago:20240324T104500
DTSTAMP:20260422T174852
CREATED:20230511T215038Z
LAST-MODIFIED:20230511T215112Z
UID:10002140-1711271700-1711277100@holyspiritmgm.org
SUMMARY:Children Faith Formation
DESCRIPTION:Meet in the School
URL:https://holyspiritmgm.org/event/children-faith-formation/2024-03-24/
END:VEVENT
END:VCALENDAR