BEGIN:VCALENDAR
VERSION:2.0
PRODID:-//Holy Spirit Catholic Church - ECPv6.15.20//NONSGML v1.0//EN
CALSCALE:GREGORIAN
METHOD:PUBLISH
X-ORIGINAL-URL:https://holyspiritmgm.org
X-WR-CALDESC:Events for Holy Spirit Catholic Church
REFRESH-INTERVAL;VALUE=DURATION:PT1H
X-Robots-Tag:noindex
X-PUBLISHED-TTL:PT1H
BEGIN:VTIMEZONE
TZID:America/Chicago
BEGIN:DAYLIGHT
TZOFFSETFROM:-0600
TZOFFSETTO:-0500
TZNAME:CDT
DTSTART:20230312T080000
END:DAYLIGHT
BEGIN:STANDARD
TZOFFSETFROM:-0500
TZOFFSETTO:-0600
TZNAME:CST
DTSTART:20231105T070000
END:STANDARD
BEGIN:DAYLIGHT
TZOFFSETFROM:-0600
TZOFFSETTO:-0500
TZNAME:CDT
DTSTART:20240310T080000
END:DAYLIGHT
BEGIN:STANDARD
TZOFFSETFROM:-0500
TZOFFSETTO:-0600
TZNAME:CST
DTSTART:20241103T070000
END:STANDARD
BEGIN:DAYLIGHT
TZOFFSETFROM:-0600
TZOFFSETTO:-0500
TZNAME:CDT
DTSTART:20250309T080000
END:DAYLIGHT
BEGIN:STANDARD
TZOFFSETFROM:-0500
TZOFFSETTO:-0600
TZNAME:CST
DTSTART:20251102T070000
END:STANDARD
END:VTIMEZONE
BEGIN:VEVENT
DTSTART;TZID=America/Chicago:20240317T091500
DTEND;TZID=America/Chicago:20240317T104500
DTSTAMP:20260422T175518
CREATED:20230511T214810Z
LAST-MODIFIED:20230511T214810Z
UID:10001878-1710666900-1710672300@holyspiritmgm.org
SUMMARY:Adult Faith Formation Class
DESCRIPTION:Meet in the Parish Hall
URL:https://holyspiritmgm.org/event/adult-faith-formation-class/2024-03-17/
END:VEVENT
BEGIN:VEVENT
DTSTART;TZID=America/Chicago:20240317T091500
DTEND;TZID=America/Chicago:20240317T104500
DTSTAMP:20260422T175518
CREATED:20230511T215038Z
LAST-MODIFIED:20230511T215112Z
UID:10002139-1710666900-1710672300@holyspiritmgm.org
SUMMARY:Children Faith Formation
DESCRIPTION:Meet in the School
URL:https://holyspiritmgm.org/event/children-faith-formation/2024-03-17/
END:VEVENT
BEGIN:VEVENT
DTSTART;TZID=America/Chicago:20240319T090000
DTEND;TZID=America/Chicago:20240319T110000
DTSTAMP:20260422T175518
CREATED:20230511T185318Z
LAST-MODIFIED:20230511T185951Z
UID:10000045-1710838800-1710846000@holyspiritmgm.org
SUMMARY:Knitting and Crocheting Meeting
DESCRIPTION:Meet in the Library. \nQuestions\, Contact Peggy Comer 828-490-7976
URL:https://holyspiritmgm.org/event/knitting-and-crocheting-meeting/2024-03-19/
END:VEVENT
BEGIN:VEVENT
DTSTART;TZID=America/Chicago:20240319T190000
DTEND;TZID=America/Chicago:20240319T203000
DTSTAMP:20260422T175518
CREATED:20230511T190228Z
LAST-MODIFIED:20230511T190449Z
UID:10000307-1710874800-1710880200@holyspiritmgm.org
SUMMARY:Adult Choir Practice
DESCRIPTION:
URL:https://holyspiritmgm.org/event/adult-choir-practice/2024-03-19/
END:VEVENT
BEGIN:VEVENT
DTSTART;TZID=America/Chicago:20240320T090000
DTEND;TZID=America/Chicago:20240321T090000
DTSTAMP:20260422T175518
CREATED:20230511T190633Z
LAST-MODIFIED:20230511T213547Z
UID:10000569-1710925200-1711011600@holyspiritmgm.org
SUMMARY:Eucharistic Adoration
DESCRIPTION:Begins 9am Wednesday until 8am Thursday
URL:https://holyspiritmgm.org/event/eucharistic-adoration/2024-03-20/
END:VEVENT
BEGIN:VEVENT
DTSTART;TZID=America/Chicago:20240320T173000
DTEND;TZID=America/Chicago:20240320T181500
DTSTAMP:20260422T175518
CREATED:20230511T213850Z
LAST-MODIFIED:20230511T214027Z
UID:10001093-1710955800-1710958500@holyspiritmgm.org
SUMMARY:Men of St. Joseph
DESCRIPTION:Meet in the Library
URL:https://holyspiritmgm.org/event/men-of-st-joseph/2024-03-20/
END:VEVENT
BEGIN:VEVENT
DTSTART;TZID=America/Chicago:20240320T173000
DTEND;TZID=America/Chicago:20240320T183000
DTSTAMP:20260422T175518
CREATED:20230511T213706Z
LAST-MODIFIED:20230511T213706Z
UID:10000831-1710955800-1710959400@holyspiritmgm.org
SUMMARY:Daughters of Mary
DESCRIPTION:
URL:https://holyspiritmgm.org/event/daughters-of-mary/2024-03-20/
END:VEVENT
BEGIN:VEVENT
DTSTART;TZID=America/Chicago:20240320T190000
DTEND;TZID=America/Chicago:20240320T203000
DTSTAMP:20260422T175519
CREATED:20230511T214255Z
LAST-MODIFIED:20230511T214255Z
UID:10001355-1710961200-1710966600@holyspiritmgm.org
SUMMARY:Adult Bible Study
DESCRIPTION:Meet in the Library
URL:https://holyspiritmgm.org/event/adult-bible-study/2024-03-20/
END:VEVENT
BEGIN:VEVENT
DTSTART;TZID=America/Chicago:20240320T190000
DTEND;TZID=America/Chicago:20240320T203000
DTSTAMP:20260422T175519
CREATED:20230511T214433Z
LAST-MODIFIED:20230511T214433Z
UID:10001617-1710961200-1710966600@holyspiritmgm.org
SUMMARY:Youth Group
DESCRIPTION:Meet in the Parish Hall
URL:https://holyspiritmgm.org/event/youth-group/2024-03-20/
END:VEVENT
BEGIN:VEVENT
DTSTART;TZID=America/Chicago:20240324T091500
DTEND;TZID=America/Chicago:20240324T104500
DTSTAMP:20260422T175519
CREATED:20230511T214810Z
LAST-MODIFIED:20230511T214810Z
UID:10001879-1711271700-1711277100@holyspiritmgm.org
SUMMARY:Adult Faith Formation Class
DESCRIPTION:Meet in the Parish Hall
URL:https://holyspiritmgm.org/event/adult-faith-formation-class/2024-03-24/
END:VEVENT
BEGIN:VEVENT
DTSTART;TZID=America/Chicago:20240324T091500
DTEND;TZID=America/Chicago:20240324T104500
DTSTAMP:20260422T175519
CREATED:20230511T215038Z
LAST-MODIFIED:20230511T215112Z
UID:10002140-1711271700-1711277100@holyspiritmgm.org
SUMMARY:Children Faith Formation
DESCRIPTION:Meet in the School
URL:https://holyspiritmgm.org/event/children-faith-formation/2024-03-24/
END:VEVENT
BEGIN:VEVENT
DTSTART;TZID=America/Chicago:20240326T090000
DTEND;TZID=America/Chicago:20240326T110000
DTSTAMP:20260422T175519
CREATED:20230511T185318Z
LAST-MODIFIED:20230511T185951Z
UID:10000046-1711443600-1711450800@holyspiritmgm.org
SUMMARY:Knitting and Crocheting Meeting
DESCRIPTION:Meet in the Library. \nQuestions\, Contact Peggy Comer 828-490-7976
URL:https://holyspiritmgm.org/event/knitting-and-crocheting-meeting/2024-03-26/
END:VEVENT
BEGIN:VEVENT
DTSTART;TZID=America/Chicago:20240326T190000
DTEND;TZID=America/Chicago:20240326T203000
DTSTAMP:20260422T175519
CREATED:20230511T190228Z
LAST-MODIFIED:20230511T190449Z
UID:10000308-1711479600-1711485000@holyspiritmgm.org
SUMMARY:Adult Choir Practice
DESCRIPTION:
URL:https://holyspiritmgm.org/event/adult-choir-practice/2024-03-26/
END:VEVENT
BEGIN:VEVENT
DTSTART;TZID=America/Chicago:20240327T090000
DTEND;TZID=America/Chicago:20240328T090000
DTSTAMP:20260422T175519
CREATED:20230511T190633Z
LAST-MODIFIED:20230511T213547Z
UID:10000570-1711530000-1711616400@holyspiritmgm.org
SUMMARY:Eucharistic Adoration
DESCRIPTION:Begins 9am Wednesday until 8am Thursday
URL:https://holyspiritmgm.org/event/eucharistic-adoration/2024-03-27/
END:VEVENT
BEGIN:VEVENT
DTSTART;TZID=America/Chicago:20240327T173000
DTEND;TZID=America/Chicago:20240327T181500
DTSTAMP:20260422T175519
CREATED:20230511T213850Z
LAST-MODIFIED:20230511T214027Z
UID:10001094-1711560600-1711563300@holyspiritmgm.org
SUMMARY:Men of St. Joseph
DESCRIPTION:Meet in the Library
URL:https://holyspiritmgm.org/event/men-of-st-joseph/2024-03-27/
END:VEVENT
BEGIN:VEVENT
DTSTART;TZID=America/Chicago:20240327T173000
DTEND;TZID=America/Chicago:20240327T183000
DTSTAMP:20260422T175519
CREATED:20230511T213706Z
LAST-MODIFIED:20230511T213706Z
UID:10000832-1711560600-1711564200@holyspiritmgm.org
SUMMARY:Daughters of Mary
DESCRIPTION:
URL:https://holyspiritmgm.org/event/daughters-of-mary/2024-03-27/
END:VEVENT
BEGIN:VEVENT
DTSTART;TZID=America/Chicago:20240327T190000
DTEND;TZID=America/Chicago:20240327T203000
DTSTAMP:20260422T175519
CREATED:20230511T214255Z
LAST-MODIFIED:20230511T214255Z
UID:10001356-1711566000-1711571400@holyspiritmgm.org
SUMMARY:Adult Bible Study
DESCRIPTION:Meet in the Library
URL:https://holyspiritmgm.org/event/adult-bible-study/2024-03-27/
END:VEVENT
BEGIN:VEVENT
DTSTART;TZID=America/Chicago:20240327T190000
DTEND;TZID=America/Chicago:20240327T203000
DTSTAMP:20260422T175519
CREATED:20230511T214433Z
LAST-MODIFIED:20230511T214433Z
UID:10001618-1711566000-1711571400@holyspiritmgm.org
SUMMARY:Youth Group
DESCRIPTION:Meet in the Parish Hall
URL:https://holyspiritmgm.org/event/youth-group/2024-03-27/
END:VEVENT
BEGIN:VEVENT
DTSTART;TZID=America/Chicago:20240331T091500
DTEND;TZID=America/Chicago:20240331T104500
DTSTAMP:20260422T175519
CREATED:20230511T214810Z
LAST-MODIFIED:20230511T214810Z
UID:10001880-1711876500-1711881900@holyspiritmgm.org
SUMMARY:Adult Faith Formation Class
DESCRIPTION:Meet in the Parish Hall
URL:https://holyspiritmgm.org/event/adult-faith-formation-class/2024-03-31/
END:VEVENT
BEGIN:VEVENT
DTSTART;TZID=America/Chicago:20240331T091500
DTEND;TZID=America/Chicago:20240331T104500
DTSTAMP:20260422T175519
CREATED:20230511T215038Z
LAST-MODIFIED:20230511T215112Z
UID:10002141-1711876500-1711881900@holyspiritmgm.org
SUMMARY:Children Faith Formation
DESCRIPTION:Meet in the School
URL:https://holyspiritmgm.org/event/children-faith-formation/2024-03-31/
END:VEVENT
BEGIN:VEVENT
DTSTART;TZID=America/Chicago:20240402T090000
DTEND;TZID=America/Chicago:20240402T110000
DTSTAMP:20260422T175519
CREATED:20230511T185318Z
LAST-MODIFIED:20230511T185951Z
UID:10000047-1712048400-1712055600@holyspiritmgm.org
SUMMARY:Knitting and Crocheting Meeting
DESCRIPTION:Meet in the Library. \nQuestions\, Contact Peggy Comer 828-490-7976
URL:https://holyspiritmgm.org/event/knitting-and-crocheting-meeting/2024-04-02/
END:VEVENT
BEGIN:VEVENT
DTSTART;TZID=America/Chicago:20240402T190000
DTEND;TZID=America/Chicago:20240402T203000
DTSTAMP:20260422T175519
CREATED:20230511T190228Z
LAST-MODIFIED:20230511T190449Z
UID:10000309-1712084400-1712089800@holyspiritmgm.org
SUMMARY:Adult Choir Practice
DESCRIPTION:
URL:https://holyspiritmgm.org/event/adult-choir-practice/2024-04-02/
END:VEVENT
BEGIN:VEVENT
DTSTART;TZID=America/Chicago:20240403T090000
DTEND;TZID=America/Chicago:20240404T090000
DTSTAMP:20260422T175519
CREATED:20230511T190633Z
LAST-MODIFIED:20230511T213547Z
UID:10000571-1712134800-1712221200@holyspiritmgm.org
SUMMARY:Eucharistic Adoration
DESCRIPTION:Begins 9am Wednesday until 8am Thursday
URL:https://holyspiritmgm.org/event/eucharistic-adoration/2024-04-03/
END:VEVENT
BEGIN:VEVENT
DTSTART;TZID=America/Chicago:20240403T173000
DTEND;TZID=America/Chicago:20240403T181500
DTSTAMP:20260422T175519
CREATED:20230511T213850Z
LAST-MODIFIED:20230511T214027Z
UID:10001095-1712165400-1712168100@holyspiritmgm.org
SUMMARY:Men of St. Joseph
DESCRIPTION:Meet in the Library
URL:https://holyspiritmgm.org/event/men-of-st-joseph/2024-04-03/
END:VEVENT
BEGIN:VEVENT
DTSTART;TZID=America/Chicago:20240403T173000
DTEND;TZID=America/Chicago:20240403T183000
DTSTAMP:20260422T175519
CREATED:20230511T213706Z
LAST-MODIFIED:20230511T213706Z
UID:10000833-1712165400-1712169000@holyspiritmgm.org
SUMMARY:Daughters of Mary
DESCRIPTION:
URL:https://holyspiritmgm.org/event/daughters-of-mary/2024-04-03/
END:VEVENT
BEGIN:VEVENT
DTSTART;TZID=America/Chicago:20240403T190000
DTEND;TZID=America/Chicago:20240403T203000
DTSTAMP:20260422T175519
CREATED:20230511T214255Z
LAST-MODIFIED:20230511T214255Z
UID:10001357-1712170800-1712176200@holyspiritmgm.org
SUMMARY:Adult Bible Study
DESCRIPTION:Meet in the Library
URL:https://holyspiritmgm.org/event/adult-bible-study/2024-04-03/
END:VEVENT
BEGIN:VEVENT
DTSTART;TZID=America/Chicago:20240403T190000
DTEND;TZID=America/Chicago:20240403T203000
DTSTAMP:20260422T175519
CREATED:20230511T214433Z
LAST-MODIFIED:20230511T214433Z
UID:10001619-1712170800-1712176200@holyspiritmgm.org
SUMMARY:Youth Group
DESCRIPTION:Meet in the Parish Hall
URL:https://holyspiritmgm.org/event/youth-group/2024-04-03/
END:VEVENT
BEGIN:VEVENT
DTSTART;TZID=America/Chicago:20240407T091500
DTEND;TZID=America/Chicago:20240407T104500
DTSTAMP:20260422T175519
CREATED:20230511T214810Z
LAST-MODIFIED:20230511T214810Z
UID:10001881-1712481300-1712486700@holyspiritmgm.org
SUMMARY:Adult Faith Formation Class
DESCRIPTION:Meet in the Parish Hall
URL:https://holyspiritmgm.org/event/adult-faith-formation-class/2024-04-07/
END:VEVENT
BEGIN:VEVENT
DTSTART;TZID=America/Chicago:20240407T091500
DTEND;TZID=America/Chicago:20240407T104500
DTSTAMP:20260422T175519
CREATED:20230511T215038Z
LAST-MODIFIED:20230511T215112Z
UID:10002142-1712481300-1712486700@holyspiritmgm.org
SUMMARY:Children Faith Formation
DESCRIPTION:Meet in the School
URL:https://holyspiritmgm.org/event/children-faith-formation/2024-04-07/
END:VEVENT
BEGIN:VEVENT
DTSTART;TZID=America/Chicago:20240409T090000
DTEND;TZID=America/Chicago:20240409T110000
DTSTAMP:20260422T175519
CREATED:20230511T185318Z
LAST-MODIFIED:20230511T185951Z
UID:10000048-1712653200-1712660400@holyspiritmgm.org
SUMMARY:Knitting and Crocheting Meeting
DESCRIPTION:Meet in the Library. \nQuestions\, Contact Peggy Comer 828-490-7976
URL:https://holyspiritmgm.org/event/knitting-and-crocheting-meeting/2024-04-09/
END:VEVENT
END:VCALENDAR