BEGIN:VCALENDAR
VERSION:2.0
PRODID:-//Holy Spirit Catholic Church - ECPv6.15.20//NONSGML v1.0//EN
CALSCALE:GREGORIAN
METHOD:PUBLISH
X-ORIGINAL-URL:https://holyspiritmgm.org
X-WR-CALDESC:Events for Holy Spirit Catholic Church
REFRESH-INTERVAL;VALUE=DURATION:PT1H
X-Robots-Tag:noindex
X-PUBLISHED-TTL:PT1H
BEGIN:VTIMEZONE
TZID:America/Chicago
BEGIN:DAYLIGHT
TZOFFSETFROM:-0600
TZOFFSETTO:-0500
TZNAME:CDT
DTSTART:20230312T080000
END:DAYLIGHT
BEGIN:STANDARD
TZOFFSETFROM:-0500
TZOFFSETTO:-0600
TZNAME:CST
DTSTART:20231105T070000
END:STANDARD
BEGIN:DAYLIGHT
TZOFFSETFROM:-0600
TZOFFSETTO:-0500
TZNAME:CDT
DTSTART:20240310T080000
END:DAYLIGHT
BEGIN:STANDARD
TZOFFSETFROM:-0500
TZOFFSETTO:-0600
TZNAME:CST
DTSTART:20241103T070000
END:STANDARD
BEGIN:DAYLIGHT
TZOFFSETFROM:-0600
TZOFFSETTO:-0500
TZNAME:CDT
DTSTART:20250309T080000
END:DAYLIGHT
BEGIN:STANDARD
TZOFFSETFROM:-0500
TZOFFSETTO:-0600
TZNAME:CST
DTSTART:20251102T070000
END:STANDARD
END:VTIMEZONE
BEGIN:VEVENT
DTSTART;TZID=America/Chicago:20240403T090000
DTEND;TZID=America/Chicago:20240404T090000
DTSTAMP:20260422T164822
CREATED:20230511T190633Z
LAST-MODIFIED:20230511T213547Z
UID:10000571-1712134800-1712221200@holyspiritmgm.org
SUMMARY:Eucharistic Adoration
DESCRIPTION:Begins 9am Wednesday until 8am Thursday
URL:https://holyspiritmgm.org/event/eucharistic-adoration/2024-04-03/
END:VEVENT
BEGIN:VEVENT
DTSTART;TZID=America/Chicago:20240407T091500
DTEND;TZID=America/Chicago:20240407T104500
DTSTAMP:20260422T164822
CREATED:20230511T214810Z
LAST-MODIFIED:20230511T214810Z
UID:10001881-1712481300-1712486700@holyspiritmgm.org
SUMMARY:Adult Faith Formation Class
DESCRIPTION:Meet in the Parish Hall
URL:https://holyspiritmgm.org/event/adult-faith-formation-class/2024-04-07/
END:VEVENT
BEGIN:VEVENT
DTSTART;TZID=America/Chicago:20240407T091500
DTEND;TZID=America/Chicago:20240407T104500
DTSTAMP:20260422T164822
CREATED:20230511T215038Z
LAST-MODIFIED:20230511T215112Z
UID:10002142-1712481300-1712486700@holyspiritmgm.org
SUMMARY:Children Faith Formation
DESCRIPTION:Meet in the School
URL:https://holyspiritmgm.org/event/children-faith-formation/2024-04-07/
END:VEVENT
BEGIN:VEVENT
DTSTART;TZID=America/Chicago:20240409T090000
DTEND;TZID=America/Chicago:20240409T110000
DTSTAMP:20260422T164822
CREATED:20230511T185318Z
LAST-MODIFIED:20230511T185951Z
UID:10000048-1712653200-1712660400@holyspiritmgm.org
SUMMARY:Knitting and Crocheting Meeting
DESCRIPTION:Meet in the Library. \nQuestions\, Contact Peggy Comer 828-490-7976
URL:https://holyspiritmgm.org/event/knitting-and-crocheting-meeting/2024-04-09/
END:VEVENT
BEGIN:VEVENT
DTSTART;TZID=America/Chicago:20240409T190000
DTEND;TZID=America/Chicago:20240409T203000
DTSTAMP:20260422T164822
CREATED:20230511T190228Z
LAST-MODIFIED:20230511T190449Z
UID:10000310-1712689200-1712694600@holyspiritmgm.org
SUMMARY:Adult Choir Practice
DESCRIPTION:
URL:https://holyspiritmgm.org/event/adult-choir-practice/2024-04-09/
END:VEVENT
BEGIN:VEVENT
DTSTART;TZID=America/Chicago:20240410T090000
DTEND;TZID=America/Chicago:20240411T090000
DTSTAMP:20260422T164822
CREATED:20230511T190633Z
LAST-MODIFIED:20230511T213547Z
UID:10000572-1712739600-1712826000@holyspiritmgm.org
SUMMARY:Eucharistic Adoration
DESCRIPTION:Begins 9am Wednesday until 8am Thursday
URL:https://holyspiritmgm.org/event/eucharistic-adoration/2024-04-10/
END:VEVENT
BEGIN:VEVENT
DTSTART;TZID=America/Chicago:20240410T173000
DTEND;TZID=America/Chicago:20240410T181500
DTSTAMP:20260422T164822
CREATED:20230511T213850Z
LAST-MODIFIED:20230511T214027Z
UID:10001096-1712770200-1712772900@holyspiritmgm.org
SUMMARY:Men of St. Joseph
DESCRIPTION:Meet in the Library
URL:https://holyspiritmgm.org/event/men-of-st-joseph/2024-04-10/
END:VEVENT
BEGIN:VEVENT
DTSTART;TZID=America/Chicago:20240410T173000
DTEND;TZID=America/Chicago:20240410T183000
DTSTAMP:20260422T164822
CREATED:20230511T213706Z
LAST-MODIFIED:20230511T213706Z
UID:10000834-1712770200-1712773800@holyspiritmgm.org
SUMMARY:Daughters of Mary
DESCRIPTION:
URL:https://holyspiritmgm.org/event/daughters-of-mary/2024-04-10/
END:VEVENT
BEGIN:VEVENT
DTSTART;TZID=America/Chicago:20240410T190000
DTEND;TZID=America/Chicago:20240410T203000
DTSTAMP:20260422T164822
CREATED:20230511T214255Z
LAST-MODIFIED:20230511T214255Z
UID:10001358-1712775600-1712781000@holyspiritmgm.org
SUMMARY:Adult Bible Study
DESCRIPTION:Meet in the Library
URL:https://holyspiritmgm.org/event/adult-bible-study/2024-04-10/
END:VEVENT
BEGIN:VEVENT
DTSTART;TZID=America/Chicago:20240410T190000
DTEND;TZID=America/Chicago:20240410T203000
DTSTAMP:20260422T164822
CREATED:20230511T214433Z
LAST-MODIFIED:20230511T214433Z
UID:10001620-1712775600-1712781000@holyspiritmgm.org
SUMMARY:Youth Group
DESCRIPTION:Meet in the Parish Hall
URL:https://holyspiritmgm.org/event/youth-group/2024-04-10/
END:VEVENT
BEGIN:VEVENT
DTSTART;TZID=America/Chicago:20240414T091500
DTEND;TZID=America/Chicago:20240414T104500
DTSTAMP:20260422T164822
CREATED:20230511T214810Z
LAST-MODIFIED:20230511T214810Z
UID:10001882-1713086100-1713091500@holyspiritmgm.org
SUMMARY:Adult Faith Formation Class
DESCRIPTION:Meet in the Parish Hall
URL:https://holyspiritmgm.org/event/adult-faith-formation-class/2024-04-14/
END:VEVENT
BEGIN:VEVENT
DTSTART;TZID=America/Chicago:20240414T091500
DTEND;TZID=America/Chicago:20240414T104500
DTSTAMP:20260422T164822
CREATED:20230511T215038Z
LAST-MODIFIED:20230511T215112Z
UID:10002143-1713086100-1713091500@holyspiritmgm.org
SUMMARY:Children Faith Formation
DESCRIPTION:Meet in the School
URL:https://holyspiritmgm.org/event/children-faith-formation/2024-04-14/
END:VEVENT
BEGIN:VEVENT
DTSTART;TZID=America/Chicago:20240416T090000
DTEND;TZID=America/Chicago:20240416T110000
DTSTAMP:20260422T164822
CREATED:20230511T185318Z
LAST-MODIFIED:20230511T185951Z
UID:10000049-1713258000-1713265200@holyspiritmgm.org
SUMMARY:Knitting and Crocheting Meeting
DESCRIPTION:Meet in the Library. \nQuestions\, Contact Peggy Comer 828-490-7976
URL:https://holyspiritmgm.org/event/knitting-and-crocheting-meeting/2024-04-16/
END:VEVENT
BEGIN:VEVENT
DTSTART;TZID=America/Chicago:20240416T190000
DTEND;TZID=America/Chicago:20240416T203000
DTSTAMP:20260422T164822
CREATED:20230511T190228Z
LAST-MODIFIED:20230511T190449Z
UID:10000311-1713294000-1713299400@holyspiritmgm.org
SUMMARY:Adult Choir Practice
DESCRIPTION:
URL:https://holyspiritmgm.org/event/adult-choir-practice/2024-04-16/
END:VEVENT
BEGIN:VEVENT
DTSTART;TZID=America/Chicago:20240417T090000
DTEND;TZID=America/Chicago:20240418T090000
DTSTAMP:20260422T164822
CREATED:20230511T190633Z
LAST-MODIFIED:20230511T213547Z
UID:10000573-1713344400-1713430800@holyspiritmgm.org
SUMMARY:Eucharistic Adoration
DESCRIPTION:Begins 9am Wednesday until 8am Thursday
URL:https://holyspiritmgm.org/event/eucharistic-adoration/2024-04-17/
END:VEVENT
BEGIN:VEVENT
DTSTART;TZID=America/Chicago:20240417T173000
DTEND;TZID=America/Chicago:20240417T181500
DTSTAMP:20260422T164822
CREATED:20230511T213850Z
LAST-MODIFIED:20230511T214027Z
UID:10001097-1713375000-1713377700@holyspiritmgm.org
SUMMARY:Men of St. Joseph
DESCRIPTION:Meet in the Library
URL:https://holyspiritmgm.org/event/men-of-st-joseph/2024-04-17/
END:VEVENT
BEGIN:VEVENT
DTSTART;TZID=America/Chicago:20240417T173000
DTEND;TZID=America/Chicago:20240417T183000
DTSTAMP:20260422T164822
CREATED:20230511T213706Z
LAST-MODIFIED:20230511T213706Z
UID:10000835-1713375000-1713378600@holyspiritmgm.org
SUMMARY:Daughters of Mary
DESCRIPTION:
URL:https://holyspiritmgm.org/event/daughters-of-mary/2024-04-17/
END:VEVENT
BEGIN:VEVENT
DTSTART;TZID=America/Chicago:20240417T190000
DTEND;TZID=America/Chicago:20240417T203000
DTSTAMP:20260422T164822
CREATED:20230511T214255Z
LAST-MODIFIED:20230511T214255Z
UID:10001359-1713380400-1713385800@holyspiritmgm.org
SUMMARY:Adult Bible Study
DESCRIPTION:Meet in the Library
URL:https://holyspiritmgm.org/event/adult-bible-study/2024-04-17/
END:VEVENT
BEGIN:VEVENT
DTSTART;TZID=America/Chicago:20240417T190000
DTEND;TZID=America/Chicago:20240417T203000
DTSTAMP:20260422T164822
CREATED:20230511T214433Z
LAST-MODIFIED:20230511T214433Z
UID:10001621-1713380400-1713385800@holyspiritmgm.org
SUMMARY:Youth Group
DESCRIPTION:Meet in the Parish Hall
URL:https://holyspiritmgm.org/event/youth-group/2024-04-17/
END:VEVENT
BEGIN:VEVENT
DTSTART;TZID=America/Chicago:20240421T091500
DTEND;TZID=America/Chicago:20240421T104500
DTSTAMP:20260422T164822
CREATED:20230511T214810Z
LAST-MODIFIED:20230511T214810Z
UID:10001883-1713690900-1713696300@holyspiritmgm.org
SUMMARY:Adult Faith Formation Class
DESCRIPTION:Meet in the Parish Hall
URL:https://holyspiritmgm.org/event/adult-faith-formation-class/2024-04-21/
END:VEVENT
BEGIN:VEVENT
DTSTART;TZID=America/Chicago:20240421T091500
DTEND;TZID=America/Chicago:20240421T104500
DTSTAMP:20260422T164822
CREATED:20230511T215038Z
LAST-MODIFIED:20230511T215112Z
UID:10002144-1713690900-1713696300@holyspiritmgm.org
SUMMARY:Children Faith Formation
DESCRIPTION:Meet in the School
URL:https://holyspiritmgm.org/event/children-faith-formation/2024-04-21/
END:VEVENT
BEGIN:VEVENT
DTSTART;TZID=America/Chicago:20240423T090000
DTEND;TZID=America/Chicago:20240423T110000
DTSTAMP:20260422T164822
CREATED:20230511T185318Z
LAST-MODIFIED:20230511T185951Z
UID:10000050-1713862800-1713870000@holyspiritmgm.org
SUMMARY:Knitting and Crocheting Meeting
DESCRIPTION:Meet in the Library. \nQuestions\, Contact Peggy Comer 828-490-7976
URL:https://holyspiritmgm.org/event/knitting-and-crocheting-meeting/2024-04-23/
END:VEVENT
BEGIN:VEVENT
DTSTART;TZID=America/Chicago:20240423T190000
DTEND;TZID=America/Chicago:20240423T203000
DTSTAMP:20260422T164822
CREATED:20230511T190228Z
LAST-MODIFIED:20230511T190449Z
UID:10000312-1713898800-1713904200@holyspiritmgm.org
SUMMARY:Adult Choir Practice
DESCRIPTION:
URL:https://holyspiritmgm.org/event/adult-choir-practice/2024-04-23/
END:VEVENT
BEGIN:VEVENT
DTSTART;TZID=America/Chicago:20240424T090000
DTEND;TZID=America/Chicago:20240425T090000
DTSTAMP:20260422T164822
CREATED:20230511T190633Z
LAST-MODIFIED:20230511T213547Z
UID:10000574-1713949200-1714035600@holyspiritmgm.org
SUMMARY:Eucharistic Adoration
DESCRIPTION:Begins 9am Wednesday until 8am Thursday
URL:https://holyspiritmgm.org/event/eucharistic-adoration/2024-04-24/
END:VEVENT
BEGIN:VEVENT
DTSTART;TZID=America/Chicago:20240424T173000
DTEND;TZID=America/Chicago:20240424T181500
DTSTAMP:20260422T164822
CREATED:20230511T213850Z
LAST-MODIFIED:20230511T214027Z
UID:10001098-1713979800-1713982500@holyspiritmgm.org
SUMMARY:Men of St. Joseph
DESCRIPTION:Meet in the Library
URL:https://holyspiritmgm.org/event/men-of-st-joseph/2024-04-24/
END:VEVENT
BEGIN:VEVENT
DTSTART;TZID=America/Chicago:20240424T173000
DTEND;TZID=America/Chicago:20240424T183000
DTSTAMP:20260422T164822
CREATED:20230511T213706Z
LAST-MODIFIED:20230511T213706Z
UID:10000836-1713979800-1713983400@holyspiritmgm.org
SUMMARY:Daughters of Mary
DESCRIPTION:
URL:https://holyspiritmgm.org/event/daughters-of-mary/2024-04-24/
END:VEVENT
BEGIN:VEVENT
DTSTART;TZID=America/Chicago:20240424T190000
DTEND;TZID=America/Chicago:20240424T203000
DTSTAMP:20260422T164822
CREATED:20230511T214255Z
LAST-MODIFIED:20230511T214255Z
UID:10001360-1713985200-1713990600@holyspiritmgm.org
SUMMARY:Adult Bible Study
DESCRIPTION:Meet in the Library
URL:https://holyspiritmgm.org/event/adult-bible-study/2024-04-24/
END:VEVENT
BEGIN:VEVENT
DTSTART;TZID=America/Chicago:20240424T190000
DTEND;TZID=America/Chicago:20240424T203000
DTSTAMP:20260422T164822
CREATED:20230511T214433Z
LAST-MODIFIED:20230511T214433Z
UID:10001622-1713985200-1713990600@holyspiritmgm.org
SUMMARY:Youth Group
DESCRIPTION:Meet in the Parish Hall
URL:https://holyspiritmgm.org/event/youth-group/2024-04-24/
END:VEVENT
BEGIN:VEVENT
DTSTART;TZID=America/Chicago:20240428T091500
DTEND;TZID=America/Chicago:20240428T104500
DTSTAMP:20260422T164822
CREATED:20230511T214810Z
LAST-MODIFIED:20230511T214810Z
UID:10001884-1714295700-1714301100@holyspiritmgm.org
SUMMARY:Adult Faith Formation Class
DESCRIPTION:Meet in the Parish Hall
URL:https://holyspiritmgm.org/event/adult-faith-formation-class/2024-04-28/
END:VEVENT
BEGIN:VEVENT
DTSTART;TZID=America/Chicago:20240428T091500
DTEND;TZID=America/Chicago:20240428T104500
DTSTAMP:20260422T164822
CREATED:20230511T215038Z
LAST-MODIFIED:20230511T215112Z
UID:10002145-1714295700-1714301100@holyspiritmgm.org
SUMMARY:Children Faith Formation
DESCRIPTION:Meet in the School
URL:https://holyspiritmgm.org/event/children-faith-formation/2024-04-28/
END:VEVENT
END:VCALENDAR