BEGIN:VCALENDAR
VERSION:2.0
PRODID:-//Holy Spirit Catholic Church - ECPv6.15.20//NONSGML v1.0//EN
CALSCALE:GREGORIAN
METHOD:PUBLISH
X-ORIGINAL-URL:https://holyspiritmgm.org
X-WR-CALDESC:Events for Holy Spirit Catholic Church
REFRESH-INTERVAL;VALUE=DURATION:PT1H
X-Robots-Tag:noindex
X-PUBLISHED-TTL:PT1H
BEGIN:VTIMEZONE
TZID:America/Chicago
BEGIN:DAYLIGHT
TZOFFSETFROM:-0600
TZOFFSETTO:-0500
TZNAME:CDT
DTSTART:20240310T080000
END:DAYLIGHT
BEGIN:STANDARD
TZOFFSETFROM:-0500
TZOFFSETTO:-0600
TZNAME:CST
DTSTART:20241103T070000
END:STANDARD
BEGIN:DAYLIGHT
TZOFFSETFROM:-0600
TZOFFSETTO:-0500
TZNAME:CDT
DTSTART:20250309T080000
END:DAYLIGHT
BEGIN:STANDARD
TZOFFSETFROM:-0500
TZOFFSETTO:-0600
TZNAME:CST
DTSTART:20251102T070000
END:STANDARD
BEGIN:DAYLIGHT
TZOFFSETFROM:-0600
TZOFFSETTO:-0500
TZNAME:CDT
DTSTART:20260308T080000
END:DAYLIGHT
BEGIN:STANDARD
TZOFFSETFROM:-0500
TZOFFSETTO:-0600
TZNAME:CST
DTSTART:20261101T070000
END:STANDARD
END:VTIMEZONE
BEGIN:VEVENT
DTSTART;TZID=America/Chicago:20250401T090000
DTEND;TZID=America/Chicago:20250401T110000
DTSTAMP:20260420T050706
CREATED:20230511T185318Z
LAST-MODIFIED:20230511T185951Z
UID:10000099-1743498000-1743505200@holyspiritmgm.org
SUMMARY:Knitting and Crocheting Meeting
DESCRIPTION:Meet in the Library. \nQuestions\, Contact Peggy Comer 828-490-7976
URL:https://holyspiritmgm.org/event/knitting-and-crocheting-meeting/2025-04-01/
END:VEVENT
BEGIN:VEVENT
DTSTART;TZID=America/Chicago:20250401T190000
DTEND;TZID=America/Chicago:20250401T203000
DTSTAMP:20260420T050706
CREATED:20230511T190228Z
LAST-MODIFIED:20230511T190449Z
UID:10000361-1743534000-1743539400@holyspiritmgm.org
SUMMARY:Adult Choir Practice
DESCRIPTION:
URL:https://holyspiritmgm.org/event/adult-choir-practice/2025-04-01/
END:VEVENT
BEGIN:VEVENT
DTSTART;TZID=America/Chicago:20250402T090000
DTEND;TZID=America/Chicago:20250403T090000
DTSTAMP:20260420T050706
CREATED:20230511T190633Z
LAST-MODIFIED:20230511T213547Z
UID:10000623-1743584400-1743670800@holyspiritmgm.org
SUMMARY:Eucharistic Adoration
DESCRIPTION:Begins 9am Wednesday until 8am Thursday
URL:https://holyspiritmgm.org/event/eucharistic-adoration/2025-04-02/
END:VEVENT
BEGIN:VEVENT
DTSTART;TZID=America/Chicago:20250402T173000
DTEND;TZID=America/Chicago:20250402T181500
DTSTAMP:20260420T050706
CREATED:20230511T213850Z
LAST-MODIFIED:20230511T214027Z
UID:10001147-1743615000-1743617700@holyspiritmgm.org
SUMMARY:Men of St. Joseph
DESCRIPTION:Meet in the Library
URL:https://holyspiritmgm.org/event/men-of-st-joseph/2025-04-02/
END:VEVENT
BEGIN:VEVENT
DTSTART;TZID=America/Chicago:20250402T173000
DTEND;TZID=America/Chicago:20250402T183000
DTSTAMP:20260420T050706
CREATED:20230511T213706Z
LAST-MODIFIED:20230511T213706Z
UID:10000885-1743615000-1743618600@holyspiritmgm.org
SUMMARY:Daughters of Mary
DESCRIPTION:
URL:https://holyspiritmgm.org/event/daughters-of-mary/2025-04-02/
END:VEVENT
BEGIN:VEVENT
DTSTART;TZID=America/Chicago:20250402T190000
DTEND;TZID=America/Chicago:20250402T203000
DTSTAMP:20260420T050706
CREATED:20230511T214255Z
LAST-MODIFIED:20230511T214255Z
UID:10001409-1743620400-1743625800@holyspiritmgm.org
SUMMARY:Adult Bible Study
DESCRIPTION:Meet in the Library
URL:https://holyspiritmgm.org/event/adult-bible-study/2025-04-02/
END:VEVENT
BEGIN:VEVENT
DTSTART;TZID=America/Chicago:20250402T190000
DTEND;TZID=America/Chicago:20250402T203000
DTSTAMP:20260420T050706
CREATED:20230511T214433Z
LAST-MODIFIED:20230511T214433Z
UID:10001671-1743620400-1743625800@holyspiritmgm.org
SUMMARY:Youth Group
DESCRIPTION:Meet in the Parish Hall
URL:https://holyspiritmgm.org/event/youth-group/2025-04-02/
END:VEVENT
BEGIN:VEVENT
DTSTART;TZID=America/Chicago:20250406T091500
DTEND;TZID=America/Chicago:20250406T104500
DTSTAMP:20260420T050706
CREATED:20230511T214810Z
LAST-MODIFIED:20230511T214810Z
UID:10001933-1743930900-1743936300@holyspiritmgm.org
SUMMARY:Adult Faith Formation Class
DESCRIPTION:Meet in the Parish Hall
URL:https://holyspiritmgm.org/event/adult-faith-formation-class/2025-04-06/
END:VEVENT
BEGIN:VEVENT
DTSTART;TZID=America/Chicago:20250406T091500
DTEND;TZID=America/Chicago:20250406T104500
DTSTAMP:20260420T050706
CREATED:20230511T215038Z
LAST-MODIFIED:20230511T215112Z
UID:10002194-1743930900-1743936300@holyspiritmgm.org
SUMMARY:Children Faith Formation
DESCRIPTION:Meet in the School
URL:https://holyspiritmgm.org/event/children-faith-formation/2025-04-06/
END:VEVENT
BEGIN:VEVENT
DTSTART;TZID=America/Chicago:20250408T090000
DTEND;TZID=America/Chicago:20250408T110000
DTSTAMP:20260420T050706
CREATED:20230511T185318Z
LAST-MODIFIED:20230511T185951Z
UID:10000100-1744102800-1744110000@holyspiritmgm.org
SUMMARY:Knitting and Crocheting Meeting
DESCRIPTION:Meet in the Library. \nQuestions\, Contact Peggy Comer 828-490-7976
URL:https://holyspiritmgm.org/event/knitting-and-crocheting-meeting/2025-04-08/
END:VEVENT
BEGIN:VEVENT
DTSTART;TZID=America/Chicago:20250408T190000
DTEND;TZID=America/Chicago:20250408T203000
DTSTAMP:20260420T050706
CREATED:20230511T190228Z
LAST-MODIFIED:20230511T190449Z
UID:10000362-1744138800-1744144200@holyspiritmgm.org
SUMMARY:Adult Choir Practice
DESCRIPTION:
URL:https://holyspiritmgm.org/event/adult-choir-practice/2025-04-08/
END:VEVENT
BEGIN:VEVENT
DTSTART;TZID=America/Chicago:20250409T090000
DTEND;TZID=America/Chicago:20250410T090000
DTSTAMP:20260420T050706
CREATED:20230511T190633Z
LAST-MODIFIED:20230511T213547Z
UID:10000624-1744189200-1744275600@holyspiritmgm.org
SUMMARY:Eucharistic Adoration
DESCRIPTION:Begins 9am Wednesday until 8am Thursday
URL:https://holyspiritmgm.org/event/eucharistic-adoration/2025-04-09/
END:VEVENT
BEGIN:VEVENT
DTSTART;TZID=America/Chicago:20250409T173000
DTEND;TZID=America/Chicago:20250409T181500
DTSTAMP:20260420T050706
CREATED:20230511T213850Z
LAST-MODIFIED:20230511T214027Z
UID:10001148-1744219800-1744222500@holyspiritmgm.org
SUMMARY:Men of St. Joseph
DESCRIPTION:Meet in the Library
URL:https://holyspiritmgm.org/event/men-of-st-joseph/2025-04-09/
END:VEVENT
BEGIN:VEVENT
DTSTART;TZID=America/Chicago:20250409T173000
DTEND;TZID=America/Chicago:20250409T183000
DTSTAMP:20260420T050706
CREATED:20230511T213706Z
LAST-MODIFIED:20230511T213706Z
UID:10000886-1744219800-1744223400@holyspiritmgm.org
SUMMARY:Daughters of Mary
DESCRIPTION:
URL:https://holyspiritmgm.org/event/daughters-of-mary/2025-04-09/
END:VEVENT
BEGIN:VEVENT
DTSTART;TZID=America/Chicago:20250409T190000
DTEND;TZID=America/Chicago:20250409T203000
DTSTAMP:20260420T050706
CREATED:20230511T214255Z
LAST-MODIFIED:20230511T214255Z
UID:10001410-1744225200-1744230600@holyspiritmgm.org
SUMMARY:Adult Bible Study
DESCRIPTION:Meet in the Library
URL:https://holyspiritmgm.org/event/adult-bible-study/2025-04-09/
END:VEVENT
BEGIN:VEVENT
DTSTART;TZID=America/Chicago:20250409T190000
DTEND;TZID=America/Chicago:20250409T203000
DTSTAMP:20260420T050706
CREATED:20230511T214433Z
LAST-MODIFIED:20230511T214433Z
UID:10001672-1744225200-1744230600@holyspiritmgm.org
SUMMARY:Youth Group
DESCRIPTION:Meet in the Parish Hall
URL:https://holyspiritmgm.org/event/youth-group/2025-04-09/
END:VEVENT
BEGIN:VEVENT
DTSTART;TZID=America/Chicago:20250413T091500
DTEND;TZID=America/Chicago:20250413T104500
DTSTAMP:20260420T050706
CREATED:20230511T214810Z
LAST-MODIFIED:20230511T214810Z
UID:10001934-1744535700-1744541100@holyspiritmgm.org
SUMMARY:Adult Faith Formation Class
DESCRIPTION:Meet in the Parish Hall
URL:https://holyspiritmgm.org/event/adult-faith-formation-class/2025-04-13/
END:VEVENT
BEGIN:VEVENT
DTSTART;TZID=America/Chicago:20250413T091500
DTEND;TZID=America/Chicago:20250413T104500
DTSTAMP:20260420T050706
CREATED:20230511T215038Z
LAST-MODIFIED:20230511T215112Z
UID:10002195-1744535700-1744541100@holyspiritmgm.org
SUMMARY:Children Faith Formation
DESCRIPTION:Meet in the School
URL:https://holyspiritmgm.org/event/children-faith-formation/2025-04-13/
END:VEVENT
BEGIN:VEVENT
DTSTART;TZID=America/Chicago:20250415T090000
DTEND;TZID=America/Chicago:20250415T110000
DTSTAMP:20260420T050706
CREATED:20230511T185318Z
LAST-MODIFIED:20230511T185951Z
UID:10000101-1744707600-1744714800@holyspiritmgm.org
SUMMARY:Knitting and Crocheting Meeting
DESCRIPTION:Meet in the Library. \nQuestions\, Contact Peggy Comer 828-490-7976
URL:https://holyspiritmgm.org/event/knitting-and-crocheting-meeting/2025-04-15/
END:VEVENT
BEGIN:VEVENT
DTSTART;TZID=America/Chicago:20250415T190000
DTEND;TZID=America/Chicago:20250415T203000
DTSTAMP:20260420T050706
CREATED:20230511T190228Z
LAST-MODIFIED:20230511T190449Z
UID:10000363-1744743600-1744749000@holyspiritmgm.org
SUMMARY:Adult Choir Practice
DESCRIPTION:
URL:https://holyspiritmgm.org/event/adult-choir-practice/2025-04-15/
END:VEVENT
BEGIN:VEVENT
DTSTART;TZID=America/Chicago:20250416T090000
DTEND;TZID=America/Chicago:20250417T090000
DTSTAMP:20260420T050706
CREATED:20230511T190633Z
LAST-MODIFIED:20230511T213547Z
UID:10000625-1744794000-1744880400@holyspiritmgm.org
SUMMARY:Eucharistic Adoration
DESCRIPTION:Begins 9am Wednesday until 8am Thursday
URL:https://holyspiritmgm.org/event/eucharistic-adoration/2025-04-16/
END:VEVENT
BEGIN:VEVENT
DTSTART;TZID=America/Chicago:20250416T173000
DTEND;TZID=America/Chicago:20250416T181500
DTSTAMP:20260420T050706
CREATED:20230511T213850Z
LAST-MODIFIED:20230511T214027Z
UID:10001149-1744824600-1744827300@holyspiritmgm.org
SUMMARY:Men of St. Joseph
DESCRIPTION:Meet in the Library
URL:https://holyspiritmgm.org/event/men-of-st-joseph/2025-04-16/
END:VEVENT
BEGIN:VEVENT
DTSTART;TZID=America/Chicago:20250416T173000
DTEND;TZID=America/Chicago:20250416T183000
DTSTAMP:20260420T050706
CREATED:20230511T213706Z
LAST-MODIFIED:20230511T213706Z
UID:10000887-1744824600-1744828200@holyspiritmgm.org
SUMMARY:Daughters of Mary
DESCRIPTION:
URL:https://holyspiritmgm.org/event/daughters-of-mary/2025-04-16/
END:VEVENT
BEGIN:VEVENT
DTSTART;TZID=America/Chicago:20250416T190000
DTEND;TZID=America/Chicago:20250416T203000
DTSTAMP:20260420T050706
CREATED:20230511T214255Z
LAST-MODIFIED:20230511T214255Z
UID:10001411-1744830000-1744835400@holyspiritmgm.org
SUMMARY:Adult Bible Study
DESCRIPTION:Meet in the Library
URL:https://holyspiritmgm.org/event/adult-bible-study/2025-04-16/
END:VEVENT
BEGIN:VEVENT
DTSTART;TZID=America/Chicago:20250416T190000
DTEND;TZID=America/Chicago:20250416T203000
DTSTAMP:20260420T050706
CREATED:20230511T214433Z
LAST-MODIFIED:20230511T214433Z
UID:10001673-1744830000-1744835400@holyspiritmgm.org
SUMMARY:Youth Group
DESCRIPTION:Meet in the Parish Hall
URL:https://holyspiritmgm.org/event/youth-group/2025-04-16/
END:VEVENT
BEGIN:VEVENT
DTSTART;TZID=America/Chicago:20250420T091500
DTEND;TZID=America/Chicago:20250420T104500
DTSTAMP:20260420T050706
CREATED:20230511T214810Z
LAST-MODIFIED:20230511T214810Z
UID:10001935-1745140500-1745145900@holyspiritmgm.org
SUMMARY:Adult Faith Formation Class
DESCRIPTION:Meet in the Parish Hall
URL:https://holyspiritmgm.org/event/adult-faith-formation-class/2025-04-20/
END:VEVENT
BEGIN:VEVENT
DTSTART;TZID=America/Chicago:20250420T091500
DTEND;TZID=America/Chicago:20250420T104500
DTSTAMP:20260420T050706
CREATED:20230511T215038Z
LAST-MODIFIED:20230511T215112Z
UID:10002196-1745140500-1745145900@holyspiritmgm.org
SUMMARY:Children Faith Formation
DESCRIPTION:Meet in the School
URL:https://holyspiritmgm.org/event/children-faith-formation/2025-04-20/
END:VEVENT
BEGIN:VEVENT
DTSTART;TZID=America/Chicago:20250422T090000
DTEND;TZID=America/Chicago:20250422T110000
DTSTAMP:20260420T050706
CREATED:20230511T185318Z
LAST-MODIFIED:20230511T185951Z
UID:10000102-1745312400-1745319600@holyspiritmgm.org
SUMMARY:Knitting and Crocheting Meeting
DESCRIPTION:Meet in the Library. \nQuestions\, Contact Peggy Comer 828-490-7976
URL:https://holyspiritmgm.org/event/knitting-and-crocheting-meeting/2025-04-22/
END:VEVENT
BEGIN:VEVENT
DTSTART;TZID=America/Chicago:20250422T190000
DTEND;TZID=America/Chicago:20250422T203000
DTSTAMP:20260420T050706
CREATED:20230511T190228Z
LAST-MODIFIED:20230511T190449Z
UID:10000364-1745348400-1745353800@holyspiritmgm.org
SUMMARY:Adult Choir Practice
DESCRIPTION:
URL:https://holyspiritmgm.org/event/adult-choir-practice/2025-04-22/
END:VEVENT
BEGIN:VEVENT
DTSTART;TZID=America/Chicago:20250423T090000
DTEND;TZID=America/Chicago:20250424T090000
DTSTAMP:20260420T050706
CREATED:20230511T190633Z
LAST-MODIFIED:20230511T213547Z
UID:10000626-1745398800-1745485200@holyspiritmgm.org
SUMMARY:Eucharistic Adoration
DESCRIPTION:Begins 9am Wednesday until 8am Thursday
URL:https://holyspiritmgm.org/event/eucharistic-adoration/2025-04-23/
END:VEVENT
END:VCALENDAR