BEGIN:VCALENDAR
VERSION:2.0
PRODID:-//Holy Spirit Catholic Church - ECPv6.15.20//NONSGML v1.0//EN
CALSCALE:GREGORIAN
METHOD:PUBLISH
X-ORIGINAL-URL:https://holyspiritmgm.org
X-WR-CALDESC:Events for Holy Spirit Catholic Church
REFRESH-INTERVAL;VALUE=DURATION:PT1H
X-Robots-Tag:noindex
X-PUBLISHED-TTL:PT1H
BEGIN:VTIMEZONE
TZID:America/Chicago
BEGIN:DAYLIGHT
TZOFFSETFROM:-0600
TZOFFSETTO:-0500
TZNAME:CDT
DTSTART:20240310T080000
END:DAYLIGHT
BEGIN:STANDARD
TZOFFSETFROM:-0500
TZOFFSETTO:-0600
TZNAME:CST
DTSTART:20241103T070000
END:STANDARD
BEGIN:DAYLIGHT
TZOFFSETFROM:-0600
TZOFFSETTO:-0500
TZNAME:CDT
DTSTART:20250309T080000
END:DAYLIGHT
BEGIN:STANDARD
TZOFFSETFROM:-0500
TZOFFSETTO:-0600
TZNAME:CST
DTSTART:20251102T070000
END:STANDARD
BEGIN:DAYLIGHT
TZOFFSETFROM:-0600
TZOFFSETTO:-0500
TZNAME:CDT
DTSTART:20260308T080000
END:DAYLIGHT
BEGIN:STANDARD
TZOFFSETFROM:-0500
TZOFFSETTO:-0600
TZNAME:CST
DTSTART:20261101T070000
END:STANDARD
END:VTIMEZONE
BEGIN:VEVENT
DTSTART;TZID=America/Chicago:20250701T190000
DTEND;TZID=America/Chicago:20250701T203000
DTSTAMP:20260420T190807
CREATED:20230511T190228Z
LAST-MODIFIED:20230511T190449Z
UID:10000374-1751396400-1751401800@holyspiritmgm.org
SUMMARY:Adult Choir Practice
DESCRIPTION:
URL:https://holyspiritmgm.org/event/adult-choir-practice/2025-07-01/
END:VEVENT
BEGIN:VEVENT
DTSTART;TZID=America/Chicago:20250702T090000
DTEND;TZID=America/Chicago:20250703T090000
DTSTAMP:20260420T190807
CREATED:20230511T190633Z
LAST-MODIFIED:20230511T213547Z
UID:10000636-1751446800-1751533200@holyspiritmgm.org
SUMMARY:Eucharistic Adoration
DESCRIPTION:Begins 9am Wednesday until 8am Thursday
URL:https://holyspiritmgm.org/event/eucharistic-adoration/2025-07-02/
END:VEVENT
BEGIN:VEVENT
DTSTART;TZID=America/Chicago:20250702T173000
DTEND;TZID=America/Chicago:20250702T181500
DTSTAMP:20260420T190807
CREATED:20230511T213850Z
LAST-MODIFIED:20230511T214027Z
UID:10001160-1751477400-1751480100@holyspiritmgm.org
SUMMARY:Men of St. Joseph
DESCRIPTION:Meet in the Library
URL:https://holyspiritmgm.org/event/men-of-st-joseph/2025-07-02/
END:VEVENT
BEGIN:VEVENT
DTSTART;TZID=America/Chicago:20250702T173000
DTEND;TZID=America/Chicago:20250702T183000
DTSTAMP:20260420T190807
CREATED:20230511T213706Z
LAST-MODIFIED:20230511T213706Z
UID:10000898-1751477400-1751481000@holyspiritmgm.org
SUMMARY:Daughters of Mary
DESCRIPTION:
URL:https://holyspiritmgm.org/event/daughters-of-mary/2025-07-02/
END:VEVENT
BEGIN:VEVENT
DTSTART;TZID=America/Chicago:20250702T190000
DTEND;TZID=America/Chicago:20250702T203000
DTSTAMP:20260420T190807
CREATED:20230511T214255Z
LAST-MODIFIED:20230511T214255Z
UID:10001422-1751482800-1751488200@holyspiritmgm.org
SUMMARY:Adult Bible Study
DESCRIPTION:Meet in the Library
URL:https://holyspiritmgm.org/event/adult-bible-study/2025-07-02/
END:VEVENT
BEGIN:VEVENT
DTSTART;TZID=America/Chicago:20250702T190000
DTEND;TZID=America/Chicago:20250702T203000
DTSTAMP:20260420T190807
CREATED:20230511T214433Z
LAST-MODIFIED:20230511T214433Z
UID:10001684-1751482800-1751488200@holyspiritmgm.org
SUMMARY:Youth Group
DESCRIPTION:Meet in the Parish Hall
URL:https://holyspiritmgm.org/event/youth-group/2025-07-02/
END:VEVENT
BEGIN:VEVENT
DTSTART;TZID=America/Chicago:20250706T091500
DTEND;TZID=America/Chicago:20250706T104500
DTSTAMP:20260420T190807
CREATED:20230511T214810Z
LAST-MODIFIED:20230511T214810Z
UID:10001946-1751793300-1751798700@holyspiritmgm.org
SUMMARY:Adult Faith Formation Class
DESCRIPTION:Meet in the Parish Hall
URL:https://holyspiritmgm.org/event/adult-faith-formation-class/2025-07-06/
END:VEVENT
BEGIN:VEVENT
DTSTART;TZID=America/Chicago:20250706T091500
DTEND;TZID=America/Chicago:20250706T104500
DTSTAMP:20260420T190807
CREATED:20230511T215038Z
LAST-MODIFIED:20230511T215112Z
UID:10002207-1751793300-1751798700@holyspiritmgm.org
SUMMARY:Children Faith Formation
DESCRIPTION:Meet in the School
URL:https://holyspiritmgm.org/event/children-faith-formation/2025-07-06/
END:VEVENT
BEGIN:VEVENT
DTSTART;TZID=America/Chicago:20250708T090000
DTEND;TZID=America/Chicago:20250708T110000
DTSTAMP:20260420T190807
CREATED:20230511T185318Z
LAST-MODIFIED:20230511T185951Z
UID:10000113-1751965200-1751972400@holyspiritmgm.org
SUMMARY:Knitting and Crocheting Meeting
DESCRIPTION:Meet in the Library. \nQuestions\, Contact Peggy Comer 828-490-7976
URL:https://holyspiritmgm.org/event/knitting-and-crocheting-meeting/2025-07-08/
END:VEVENT
BEGIN:VEVENT
DTSTART;TZID=America/Chicago:20250708T190000
DTEND;TZID=America/Chicago:20250708T203000
DTSTAMP:20260420T190807
CREATED:20230511T190228Z
LAST-MODIFIED:20230511T190449Z
UID:10000375-1752001200-1752006600@holyspiritmgm.org
SUMMARY:Adult Choir Practice
DESCRIPTION:
URL:https://holyspiritmgm.org/event/adult-choir-practice/2025-07-08/
END:VEVENT
BEGIN:VEVENT
DTSTART;TZID=America/Chicago:20250709T090000
DTEND;TZID=America/Chicago:20250710T090000
DTSTAMP:20260420T190807
CREATED:20230511T190633Z
LAST-MODIFIED:20230511T213547Z
UID:10000637-1752051600-1752138000@holyspiritmgm.org
SUMMARY:Eucharistic Adoration
DESCRIPTION:Begins 9am Wednesday until 8am Thursday
URL:https://holyspiritmgm.org/event/eucharistic-adoration/2025-07-09/
END:VEVENT
BEGIN:VEVENT
DTSTART;TZID=America/Chicago:20250709T173000
DTEND;TZID=America/Chicago:20250709T181500
DTSTAMP:20260420T190807
CREATED:20230511T213850Z
LAST-MODIFIED:20230511T214027Z
UID:10001161-1752082200-1752084900@holyspiritmgm.org
SUMMARY:Men of St. Joseph
DESCRIPTION:Meet in the Library
URL:https://holyspiritmgm.org/event/men-of-st-joseph/2025-07-09/
END:VEVENT
BEGIN:VEVENT
DTSTART;TZID=America/Chicago:20250709T173000
DTEND;TZID=America/Chicago:20250709T183000
DTSTAMP:20260420T190807
CREATED:20230511T213706Z
LAST-MODIFIED:20230511T213706Z
UID:10000899-1752082200-1752085800@holyspiritmgm.org
SUMMARY:Daughters of Mary
DESCRIPTION:
URL:https://holyspiritmgm.org/event/daughters-of-mary/2025-07-09/
END:VEVENT
BEGIN:VEVENT
DTSTART;TZID=America/Chicago:20250709T190000
DTEND;TZID=America/Chicago:20250709T203000
DTSTAMP:20260420T190807
CREATED:20230511T214255Z
LAST-MODIFIED:20230511T214255Z
UID:10001423-1752087600-1752093000@holyspiritmgm.org
SUMMARY:Adult Bible Study
DESCRIPTION:Meet in the Library
URL:https://holyspiritmgm.org/event/adult-bible-study/2025-07-09/
END:VEVENT
BEGIN:VEVENT
DTSTART;TZID=America/Chicago:20250709T190000
DTEND;TZID=America/Chicago:20250709T203000
DTSTAMP:20260420T190807
CREATED:20230511T214433Z
LAST-MODIFIED:20230511T214433Z
UID:10001685-1752087600-1752093000@holyspiritmgm.org
SUMMARY:Youth Group
DESCRIPTION:Meet in the Parish Hall
URL:https://holyspiritmgm.org/event/youth-group/2025-07-09/
END:VEVENT
BEGIN:VEVENT
DTSTART;TZID=America/Chicago:20250713T091500
DTEND;TZID=America/Chicago:20250713T104500
DTSTAMP:20260420T190807
CREATED:20230511T214810Z
LAST-MODIFIED:20230511T214810Z
UID:10001947-1752398100-1752403500@holyspiritmgm.org
SUMMARY:Adult Faith Formation Class
DESCRIPTION:Meet in the Parish Hall
URL:https://holyspiritmgm.org/event/adult-faith-formation-class/2025-07-13/
END:VEVENT
BEGIN:VEVENT
DTSTART;TZID=America/Chicago:20250713T091500
DTEND;TZID=America/Chicago:20250713T104500
DTSTAMP:20260420T190807
CREATED:20230511T215038Z
LAST-MODIFIED:20230511T215112Z
UID:10002208-1752398100-1752403500@holyspiritmgm.org
SUMMARY:Children Faith Formation
DESCRIPTION:Meet in the School
URL:https://holyspiritmgm.org/event/children-faith-formation/2025-07-13/
END:VEVENT
BEGIN:VEVENT
DTSTART;TZID=America/Chicago:20250715T090000
DTEND;TZID=America/Chicago:20250715T110000
DTSTAMP:20260420T190807
CREATED:20230511T185318Z
LAST-MODIFIED:20230511T185951Z
UID:10000114-1752570000-1752577200@holyspiritmgm.org
SUMMARY:Knitting and Crocheting Meeting
DESCRIPTION:Meet in the Library. \nQuestions\, Contact Peggy Comer 828-490-7976
URL:https://holyspiritmgm.org/event/knitting-and-crocheting-meeting/2025-07-15/
END:VEVENT
BEGIN:VEVENT
DTSTART;TZID=America/Chicago:20250715T190000
DTEND;TZID=America/Chicago:20250715T203000
DTSTAMP:20260420T190807
CREATED:20230511T190228Z
LAST-MODIFIED:20230511T190449Z
UID:10000376-1752606000-1752611400@holyspiritmgm.org
SUMMARY:Adult Choir Practice
DESCRIPTION:
URL:https://holyspiritmgm.org/event/adult-choir-practice/2025-07-15/
END:VEVENT
BEGIN:VEVENT
DTSTART;TZID=America/Chicago:20250716T090000
DTEND;TZID=America/Chicago:20250717T090000
DTSTAMP:20260420T190807
CREATED:20230511T190633Z
LAST-MODIFIED:20230511T213547Z
UID:10000638-1752656400-1752742800@holyspiritmgm.org
SUMMARY:Eucharistic Adoration
DESCRIPTION:Begins 9am Wednesday until 8am Thursday
URL:https://holyspiritmgm.org/event/eucharistic-adoration/2025-07-16/
END:VEVENT
BEGIN:VEVENT
DTSTART;TZID=America/Chicago:20250716T173000
DTEND;TZID=America/Chicago:20250716T181500
DTSTAMP:20260420T190807
CREATED:20230511T213850Z
LAST-MODIFIED:20230511T214027Z
UID:10001162-1752687000-1752689700@holyspiritmgm.org
SUMMARY:Men of St. Joseph
DESCRIPTION:Meet in the Library
URL:https://holyspiritmgm.org/event/men-of-st-joseph/2025-07-16/
END:VEVENT
BEGIN:VEVENT
DTSTART;TZID=America/Chicago:20250716T173000
DTEND;TZID=America/Chicago:20250716T183000
DTSTAMP:20260420T190807
CREATED:20230511T213706Z
LAST-MODIFIED:20230511T213706Z
UID:10000900-1752687000-1752690600@holyspiritmgm.org
SUMMARY:Daughters of Mary
DESCRIPTION:
URL:https://holyspiritmgm.org/event/daughters-of-mary/2025-07-16/
END:VEVENT
BEGIN:VEVENT
DTSTART;TZID=America/Chicago:20250716T190000
DTEND;TZID=America/Chicago:20250716T203000
DTSTAMP:20260420T190807
CREATED:20230511T214255Z
LAST-MODIFIED:20230511T214255Z
UID:10001424-1752692400-1752697800@holyspiritmgm.org
SUMMARY:Adult Bible Study
DESCRIPTION:Meet in the Library
URL:https://holyspiritmgm.org/event/adult-bible-study/2025-07-16/
END:VEVENT
BEGIN:VEVENT
DTSTART;TZID=America/Chicago:20250716T190000
DTEND;TZID=America/Chicago:20250716T203000
DTSTAMP:20260420T190807
CREATED:20230511T214433Z
LAST-MODIFIED:20230511T214433Z
UID:10001686-1752692400-1752697800@holyspiritmgm.org
SUMMARY:Youth Group
DESCRIPTION:Meet in the Parish Hall
URL:https://holyspiritmgm.org/event/youth-group/2025-07-16/
END:VEVENT
BEGIN:VEVENT
DTSTART;TZID=America/Chicago:20250720T091500
DTEND;TZID=America/Chicago:20250720T104500
DTSTAMP:20260420T190807
CREATED:20230511T214810Z
LAST-MODIFIED:20230511T214810Z
UID:10001948-1753002900-1753008300@holyspiritmgm.org
SUMMARY:Adult Faith Formation Class
DESCRIPTION:Meet in the Parish Hall
URL:https://holyspiritmgm.org/event/adult-faith-formation-class/2025-07-20/
END:VEVENT
BEGIN:VEVENT
DTSTART;TZID=America/Chicago:20250720T091500
DTEND;TZID=America/Chicago:20250720T104500
DTSTAMP:20260420T190807
CREATED:20230511T215038Z
LAST-MODIFIED:20230511T215112Z
UID:10002209-1753002900-1753008300@holyspiritmgm.org
SUMMARY:Children Faith Formation
DESCRIPTION:Meet in the School
URL:https://holyspiritmgm.org/event/children-faith-formation/2025-07-20/
END:VEVENT
BEGIN:VEVENT
DTSTART;TZID=America/Chicago:20250722T090000
DTEND;TZID=America/Chicago:20250722T110000
DTSTAMP:20260420T190807
CREATED:20230511T185318Z
LAST-MODIFIED:20230511T185951Z
UID:10000115-1753174800-1753182000@holyspiritmgm.org
SUMMARY:Knitting and Crocheting Meeting
DESCRIPTION:Meet in the Library. \nQuestions\, Contact Peggy Comer 828-490-7976
URL:https://holyspiritmgm.org/event/knitting-and-crocheting-meeting/2025-07-22/
END:VEVENT
BEGIN:VEVENT
DTSTART;TZID=America/Chicago:20250722T190000
DTEND;TZID=America/Chicago:20250722T203000
DTSTAMP:20260420T190807
CREATED:20230511T190228Z
LAST-MODIFIED:20230511T190449Z
UID:10000377-1753210800-1753216200@holyspiritmgm.org
SUMMARY:Adult Choir Practice
DESCRIPTION:
URL:https://holyspiritmgm.org/event/adult-choir-practice/2025-07-22/
END:VEVENT
BEGIN:VEVENT
DTSTART;TZID=America/Chicago:20250723T090000
DTEND;TZID=America/Chicago:20250724T090000
DTSTAMP:20260420T190807
CREATED:20230511T190633Z
LAST-MODIFIED:20230511T213547Z
UID:10000639-1753261200-1753347600@holyspiritmgm.org
SUMMARY:Eucharistic Adoration
DESCRIPTION:Begins 9am Wednesday until 8am Thursday
URL:https://holyspiritmgm.org/event/eucharistic-adoration/2025-07-23/
END:VEVENT
BEGIN:VEVENT
DTSTART;TZID=America/Chicago:20250723T173000
DTEND;TZID=America/Chicago:20250723T181500
DTSTAMP:20260420T190807
CREATED:20230511T213850Z
LAST-MODIFIED:20230511T214027Z
UID:10001163-1753291800-1753294500@holyspiritmgm.org
SUMMARY:Men of St. Joseph
DESCRIPTION:Meet in the Library
URL:https://holyspiritmgm.org/event/men-of-st-joseph/2025-07-23/
END:VEVENT
END:VCALENDAR