BEGIN:VCALENDAR
VERSION:2.0
PRODID:-//Holy Spirit Catholic Church - ECPv6.15.20//NONSGML v1.0//EN
CALSCALE:GREGORIAN
METHOD:PUBLISH
X-ORIGINAL-URL:https://holyspiritmgm.org
X-WR-CALDESC:Events for Holy Spirit Catholic Church
REFRESH-INTERVAL;VALUE=DURATION:PT1H
X-Robots-Tag:noindex
X-PUBLISHED-TTL:PT1H
BEGIN:VTIMEZONE
TZID:America/Chicago
BEGIN:DAYLIGHT
TZOFFSETFROM:-0600
TZOFFSETTO:-0500
TZNAME:CDT
DTSTART:20240310T080000
END:DAYLIGHT
BEGIN:STANDARD
TZOFFSETFROM:-0500
TZOFFSETTO:-0600
TZNAME:CST
DTSTART:20241103T070000
END:STANDARD
BEGIN:DAYLIGHT
TZOFFSETFROM:-0600
TZOFFSETTO:-0500
TZNAME:CDT
DTSTART:20250309T080000
END:DAYLIGHT
BEGIN:STANDARD
TZOFFSETFROM:-0500
TZOFFSETTO:-0600
TZNAME:CST
DTSTART:20251102T070000
END:STANDARD
BEGIN:DAYLIGHT
TZOFFSETFROM:-0600
TZOFFSETTO:-0500
TZNAME:CDT
DTSTART:20260308T080000
END:DAYLIGHT
BEGIN:STANDARD
TZOFFSETFROM:-0500
TZOFFSETTO:-0600
TZNAME:CST
DTSTART:20261101T070000
END:STANDARD
END:VTIMEZONE
BEGIN:VEVENT
DTSTART;TZID=America/Chicago:20250903T190000
DTEND;TZID=America/Chicago:20250903T203000
DTSTAMP:20260420T201115
CREATED:20230511T214433Z
LAST-MODIFIED:20230511T214433Z
UID:10001693-1756926000-1756931400@holyspiritmgm.org
SUMMARY:Youth Group
DESCRIPTION:Meet in the Parish Hall
URL:https://holyspiritmgm.org/event/youth-group/2025-09-03/
END:VEVENT
BEGIN:VEVENT
DTSTART;TZID=America/Chicago:20250907T091500
DTEND;TZID=America/Chicago:20250907T104500
DTSTAMP:20260420T201115
CREATED:20230511T214810Z
LAST-MODIFIED:20230511T214810Z
UID:10001955-1757236500-1757241900@holyspiritmgm.org
SUMMARY:Adult Faith Formation Class
DESCRIPTION:Meet in the Parish Hall
URL:https://holyspiritmgm.org/event/adult-faith-formation-class/2025-09-07/
END:VEVENT
BEGIN:VEVENT
DTSTART;TZID=America/Chicago:20250907T091500
DTEND;TZID=America/Chicago:20250907T104500
DTSTAMP:20260420T201115
CREATED:20230511T215038Z
LAST-MODIFIED:20230511T215112Z
UID:10002216-1757236500-1757241900@holyspiritmgm.org
SUMMARY:Children Faith Formation
DESCRIPTION:Meet in the School
URL:https://holyspiritmgm.org/event/children-faith-formation/2025-09-07/
END:VEVENT
BEGIN:VEVENT
DTSTART;TZID=America/Chicago:20250909T090000
DTEND;TZID=America/Chicago:20250909T110000
DTSTAMP:20260420T201115
CREATED:20230511T185318Z
LAST-MODIFIED:20230511T185951Z
UID:10000122-1757408400-1757415600@holyspiritmgm.org
SUMMARY:Knitting and Crocheting Meeting
DESCRIPTION:Meet in the Library. \nQuestions\, Contact Peggy Comer 828-490-7976
URL:https://holyspiritmgm.org/event/knitting-and-crocheting-meeting/2025-09-09/
END:VEVENT
BEGIN:VEVENT
DTSTART;TZID=America/Chicago:20250909T190000
DTEND;TZID=America/Chicago:20250909T203000
DTSTAMP:20260420T201115
CREATED:20230511T190228Z
LAST-MODIFIED:20230511T190449Z
UID:10000384-1757444400-1757449800@holyspiritmgm.org
SUMMARY:Adult Choir Practice
DESCRIPTION:
URL:https://holyspiritmgm.org/event/adult-choir-practice/2025-09-09/
END:VEVENT
BEGIN:VEVENT
DTSTART;TZID=America/Chicago:20250910T090000
DTEND;TZID=America/Chicago:20250911T090000
DTSTAMP:20260420T201115
CREATED:20230511T190633Z
LAST-MODIFIED:20230511T213547Z
UID:10000646-1757494800-1757581200@holyspiritmgm.org
SUMMARY:Eucharistic Adoration
DESCRIPTION:Begins 9am Wednesday until 8am Thursday
URL:https://holyspiritmgm.org/event/eucharistic-adoration/2025-09-10/
END:VEVENT
BEGIN:VEVENT
DTSTART;TZID=America/Chicago:20250910T173000
DTEND;TZID=America/Chicago:20250910T181500
DTSTAMP:20260420T201115
CREATED:20230511T213850Z
LAST-MODIFIED:20230511T214027Z
UID:10001170-1757525400-1757528100@holyspiritmgm.org
SUMMARY:Men of St. Joseph
DESCRIPTION:Meet in the Library
URL:https://holyspiritmgm.org/event/men-of-st-joseph/2025-09-10/
END:VEVENT
BEGIN:VEVENT
DTSTART;TZID=America/Chicago:20250910T173000
DTEND;TZID=America/Chicago:20250910T183000
DTSTAMP:20260420T201115
CREATED:20230511T213706Z
LAST-MODIFIED:20230511T213706Z
UID:10000908-1757525400-1757529000@holyspiritmgm.org
SUMMARY:Daughters of Mary
DESCRIPTION:
URL:https://holyspiritmgm.org/event/daughters-of-mary/2025-09-10/
END:VEVENT
BEGIN:VEVENT
DTSTART;TZID=America/Chicago:20250910T190000
DTEND;TZID=America/Chicago:20250910T203000
DTSTAMP:20260420T201115
CREATED:20230511T214255Z
LAST-MODIFIED:20230511T214255Z
UID:10001432-1757530800-1757536200@holyspiritmgm.org
SUMMARY:Adult Bible Study
DESCRIPTION:Meet in the Library
URL:https://holyspiritmgm.org/event/adult-bible-study/2025-09-10/
END:VEVENT
BEGIN:VEVENT
DTSTART;TZID=America/Chicago:20250910T190000
DTEND;TZID=America/Chicago:20250910T203000
DTSTAMP:20260420T201115
CREATED:20230511T214433Z
LAST-MODIFIED:20230511T214433Z
UID:10001694-1757530800-1757536200@holyspiritmgm.org
SUMMARY:Youth Group
DESCRIPTION:Meet in the Parish Hall
URL:https://holyspiritmgm.org/event/youth-group/2025-09-10/
END:VEVENT
BEGIN:VEVENT
DTSTART;TZID=America/Chicago:20250914T091500
DTEND;TZID=America/Chicago:20250914T104500
DTSTAMP:20260420T201115
CREATED:20230511T214810Z
LAST-MODIFIED:20230511T214810Z
UID:10001956-1757841300-1757846700@holyspiritmgm.org
SUMMARY:Adult Faith Formation Class
DESCRIPTION:Meet in the Parish Hall
URL:https://holyspiritmgm.org/event/adult-faith-formation-class/2025-09-14/
END:VEVENT
BEGIN:VEVENT
DTSTART;TZID=America/Chicago:20250914T091500
DTEND;TZID=America/Chicago:20250914T104500
DTSTAMP:20260420T201115
CREATED:20230511T215038Z
LAST-MODIFIED:20230511T215112Z
UID:10002217-1757841300-1757846700@holyspiritmgm.org
SUMMARY:Children Faith Formation
DESCRIPTION:Meet in the School
URL:https://holyspiritmgm.org/event/children-faith-formation/2025-09-14/
END:VEVENT
BEGIN:VEVENT
DTSTART;TZID=America/Chicago:20250916T090000
DTEND;TZID=America/Chicago:20250916T110000
DTSTAMP:20260420T201115
CREATED:20230511T185318Z
LAST-MODIFIED:20230511T185951Z
UID:10000123-1758013200-1758020400@holyspiritmgm.org
SUMMARY:Knitting and Crocheting Meeting
DESCRIPTION:Meet in the Library. \nQuestions\, Contact Peggy Comer 828-490-7976
URL:https://holyspiritmgm.org/event/knitting-and-crocheting-meeting/2025-09-16/
END:VEVENT
BEGIN:VEVENT
DTSTART;TZID=America/Chicago:20250916T190000
DTEND;TZID=America/Chicago:20250916T203000
DTSTAMP:20260420T201115
CREATED:20230511T190228Z
LAST-MODIFIED:20230511T190449Z
UID:10000385-1758049200-1758054600@holyspiritmgm.org
SUMMARY:Adult Choir Practice
DESCRIPTION:
URL:https://holyspiritmgm.org/event/adult-choir-practice/2025-09-16/
END:VEVENT
BEGIN:VEVENT
DTSTART;TZID=America/Chicago:20250917T090000
DTEND;TZID=America/Chicago:20250918T090000
DTSTAMP:20260420T201115
CREATED:20230511T190633Z
LAST-MODIFIED:20230511T213547Z
UID:10000647-1758099600-1758186000@holyspiritmgm.org
SUMMARY:Eucharistic Adoration
DESCRIPTION:Begins 9am Wednesday until 8am Thursday
URL:https://holyspiritmgm.org/event/eucharistic-adoration/2025-09-17/
END:VEVENT
BEGIN:VEVENT
DTSTART;TZID=America/Chicago:20250917T173000
DTEND;TZID=America/Chicago:20250917T181500
DTSTAMP:20260420T201115
CREATED:20230511T213850Z
LAST-MODIFIED:20230511T214027Z
UID:10001171-1758130200-1758132900@holyspiritmgm.org
SUMMARY:Men of St. Joseph
DESCRIPTION:Meet in the Library
URL:https://holyspiritmgm.org/event/men-of-st-joseph/2025-09-17/
END:VEVENT
BEGIN:VEVENT
DTSTART;TZID=America/Chicago:20250917T173000
DTEND;TZID=America/Chicago:20250917T183000
DTSTAMP:20260420T201115
CREATED:20230511T213706Z
LAST-MODIFIED:20230511T213706Z
UID:10000909-1758130200-1758133800@holyspiritmgm.org
SUMMARY:Daughters of Mary
DESCRIPTION:
URL:https://holyspiritmgm.org/event/daughters-of-mary/2025-09-17/
END:VEVENT
BEGIN:VEVENT
DTSTART;TZID=America/Chicago:20250917T190000
DTEND;TZID=America/Chicago:20250917T203000
DTSTAMP:20260420T201115
CREATED:20230511T214255Z
LAST-MODIFIED:20230511T214255Z
UID:10001433-1758135600-1758141000@holyspiritmgm.org
SUMMARY:Adult Bible Study
DESCRIPTION:Meet in the Library
URL:https://holyspiritmgm.org/event/adult-bible-study/2025-09-17/
END:VEVENT
BEGIN:VEVENT
DTSTART;TZID=America/Chicago:20250917T190000
DTEND;TZID=America/Chicago:20250917T203000
DTSTAMP:20260420T201115
CREATED:20230511T214433Z
LAST-MODIFIED:20230511T214433Z
UID:10001695-1758135600-1758141000@holyspiritmgm.org
SUMMARY:Youth Group
DESCRIPTION:Meet in the Parish Hall
URL:https://holyspiritmgm.org/event/youth-group/2025-09-17/
END:VEVENT
BEGIN:VEVENT
DTSTART;TZID=America/Chicago:20250921T091500
DTEND;TZID=America/Chicago:20250921T104500
DTSTAMP:20260420T201115
CREATED:20230511T214810Z
LAST-MODIFIED:20230511T214810Z
UID:10001957-1758446100-1758451500@holyspiritmgm.org
SUMMARY:Adult Faith Formation Class
DESCRIPTION:Meet in the Parish Hall
URL:https://holyspiritmgm.org/event/adult-faith-formation-class/2025-09-21/
END:VEVENT
BEGIN:VEVENT
DTSTART;TZID=America/Chicago:20250921T091500
DTEND;TZID=America/Chicago:20250921T104500
DTSTAMP:20260420T201115
CREATED:20230511T215038Z
LAST-MODIFIED:20230511T215112Z
UID:10002218-1758446100-1758451500@holyspiritmgm.org
SUMMARY:Children Faith Formation
DESCRIPTION:Meet in the School
URL:https://holyspiritmgm.org/event/children-faith-formation/2025-09-21/
END:VEVENT
BEGIN:VEVENT
DTSTART;TZID=America/Chicago:20250923T090000
DTEND;TZID=America/Chicago:20250923T110000
DTSTAMP:20260420T201115
CREATED:20230511T185318Z
LAST-MODIFIED:20230511T185951Z
UID:10000124-1758618000-1758625200@holyspiritmgm.org
SUMMARY:Knitting and Crocheting Meeting
DESCRIPTION:Meet in the Library. \nQuestions\, Contact Peggy Comer 828-490-7976
URL:https://holyspiritmgm.org/event/knitting-and-crocheting-meeting/2025-09-23/
END:VEVENT
BEGIN:VEVENT
DTSTART;TZID=America/Chicago:20250923T190000
DTEND;TZID=America/Chicago:20250923T203000
DTSTAMP:20260420T201115
CREATED:20230511T190228Z
LAST-MODIFIED:20230511T190449Z
UID:10000386-1758654000-1758659400@holyspiritmgm.org
SUMMARY:Adult Choir Practice
DESCRIPTION:
URL:https://holyspiritmgm.org/event/adult-choir-practice/2025-09-23/
END:VEVENT
BEGIN:VEVENT
DTSTART;TZID=America/Chicago:20250924T090000
DTEND;TZID=America/Chicago:20250925T090000
DTSTAMP:20260420T201115
CREATED:20230511T190633Z
LAST-MODIFIED:20230511T213547Z
UID:10000648-1758704400-1758790800@holyspiritmgm.org
SUMMARY:Eucharistic Adoration
DESCRIPTION:Begins 9am Wednesday until 8am Thursday
URL:https://holyspiritmgm.org/event/eucharistic-adoration/2025-09-24/
END:VEVENT
BEGIN:VEVENT
DTSTART;TZID=America/Chicago:20250924T173000
DTEND;TZID=America/Chicago:20250924T181500
DTSTAMP:20260420T201115
CREATED:20230511T213850Z
LAST-MODIFIED:20230511T214027Z
UID:10001172-1758735000-1758737700@holyspiritmgm.org
SUMMARY:Men of St. Joseph
DESCRIPTION:Meet in the Library
URL:https://holyspiritmgm.org/event/men-of-st-joseph/2025-09-24/
END:VEVENT
BEGIN:VEVENT
DTSTART;TZID=America/Chicago:20250924T173000
DTEND;TZID=America/Chicago:20250924T183000
DTSTAMP:20260420T201115
CREATED:20230511T213706Z
LAST-MODIFIED:20230511T213706Z
UID:10000910-1758735000-1758738600@holyspiritmgm.org
SUMMARY:Daughters of Mary
DESCRIPTION:
URL:https://holyspiritmgm.org/event/daughters-of-mary/2025-09-24/
END:VEVENT
BEGIN:VEVENT
DTSTART;TZID=America/Chicago:20250924T190000
DTEND;TZID=America/Chicago:20250924T203000
DTSTAMP:20260420T201115
CREATED:20230511T214255Z
LAST-MODIFIED:20230511T214255Z
UID:10001434-1758740400-1758745800@holyspiritmgm.org
SUMMARY:Adult Bible Study
DESCRIPTION:Meet in the Library
URL:https://holyspiritmgm.org/event/adult-bible-study/2025-09-24/
END:VEVENT
BEGIN:VEVENT
DTSTART;TZID=America/Chicago:20250924T190000
DTEND;TZID=America/Chicago:20250924T203000
DTSTAMP:20260420T201115
CREATED:20230511T214433Z
LAST-MODIFIED:20230511T214433Z
UID:10001696-1758740400-1758745800@holyspiritmgm.org
SUMMARY:Youth Group
DESCRIPTION:Meet in the Parish Hall
URL:https://holyspiritmgm.org/event/youth-group/2025-09-24/
END:VEVENT
BEGIN:VEVENT
DTSTART;TZID=America/Chicago:20250928T091500
DTEND;TZID=America/Chicago:20250928T104500
DTSTAMP:20260420T201115
CREATED:20230511T214810Z
LAST-MODIFIED:20230511T214810Z
UID:10001958-1759050900-1759056300@holyspiritmgm.org
SUMMARY:Adult Faith Formation Class
DESCRIPTION:Meet in the Parish Hall
URL:https://holyspiritmgm.org/event/adult-faith-formation-class/2025-09-28/
END:VEVENT
BEGIN:VEVENT
DTSTART;TZID=America/Chicago:20250928T091500
DTEND;TZID=America/Chicago:20250928T104500
DTSTAMP:20260420T201115
CREATED:20230511T215038Z
LAST-MODIFIED:20230511T215112Z
UID:10002219-1759050900-1759056300@holyspiritmgm.org
SUMMARY:Children Faith Formation
DESCRIPTION:Meet in the School
URL:https://holyspiritmgm.org/event/children-faith-formation/2025-09-28/
END:VEVENT
END:VCALENDAR