BEGIN:VCALENDAR
VERSION:2.0
PRODID:-//Holy Spirit Catholic Church - ECPv6.15.20//NONSGML v1.0//EN
CALSCALE:GREGORIAN
METHOD:PUBLISH
X-ORIGINAL-URL:https://holyspiritmgm.org
X-WR-CALDESC:Events for Holy Spirit Catholic Church
REFRESH-INTERVAL;VALUE=DURATION:PT1H
X-Robots-Tag:noindex
X-PUBLISHED-TTL:PT1H
BEGIN:VTIMEZONE
TZID:America/Chicago
BEGIN:DAYLIGHT
TZOFFSETFROM:-0600
TZOFFSETTO:-0500
TZNAME:CDT
DTSTART:20240310T080000
END:DAYLIGHT
BEGIN:STANDARD
TZOFFSETFROM:-0500
TZOFFSETTO:-0600
TZNAME:CST
DTSTART:20241103T070000
END:STANDARD
BEGIN:DAYLIGHT
TZOFFSETFROM:-0600
TZOFFSETTO:-0500
TZNAME:CDT
DTSTART:20250309T080000
END:DAYLIGHT
BEGIN:STANDARD
TZOFFSETFROM:-0500
TZOFFSETTO:-0600
TZNAME:CST
DTSTART:20251102T070000
END:STANDARD
BEGIN:DAYLIGHT
TZOFFSETFROM:-0600
TZOFFSETTO:-0500
TZNAME:CDT
DTSTART:20260308T080000
END:DAYLIGHT
BEGIN:STANDARD
TZOFFSETFROM:-0500
TZOFFSETTO:-0600
TZNAME:CST
DTSTART:20261101T070000
END:STANDARD
END:VTIMEZONE
BEGIN:VEVENT
DTSTART;TZID=America/Chicago:20250720T091500
DTEND;TZID=America/Chicago:20250720T104500
DTSTAMP:20260420T214308
CREATED:20230511T214810Z
LAST-MODIFIED:20230511T214810Z
UID:10001948-1753002900-1753008300@holyspiritmgm.org
SUMMARY:Adult Faith Formation Class
DESCRIPTION:Meet in the Parish Hall
URL:https://holyspiritmgm.org/event/adult-faith-formation-class/2025-07-20/
END:VEVENT
BEGIN:VEVENT
DTSTART;TZID=America/Chicago:20250720T091500
DTEND;TZID=America/Chicago:20250720T104500
DTSTAMP:20260420T214308
CREATED:20230511T215038Z
LAST-MODIFIED:20230511T215112Z
UID:10002209-1753002900-1753008300@holyspiritmgm.org
SUMMARY:Children Faith Formation
DESCRIPTION:Meet in the School
URL:https://holyspiritmgm.org/event/children-faith-formation/2025-07-20/
END:VEVENT
BEGIN:VEVENT
DTSTART;TZID=America/Chicago:20250722T090000
DTEND;TZID=America/Chicago:20250722T110000
DTSTAMP:20260420T214308
CREATED:20230511T185318Z
LAST-MODIFIED:20230511T185951Z
UID:10000115-1753174800-1753182000@holyspiritmgm.org
SUMMARY:Knitting and Crocheting Meeting
DESCRIPTION:Meet in the Library. \nQuestions\, Contact Peggy Comer 828-490-7976
URL:https://holyspiritmgm.org/event/knitting-and-crocheting-meeting/2025-07-22/
END:VEVENT
BEGIN:VEVENT
DTSTART;TZID=America/Chicago:20250722T190000
DTEND;TZID=America/Chicago:20250722T203000
DTSTAMP:20260420T214308
CREATED:20230511T190228Z
LAST-MODIFIED:20230511T190449Z
UID:10000377-1753210800-1753216200@holyspiritmgm.org
SUMMARY:Adult Choir Practice
DESCRIPTION:
URL:https://holyspiritmgm.org/event/adult-choir-practice/2025-07-22/
END:VEVENT
BEGIN:VEVENT
DTSTART;TZID=America/Chicago:20250723T090000
DTEND;TZID=America/Chicago:20250724T090000
DTSTAMP:20260420T214308
CREATED:20230511T190633Z
LAST-MODIFIED:20230511T213547Z
UID:10000639-1753261200-1753347600@holyspiritmgm.org
SUMMARY:Eucharistic Adoration
DESCRIPTION:Begins 9am Wednesday until 8am Thursday
URL:https://holyspiritmgm.org/event/eucharistic-adoration/2025-07-23/
END:VEVENT
BEGIN:VEVENT
DTSTART;TZID=America/Chicago:20250723T173000
DTEND;TZID=America/Chicago:20250723T181500
DTSTAMP:20260420T214308
CREATED:20230511T213850Z
LAST-MODIFIED:20230511T214027Z
UID:10001163-1753291800-1753294500@holyspiritmgm.org
SUMMARY:Men of St. Joseph
DESCRIPTION:Meet in the Library
URL:https://holyspiritmgm.org/event/men-of-st-joseph/2025-07-23/
END:VEVENT
BEGIN:VEVENT
DTSTART;TZID=America/Chicago:20250723T173000
DTEND;TZID=America/Chicago:20250723T183000
DTSTAMP:20260420T214308
CREATED:20230511T213706Z
LAST-MODIFIED:20230511T213706Z
UID:10000901-1753291800-1753295400@holyspiritmgm.org
SUMMARY:Daughters of Mary
DESCRIPTION:
URL:https://holyspiritmgm.org/event/daughters-of-mary/2025-07-23/
END:VEVENT
BEGIN:VEVENT
DTSTART;TZID=America/Chicago:20250723T190000
DTEND;TZID=America/Chicago:20250723T203000
DTSTAMP:20260420T214308
CREATED:20230511T214255Z
LAST-MODIFIED:20230511T214255Z
UID:10001425-1753297200-1753302600@holyspiritmgm.org
SUMMARY:Adult Bible Study
DESCRIPTION:Meet in the Library
URL:https://holyspiritmgm.org/event/adult-bible-study/2025-07-23/
END:VEVENT
BEGIN:VEVENT
DTSTART;TZID=America/Chicago:20250723T190000
DTEND;TZID=America/Chicago:20250723T203000
DTSTAMP:20260420T214308
CREATED:20230511T214433Z
LAST-MODIFIED:20230511T214433Z
UID:10001687-1753297200-1753302600@holyspiritmgm.org
SUMMARY:Youth Group
DESCRIPTION:Meet in the Parish Hall
URL:https://holyspiritmgm.org/event/youth-group/2025-07-23/
END:VEVENT
BEGIN:VEVENT
DTSTART;TZID=America/Chicago:20250727T091500
DTEND;TZID=America/Chicago:20250727T104500
DTSTAMP:20260420T214308
CREATED:20230511T214810Z
LAST-MODIFIED:20230511T214810Z
UID:10001949-1753607700-1753613100@holyspiritmgm.org
SUMMARY:Adult Faith Formation Class
DESCRIPTION:Meet in the Parish Hall
URL:https://holyspiritmgm.org/event/adult-faith-formation-class/2025-07-27/
END:VEVENT
BEGIN:VEVENT
DTSTART;TZID=America/Chicago:20250727T091500
DTEND;TZID=America/Chicago:20250727T104500
DTSTAMP:20260420T214308
CREATED:20230511T215038Z
LAST-MODIFIED:20230511T215112Z
UID:10002210-1753607700-1753613100@holyspiritmgm.org
SUMMARY:Children Faith Formation
DESCRIPTION:Meet in the School
URL:https://holyspiritmgm.org/event/children-faith-formation/2025-07-27/
END:VEVENT
BEGIN:VEVENT
DTSTART;TZID=America/Chicago:20250729T090000
DTEND;TZID=America/Chicago:20250729T110000
DTSTAMP:20260420T214308
CREATED:20230511T185318Z
LAST-MODIFIED:20230511T185951Z
UID:10000116-1753779600-1753786800@holyspiritmgm.org
SUMMARY:Knitting and Crocheting Meeting
DESCRIPTION:Meet in the Library. \nQuestions\, Contact Peggy Comer 828-490-7976
URL:https://holyspiritmgm.org/event/knitting-and-crocheting-meeting/2025-07-29/
END:VEVENT
BEGIN:VEVENT
DTSTART;TZID=America/Chicago:20250729T190000
DTEND;TZID=America/Chicago:20250729T203000
DTSTAMP:20260420T214308
CREATED:20230511T190228Z
LAST-MODIFIED:20230511T190449Z
UID:10000378-1753815600-1753821000@holyspiritmgm.org
SUMMARY:Adult Choir Practice
DESCRIPTION:
URL:https://holyspiritmgm.org/event/adult-choir-practice/2025-07-29/
END:VEVENT
BEGIN:VEVENT
DTSTART;TZID=America/Chicago:20250730T090000
DTEND;TZID=America/Chicago:20250731T090000
DTSTAMP:20260420T214308
CREATED:20230511T190633Z
LAST-MODIFIED:20230511T213547Z
UID:10000640-1753866000-1753952400@holyspiritmgm.org
SUMMARY:Eucharistic Adoration
DESCRIPTION:Begins 9am Wednesday until 8am Thursday
URL:https://holyspiritmgm.org/event/eucharistic-adoration/2025-07-30/
END:VEVENT
BEGIN:VEVENT
DTSTART;TZID=America/Chicago:20250730T173000
DTEND;TZID=America/Chicago:20250730T181500
DTSTAMP:20260420T214308
CREATED:20230511T213850Z
LAST-MODIFIED:20230511T214027Z
UID:10001164-1753896600-1753899300@holyspiritmgm.org
SUMMARY:Men of St. Joseph
DESCRIPTION:Meet in the Library
URL:https://holyspiritmgm.org/event/men-of-st-joseph/2025-07-30/
END:VEVENT
BEGIN:VEVENT
DTSTART;TZID=America/Chicago:20250730T173000
DTEND;TZID=America/Chicago:20250730T183000
DTSTAMP:20260420T214308
CREATED:20230511T213706Z
LAST-MODIFIED:20230511T213706Z
UID:10000902-1753896600-1753900200@holyspiritmgm.org
SUMMARY:Daughters of Mary
DESCRIPTION:
URL:https://holyspiritmgm.org/event/daughters-of-mary/2025-07-30/
END:VEVENT
BEGIN:VEVENT
DTSTART;TZID=America/Chicago:20250730T190000
DTEND;TZID=America/Chicago:20250730T203000
DTSTAMP:20260420T214308
CREATED:20230511T214255Z
LAST-MODIFIED:20230511T214255Z
UID:10001426-1753902000-1753907400@holyspiritmgm.org
SUMMARY:Adult Bible Study
DESCRIPTION:Meet in the Library
URL:https://holyspiritmgm.org/event/adult-bible-study/2025-07-30/
END:VEVENT
BEGIN:VEVENT
DTSTART;TZID=America/Chicago:20250730T190000
DTEND;TZID=America/Chicago:20250730T203000
DTSTAMP:20260420T214308
CREATED:20230511T214433Z
LAST-MODIFIED:20230511T214433Z
UID:10001688-1753902000-1753907400@holyspiritmgm.org
SUMMARY:Youth Group
DESCRIPTION:Meet in the Parish Hall
URL:https://holyspiritmgm.org/event/youth-group/2025-07-30/
END:VEVENT
BEGIN:VEVENT
DTSTART;TZID=America/Chicago:20250803T091500
DTEND;TZID=America/Chicago:20250803T104500
DTSTAMP:20260420T214308
CREATED:20230511T214810Z
LAST-MODIFIED:20230511T214810Z
UID:10001950-1754212500-1754217900@holyspiritmgm.org
SUMMARY:Adult Faith Formation Class
DESCRIPTION:Meet in the Parish Hall
URL:https://holyspiritmgm.org/event/adult-faith-formation-class/2025-08-03/
END:VEVENT
BEGIN:VEVENT
DTSTART;TZID=America/Chicago:20250803T091500
DTEND;TZID=America/Chicago:20250803T104500
DTSTAMP:20260420T214308
CREATED:20230511T215038Z
LAST-MODIFIED:20230511T215112Z
UID:10002211-1754212500-1754217900@holyspiritmgm.org
SUMMARY:Children Faith Formation
DESCRIPTION:Meet in the School
URL:https://holyspiritmgm.org/event/children-faith-formation/2025-08-03/
END:VEVENT
BEGIN:VEVENT
DTSTART;TZID=America/Chicago:20250805T090000
DTEND;TZID=America/Chicago:20250805T110000
DTSTAMP:20260420T214308
CREATED:20230511T185318Z
LAST-MODIFIED:20230511T185951Z
UID:10000117-1754384400-1754391600@holyspiritmgm.org
SUMMARY:Knitting and Crocheting Meeting
DESCRIPTION:Meet in the Library. \nQuestions\, Contact Peggy Comer 828-490-7976
URL:https://holyspiritmgm.org/event/knitting-and-crocheting-meeting/2025-08-05/
END:VEVENT
BEGIN:VEVENT
DTSTART;TZID=America/Chicago:20250805T190000
DTEND;TZID=America/Chicago:20250805T203000
DTSTAMP:20260420T214308
CREATED:20230511T190228Z
LAST-MODIFIED:20230511T190449Z
UID:10000379-1754420400-1754425800@holyspiritmgm.org
SUMMARY:Adult Choir Practice
DESCRIPTION:
URL:https://holyspiritmgm.org/event/adult-choir-practice/2025-08-05/
END:VEVENT
BEGIN:VEVENT
DTSTART;TZID=America/Chicago:20250806T090000
DTEND;TZID=America/Chicago:20250807T090000
DTSTAMP:20260420T214308
CREATED:20230511T190633Z
LAST-MODIFIED:20230511T213547Z
UID:10000641-1754470800-1754557200@holyspiritmgm.org
SUMMARY:Eucharistic Adoration
DESCRIPTION:Begins 9am Wednesday until 8am Thursday
URL:https://holyspiritmgm.org/event/eucharistic-adoration/2025-08-06/
END:VEVENT
BEGIN:VEVENT
DTSTART;TZID=America/Chicago:20250806T173000
DTEND;TZID=America/Chicago:20250806T181500
DTSTAMP:20260420T214308
CREATED:20230511T213850Z
LAST-MODIFIED:20230511T214027Z
UID:10001165-1754501400-1754504100@holyspiritmgm.org
SUMMARY:Men of St. Joseph
DESCRIPTION:Meet in the Library
URL:https://holyspiritmgm.org/event/men-of-st-joseph/2025-08-06/
END:VEVENT
BEGIN:VEVENT
DTSTART;TZID=America/Chicago:20250806T173000
DTEND;TZID=America/Chicago:20250806T183000
DTSTAMP:20260420T214308
CREATED:20230511T213706Z
LAST-MODIFIED:20230511T213706Z
UID:10000903-1754501400-1754505000@holyspiritmgm.org
SUMMARY:Daughters of Mary
DESCRIPTION:
URL:https://holyspiritmgm.org/event/daughters-of-mary/2025-08-06/
END:VEVENT
BEGIN:VEVENT
DTSTART;TZID=America/Chicago:20250806T190000
DTEND;TZID=America/Chicago:20250806T203000
DTSTAMP:20260420T214308
CREATED:20230511T214255Z
LAST-MODIFIED:20230511T214255Z
UID:10001427-1754506800-1754512200@holyspiritmgm.org
SUMMARY:Adult Bible Study
DESCRIPTION:Meet in the Library
URL:https://holyspiritmgm.org/event/adult-bible-study/2025-08-06/
END:VEVENT
BEGIN:VEVENT
DTSTART;TZID=America/Chicago:20250806T190000
DTEND;TZID=America/Chicago:20250806T203000
DTSTAMP:20260420T214308
CREATED:20230511T214433Z
LAST-MODIFIED:20230511T214433Z
UID:10001689-1754506800-1754512200@holyspiritmgm.org
SUMMARY:Youth Group
DESCRIPTION:Meet in the Parish Hall
URL:https://holyspiritmgm.org/event/youth-group/2025-08-06/
END:VEVENT
BEGIN:VEVENT
DTSTART;TZID=America/Chicago:20250810T091500
DTEND;TZID=America/Chicago:20250810T104500
DTSTAMP:20260420T214308
CREATED:20230511T214810Z
LAST-MODIFIED:20230511T214810Z
UID:10001951-1754817300-1754822700@holyspiritmgm.org
SUMMARY:Adult Faith Formation Class
DESCRIPTION:Meet in the Parish Hall
URL:https://holyspiritmgm.org/event/adult-faith-formation-class/2025-08-10/
END:VEVENT
BEGIN:VEVENT
DTSTART;TZID=America/Chicago:20250810T091500
DTEND;TZID=America/Chicago:20250810T104500
DTSTAMP:20260420T214308
CREATED:20230511T215038Z
LAST-MODIFIED:20230511T215112Z
UID:10002212-1754817300-1754822700@holyspiritmgm.org
SUMMARY:Children Faith Formation
DESCRIPTION:Meet in the School
URL:https://holyspiritmgm.org/event/children-faith-formation/2025-08-10/
END:VEVENT
BEGIN:VEVENT
DTSTART;TZID=America/Chicago:20250812T090000
DTEND;TZID=America/Chicago:20250812T110000
DTSTAMP:20260420T214308
CREATED:20230511T185318Z
LAST-MODIFIED:20230511T185951Z
UID:10000118-1754989200-1754996400@holyspiritmgm.org
SUMMARY:Knitting and Crocheting Meeting
DESCRIPTION:Meet in the Library. \nQuestions\, Contact Peggy Comer 828-490-7976
URL:https://holyspiritmgm.org/event/knitting-and-crocheting-meeting/2025-08-12/
END:VEVENT
END:VCALENDAR