BEGIN:VCALENDAR
VERSION:2.0
PRODID:-//Holy Spirit Catholic Church - ECPv6.15.20//NONSGML v1.0//EN
CALSCALE:GREGORIAN
METHOD:PUBLISH
X-ORIGINAL-URL:https://holyspiritmgm.org
X-WR-CALDESC:Events for Holy Spirit Catholic Church
REFRESH-INTERVAL;VALUE=DURATION:PT1H
X-Robots-Tag:noindex
X-PUBLISHED-TTL:PT1H
BEGIN:VTIMEZONE
TZID:America/Chicago
BEGIN:DAYLIGHT
TZOFFSETFROM:-0600
TZOFFSETTO:-0500
TZNAME:CDT
DTSTART:20240310T080000
END:DAYLIGHT
BEGIN:STANDARD
TZOFFSETFROM:-0500
TZOFFSETTO:-0600
TZNAME:CST
DTSTART:20241103T070000
END:STANDARD
BEGIN:DAYLIGHT
TZOFFSETFROM:-0600
TZOFFSETTO:-0500
TZNAME:CDT
DTSTART:20250309T080000
END:DAYLIGHT
BEGIN:STANDARD
TZOFFSETFROM:-0500
TZOFFSETTO:-0600
TZNAME:CST
DTSTART:20251102T070000
END:STANDARD
BEGIN:DAYLIGHT
TZOFFSETFROM:-0600
TZOFFSETTO:-0500
TZNAME:CDT
DTSTART:20260308T080000
END:DAYLIGHT
BEGIN:STANDARD
TZOFFSETFROM:-0500
TZOFFSETTO:-0600
TZNAME:CST
DTSTART:20261101T070000
END:STANDARD
END:VTIMEZONE
BEGIN:VEVENT
DTSTART;TZID=America/Chicago:20251109T091500
DTEND;TZID=America/Chicago:20251109T104500
DTSTAMP:20260421T073556
CREATED:20230511T214810Z
LAST-MODIFIED:20230511T214810Z
UID:10001964-1762679700-1762685100@holyspiritmgm.org
SUMMARY:Adult Faith Formation Class
DESCRIPTION:Meet in the Parish Hall
URL:https://holyspiritmgm.org/event/adult-faith-formation-class/2025-11-09/
END:VEVENT
BEGIN:VEVENT
DTSTART;TZID=America/Chicago:20251109T091500
DTEND;TZID=America/Chicago:20251109T104500
DTSTAMP:20260421T073556
CREATED:20230511T215038Z
LAST-MODIFIED:20230511T215112Z
UID:10002225-1762679700-1762685100@holyspiritmgm.org
SUMMARY:Children Faith Formation
DESCRIPTION:Meet in the School
URL:https://holyspiritmgm.org/event/children-faith-formation/2025-11-09/
END:VEVENT
BEGIN:VEVENT
DTSTART;TZID=America/Chicago:20251111T090000
DTEND;TZID=America/Chicago:20251111T110000
DTSTAMP:20260421T073556
CREATED:20230511T185318Z
LAST-MODIFIED:20230511T185951Z
UID:10000131-1762851600-1762858800@holyspiritmgm.org
SUMMARY:Knitting and Crocheting Meeting
DESCRIPTION:Meet in the Library. \nQuestions\, Contact Peggy Comer 828-490-7976
URL:https://holyspiritmgm.org/event/knitting-and-crocheting-meeting/2025-11-11/
END:VEVENT
BEGIN:VEVENT
DTSTART;TZID=America/Chicago:20251111T190000
DTEND;TZID=America/Chicago:20251111T203000
DTSTAMP:20260421T073556
CREATED:20230511T190228Z
LAST-MODIFIED:20230511T190449Z
UID:10000393-1762887600-1762893000@holyspiritmgm.org
SUMMARY:Adult Choir Practice
DESCRIPTION:
URL:https://holyspiritmgm.org/event/adult-choir-practice/2025-11-11/
END:VEVENT
BEGIN:VEVENT
DTSTART;TZID=America/Chicago:20251112T090000
DTEND;TZID=America/Chicago:20251113T090000
DTSTAMP:20260421T073556
CREATED:20230511T190633Z
LAST-MODIFIED:20230511T213547Z
UID:10000655-1762938000-1763024400@holyspiritmgm.org
SUMMARY:Eucharistic Adoration
DESCRIPTION:Begins 9am Wednesday until 8am Thursday
URL:https://holyspiritmgm.org/event/eucharistic-adoration/2025-11-12/
END:VEVENT
BEGIN:VEVENT
DTSTART;TZID=America/Chicago:20251112T173000
DTEND;TZID=America/Chicago:20251112T181500
DTSTAMP:20260421T073556
CREATED:20230511T213850Z
LAST-MODIFIED:20230511T214027Z
UID:10001179-1762968600-1762971300@holyspiritmgm.org
SUMMARY:Men of St. Joseph
DESCRIPTION:Meet in the Library
URL:https://holyspiritmgm.org/event/men-of-st-joseph/2025-11-12/
END:VEVENT
BEGIN:VEVENT
DTSTART;TZID=America/Chicago:20251112T173000
DTEND;TZID=America/Chicago:20251112T183000
DTSTAMP:20260421T073556
CREATED:20230511T213706Z
LAST-MODIFIED:20230511T213706Z
UID:10000917-1762968600-1762972200@holyspiritmgm.org
SUMMARY:Daughters of Mary
DESCRIPTION:
URL:https://holyspiritmgm.org/event/daughters-of-mary/2025-11-12/
END:VEVENT
BEGIN:VEVENT
DTSTART;TZID=America/Chicago:20251112T190000
DTEND;TZID=America/Chicago:20251112T203000
DTSTAMP:20260421T073556
CREATED:20230511T214255Z
LAST-MODIFIED:20230511T214255Z
UID:10001441-1762974000-1762979400@holyspiritmgm.org
SUMMARY:Adult Bible Study
DESCRIPTION:Meet in the Library
URL:https://holyspiritmgm.org/event/adult-bible-study/2025-11-12/
END:VEVENT
BEGIN:VEVENT
DTSTART;TZID=America/Chicago:20251112T190000
DTEND;TZID=America/Chicago:20251112T203000
DTSTAMP:20260421T073556
CREATED:20230511T214433Z
LAST-MODIFIED:20230511T214433Z
UID:10001703-1762974000-1762979400@holyspiritmgm.org
SUMMARY:Youth Group
DESCRIPTION:Meet in the Parish Hall
URL:https://holyspiritmgm.org/event/youth-group/2025-11-12/
END:VEVENT
BEGIN:VEVENT
DTSTART;TZID=America/Chicago:20251116T091500
DTEND;TZID=America/Chicago:20251116T104500
DTSTAMP:20260421T073556
CREATED:20230511T214810Z
LAST-MODIFIED:20230511T214810Z
UID:10001965-1763284500-1763289900@holyspiritmgm.org
SUMMARY:Adult Faith Formation Class
DESCRIPTION:Meet in the Parish Hall
URL:https://holyspiritmgm.org/event/adult-faith-formation-class/2025-11-16/
END:VEVENT
BEGIN:VEVENT
DTSTART;TZID=America/Chicago:20251116T091500
DTEND;TZID=America/Chicago:20251116T104500
DTSTAMP:20260421T073556
CREATED:20230511T215038Z
LAST-MODIFIED:20230511T215112Z
UID:10002226-1763284500-1763289900@holyspiritmgm.org
SUMMARY:Children Faith Formation
DESCRIPTION:Meet in the School
URL:https://holyspiritmgm.org/event/children-faith-formation/2025-11-16/
END:VEVENT
BEGIN:VEVENT
DTSTART;TZID=America/Chicago:20251118T090000
DTEND;TZID=America/Chicago:20251118T110000
DTSTAMP:20260421T073556
CREATED:20230511T185318Z
LAST-MODIFIED:20230511T185951Z
UID:10000132-1763456400-1763463600@holyspiritmgm.org
SUMMARY:Knitting and Crocheting Meeting
DESCRIPTION:Meet in the Library. \nQuestions\, Contact Peggy Comer 828-490-7976
URL:https://holyspiritmgm.org/event/knitting-and-crocheting-meeting/2025-11-18/
END:VEVENT
BEGIN:VEVENT
DTSTART;TZID=America/Chicago:20251118T190000
DTEND;TZID=America/Chicago:20251118T203000
DTSTAMP:20260421T073556
CREATED:20230511T190228Z
LAST-MODIFIED:20230511T190449Z
UID:10000394-1763492400-1763497800@holyspiritmgm.org
SUMMARY:Adult Choir Practice
DESCRIPTION:
URL:https://holyspiritmgm.org/event/adult-choir-practice/2025-11-18/
END:VEVENT
BEGIN:VEVENT
DTSTART;TZID=America/Chicago:20251119T090000
DTEND;TZID=America/Chicago:20251120T090000
DTSTAMP:20260421T073556
CREATED:20230511T190633Z
LAST-MODIFIED:20230511T213547Z
UID:10000656-1763542800-1763629200@holyspiritmgm.org
SUMMARY:Eucharistic Adoration
DESCRIPTION:Begins 9am Wednesday until 8am Thursday
URL:https://holyspiritmgm.org/event/eucharistic-adoration/2025-11-19/
END:VEVENT
BEGIN:VEVENT
DTSTART;TZID=America/Chicago:20251119T173000
DTEND;TZID=America/Chicago:20251119T181500
DTSTAMP:20260421T073556
CREATED:20230511T213850Z
LAST-MODIFIED:20230511T214027Z
UID:10001180-1763573400-1763576100@holyspiritmgm.org
SUMMARY:Men of St. Joseph
DESCRIPTION:Meet in the Library
URL:https://holyspiritmgm.org/event/men-of-st-joseph/2025-11-19/
END:VEVENT
BEGIN:VEVENT
DTSTART;TZID=America/Chicago:20251119T173000
DTEND;TZID=America/Chicago:20251119T183000
DTSTAMP:20260421T073556
CREATED:20230511T213706Z
LAST-MODIFIED:20230511T213706Z
UID:10000918-1763573400-1763577000@holyspiritmgm.org
SUMMARY:Daughters of Mary
DESCRIPTION:
URL:https://holyspiritmgm.org/event/daughters-of-mary/2025-11-19/
END:VEVENT
BEGIN:VEVENT
DTSTART;TZID=America/Chicago:20251119T190000
DTEND;TZID=America/Chicago:20251119T203000
DTSTAMP:20260421T073556
CREATED:20230511T214255Z
LAST-MODIFIED:20230511T214255Z
UID:10001442-1763578800-1763584200@holyspiritmgm.org
SUMMARY:Adult Bible Study
DESCRIPTION:Meet in the Library
URL:https://holyspiritmgm.org/event/adult-bible-study/2025-11-19/
END:VEVENT
BEGIN:VEVENT
DTSTART;TZID=America/Chicago:20251119T190000
DTEND;TZID=America/Chicago:20251119T203000
DTSTAMP:20260421T073556
CREATED:20230511T214433Z
LAST-MODIFIED:20230511T214433Z
UID:10001704-1763578800-1763584200@holyspiritmgm.org
SUMMARY:Youth Group
DESCRIPTION:Meet in the Parish Hall
URL:https://holyspiritmgm.org/event/youth-group/2025-11-19/
END:VEVENT
BEGIN:VEVENT
DTSTART;TZID=America/Chicago:20251123T091500
DTEND;TZID=America/Chicago:20251123T104500
DTSTAMP:20260421T073556
CREATED:20230511T214810Z
LAST-MODIFIED:20230511T214810Z
UID:10001966-1763889300-1763894700@holyspiritmgm.org
SUMMARY:Adult Faith Formation Class
DESCRIPTION:Meet in the Parish Hall
URL:https://holyspiritmgm.org/event/adult-faith-formation-class/2025-11-23/
END:VEVENT
BEGIN:VEVENT
DTSTART;TZID=America/Chicago:20251123T091500
DTEND;TZID=America/Chicago:20251123T104500
DTSTAMP:20260421T073556
CREATED:20230511T215038Z
LAST-MODIFIED:20230511T215112Z
UID:10002227-1763889300-1763894700@holyspiritmgm.org
SUMMARY:Children Faith Formation
DESCRIPTION:Meet in the School
URL:https://holyspiritmgm.org/event/children-faith-formation/2025-11-23/
END:VEVENT
BEGIN:VEVENT
DTSTART;TZID=America/Chicago:20251125T090000
DTEND;TZID=America/Chicago:20251125T110000
DTSTAMP:20260421T073556
CREATED:20230511T185318Z
LAST-MODIFIED:20230511T185951Z
UID:10000133-1764061200-1764068400@holyspiritmgm.org
SUMMARY:Knitting and Crocheting Meeting
DESCRIPTION:Meet in the Library. \nQuestions\, Contact Peggy Comer 828-490-7976
URL:https://holyspiritmgm.org/event/knitting-and-crocheting-meeting/2025-11-25/
END:VEVENT
BEGIN:VEVENT
DTSTART;TZID=America/Chicago:20251125T190000
DTEND;TZID=America/Chicago:20251125T203000
DTSTAMP:20260421T073556
CREATED:20230511T190228Z
LAST-MODIFIED:20230511T190449Z
UID:10000395-1764097200-1764102600@holyspiritmgm.org
SUMMARY:Adult Choir Practice
DESCRIPTION:
URL:https://holyspiritmgm.org/event/adult-choir-practice/2025-11-25/
END:VEVENT
BEGIN:VEVENT
DTSTART;TZID=America/Chicago:20251126T090000
DTEND;TZID=America/Chicago:20251127T090000
DTSTAMP:20260421T073556
CREATED:20230511T190633Z
LAST-MODIFIED:20230511T213547Z
UID:10000657-1764147600-1764234000@holyspiritmgm.org
SUMMARY:Eucharistic Adoration
DESCRIPTION:Begins 9am Wednesday until 8am Thursday
URL:https://holyspiritmgm.org/event/eucharistic-adoration/2025-11-26/
END:VEVENT
BEGIN:VEVENT
DTSTART;TZID=America/Chicago:20251126T173000
DTEND;TZID=America/Chicago:20251126T181500
DTSTAMP:20260421T073556
CREATED:20230511T213850Z
LAST-MODIFIED:20230511T214027Z
UID:10001181-1764178200-1764180900@holyspiritmgm.org
SUMMARY:Men of St. Joseph
DESCRIPTION:Meet in the Library
URL:https://holyspiritmgm.org/event/men-of-st-joseph/2025-11-26/
END:VEVENT
BEGIN:VEVENT
DTSTART;TZID=America/Chicago:20251126T173000
DTEND;TZID=America/Chicago:20251126T183000
DTSTAMP:20260421T073556
CREATED:20230511T213706Z
LAST-MODIFIED:20230511T213706Z
UID:10000919-1764178200-1764181800@holyspiritmgm.org
SUMMARY:Daughters of Mary
DESCRIPTION:
URL:https://holyspiritmgm.org/event/daughters-of-mary/2025-11-26/
END:VEVENT
BEGIN:VEVENT
DTSTART;TZID=America/Chicago:20251126T190000
DTEND;TZID=America/Chicago:20251126T203000
DTSTAMP:20260421T073556
CREATED:20230511T214255Z
LAST-MODIFIED:20230511T214255Z
UID:10001443-1764183600-1764189000@holyspiritmgm.org
SUMMARY:Adult Bible Study
DESCRIPTION:Meet in the Library
URL:https://holyspiritmgm.org/event/adult-bible-study/2025-11-26/
END:VEVENT
BEGIN:VEVENT
DTSTART;TZID=America/Chicago:20251126T190000
DTEND;TZID=America/Chicago:20251126T203000
DTSTAMP:20260421T073556
CREATED:20230511T214433Z
LAST-MODIFIED:20230511T214433Z
UID:10001705-1764183600-1764189000@holyspiritmgm.org
SUMMARY:Youth Group
DESCRIPTION:Meet in the Parish Hall
URL:https://holyspiritmgm.org/event/youth-group/2025-11-26/
END:VEVENT
BEGIN:VEVENT
DTSTART;TZID=America/Chicago:20251130T091500
DTEND;TZID=America/Chicago:20251130T104500
DTSTAMP:20260421T073556
CREATED:20230511T214810Z
LAST-MODIFIED:20230511T214810Z
UID:10001967-1764494100-1764499500@holyspiritmgm.org
SUMMARY:Adult Faith Formation Class
DESCRIPTION:Meet in the Parish Hall
URL:https://holyspiritmgm.org/event/adult-faith-formation-class/2025-11-30/
END:VEVENT
BEGIN:VEVENT
DTSTART;TZID=America/Chicago:20251130T091500
DTEND;TZID=America/Chicago:20251130T104500
DTSTAMP:20260421T073556
CREATED:20230511T215038Z
LAST-MODIFIED:20230511T215112Z
UID:10002228-1764494100-1764499500@holyspiritmgm.org
SUMMARY:Children Faith Formation
DESCRIPTION:Meet in the School
URL:https://holyspiritmgm.org/event/children-faith-formation/2025-11-30/
END:VEVENT
BEGIN:VEVENT
DTSTART;TZID=America/Chicago:20251202T090000
DTEND;TZID=America/Chicago:20251202T110000
DTSTAMP:20260421T073556
CREATED:20230511T185318Z
LAST-MODIFIED:20230511T185951Z
UID:10000134-1764666000-1764673200@holyspiritmgm.org
SUMMARY:Knitting and Crocheting Meeting
DESCRIPTION:Meet in the Library. \nQuestions\, Contact Peggy Comer 828-490-7976
URL:https://holyspiritmgm.org/event/knitting-and-crocheting-meeting/2025-12-02/
END:VEVENT
END:VCALENDAR