BEGIN:VCALENDAR
VERSION:2.0
PRODID:-//Holy Spirit Catholic Church - ECPv6.15.20//NONSGML v1.0//EN
CALSCALE:GREGORIAN
METHOD:PUBLISH
X-ORIGINAL-URL:https://holyspiritmgm.org
X-WR-CALDESC:Events for Holy Spirit Catholic Church
REFRESH-INTERVAL;VALUE=DURATION:PT1H
X-Robots-Tag:noindex
X-PUBLISHED-TTL:PT1H
BEGIN:VTIMEZONE
TZID:America/Chicago
BEGIN:DAYLIGHT
TZOFFSETFROM:-0600
TZOFFSETTO:-0500
TZNAME:CDT
DTSTART:20220313T080000
END:DAYLIGHT
BEGIN:STANDARD
TZOFFSETFROM:-0500
TZOFFSETTO:-0600
TZNAME:CST
DTSTART:20221106T070000
END:STANDARD
BEGIN:DAYLIGHT
TZOFFSETFROM:-0600
TZOFFSETTO:-0500
TZNAME:CDT
DTSTART:20230312T080000
END:DAYLIGHT
BEGIN:STANDARD
TZOFFSETFROM:-0500
TZOFFSETTO:-0600
TZNAME:CST
DTSTART:20231105T070000
END:STANDARD
BEGIN:DAYLIGHT
TZOFFSETFROM:-0600
TZOFFSETTO:-0500
TZNAME:CDT
DTSTART:20240310T080000
END:DAYLIGHT
BEGIN:STANDARD
TZOFFSETFROM:-0500
TZOFFSETTO:-0600
TZNAME:CST
DTSTART:20241103T070000
END:STANDARD
END:VTIMEZONE
BEGIN:VEVENT
DTSTART;TZID=America/Chicago:20230816T173000
DTEND;TZID=America/Chicago:20230816T181500
DTSTAMP:20260423T060746
CREATED:20230511T213850Z
LAST-MODIFIED:20230511T214027Z
UID:10001062-1692207000-1692209700@holyspiritmgm.org
SUMMARY:Men of St. Joseph
DESCRIPTION:Meet in the Library
URL:https://holyspiritmgm.org/event/men-of-st-joseph/2023-08-16/
END:VEVENT
BEGIN:VEVENT
DTSTART;TZID=America/Chicago:20230816T173000
DTEND;TZID=America/Chicago:20230816T183000
DTSTAMP:20260423T060747
CREATED:20230511T213706Z
LAST-MODIFIED:20230511T213706Z
UID:10000800-1692207000-1692210600@holyspiritmgm.org
SUMMARY:Daughters of Mary
DESCRIPTION:
URL:https://holyspiritmgm.org/event/daughters-of-mary/2023-08-16/
END:VEVENT
BEGIN:VEVENT
DTSTART;TZID=America/Chicago:20230816T190000
DTEND;TZID=America/Chicago:20230816T203000
DTSTAMP:20260423T060747
CREATED:20230511T214255Z
LAST-MODIFIED:20230511T214255Z
UID:10001324-1692212400-1692217800@holyspiritmgm.org
SUMMARY:Adult Bible Study
DESCRIPTION:Meet in the Library
URL:https://holyspiritmgm.org/event/adult-bible-study/2023-08-16/
END:VEVENT
BEGIN:VEVENT
DTSTART;TZID=America/Chicago:20230816T190000
DTEND;TZID=America/Chicago:20230816T203000
DTSTAMP:20260423T060747
CREATED:20230511T214433Z
LAST-MODIFIED:20230511T214433Z
UID:10001586-1692212400-1692217800@holyspiritmgm.org
SUMMARY:Youth Group
DESCRIPTION:Meet in the Parish Hall
URL:https://holyspiritmgm.org/event/youth-group/2023-08-16/
END:VEVENT
BEGIN:VEVENT
DTSTART;TZID=America/Chicago:20230820T091500
DTEND;TZID=America/Chicago:20230820T104500
DTSTAMP:20260423T060747
CREATED:20230511T214810Z
LAST-MODIFIED:20230511T214810Z
UID:10001848-1692522900-1692528300@holyspiritmgm.org
SUMMARY:Adult Faith Formation Class
DESCRIPTION:Meet in the Parish Hall
URL:https://holyspiritmgm.org/event/adult-faith-formation-class/2023-08-20/
END:VEVENT
BEGIN:VEVENT
DTSTART;TZID=America/Chicago:20230820T091500
DTEND;TZID=America/Chicago:20230820T104500
DTSTAMP:20260423T060747
CREATED:20230511T215038Z
LAST-MODIFIED:20230511T215112Z
UID:10002109-1692522900-1692528300@holyspiritmgm.org
SUMMARY:Children Faith Formation
DESCRIPTION:Meet in the School
URL:https://holyspiritmgm.org/event/children-faith-formation/2023-08-20/
END:VEVENT
BEGIN:VEVENT
DTSTART;TZID=America/Chicago:20230822T090000
DTEND;TZID=America/Chicago:20230822T110000
DTSTAMP:20260423T060747
CREATED:20230511T185318Z
LAST-MODIFIED:20230511T185951Z
UID:10000015-1692694800-1692702000@holyspiritmgm.org
SUMMARY:Knitting and Crocheting Meeting
DESCRIPTION:Meet in the Library. \nQuestions\, Contact Peggy Comer 828-490-7976
URL:https://holyspiritmgm.org/event/knitting-and-crocheting-meeting/2023-08-22/
END:VEVENT
BEGIN:VEVENT
DTSTART;TZID=America/Chicago:20230822T190000
DTEND;TZID=America/Chicago:20230822T203000
DTSTAMP:20260423T060747
CREATED:20230511T190228Z
LAST-MODIFIED:20230511T190449Z
UID:10000277-1692730800-1692736200@holyspiritmgm.org
SUMMARY:Adult Choir Practice
DESCRIPTION:
URL:https://holyspiritmgm.org/event/adult-choir-practice/2023-08-22/
END:VEVENT
BEGIN:VEVENT
DTSTART;TZID=America/Chicago:20230823T090000
DTEND;TZID=America/Chicago:20230824T090000
DTSTAMP:20260423T060747
CREATED:20230511T190633Z
LAST-MODIFIED:20230511T213547Z
UID:10000539-1692781200-1692867600@holyspiritmgm.org
SUMMARY:Eucharistic Adoration
DESCRIPTION:Begins 9am Wednesday until 8am Thursday
URL:https://holyspiritmgm.org/event/eucharistic-adoration/2023-08-23/
END:VEVENT
BEGIN:VEVENT
DTSTART;TZID=America/Chicago:20230823T173000
DTEND;TZID=America/Chicago:20230823T181500
DTSTAMP:20260423T060747
CREATED:20230511T213850Z
LAST-MODIFIED:20230511T214027Z
UID:10001063-1692811800-1692814500@holyspiritmgm.org
SUMMARY:Men of St. Joseph
DESCRIPTION:Meet in the Library
URL:https://holyspiritmgm.org/event/men-of-st-joseph/2023-08-23/
END:VEVENT
BEGIN:VEVENT
DTSTART;TZID=America/Chicago:20230823T173000
DTEND;TZID=America/Chicago:20230823T183000
DTSTAMP:20260423T060747
CREATED:20230511T213706Z
LAST-MODIFIED:20230511T213706Z
UID:10000801-1692811800-1692815400@holyspiritmgm.org
SUMMARY:Daughters of Mary
DESCRIPTION:
URL:https://holyspiritmgm.org/event/daughters-of-mary/2023-08-23/
END:VEVENT
BEGIN:VEVENT
DTSTART;TZID=America/Chicago:20230823T190000
DTEND;TZID=America/Chicago:20230823T203000
DTSTAMP:20260423T060747
CREATED:20230511T214255Z
LAST-MODIFIED:20230511T214255Z
UID:10001325-1692817200-1692822600@holyspiritmgm.org
SUMMARY:Adult Bible Study
DESCRIPTION:Meet in the Library
URL:https://holyspiritmgm.org/event/adult-bible-study/2023-08-23/
END:VEVENT
BEGIN:VEVENT
DTSTART;TZID=America/Chicago:20230823T190000
DTEND;TZID=America/Chicago:20230823T203000
DTSTAMP:20260423T060747
CREATED:20230511T214433Z
LAST-MODIFIED:20230511T214433Z
UID:10001587-1692817200-1692822600@holyspiritmgm.org
SUMMARY:Youth Group
DESCRIPTION:Meet in the Parish Hall
URL:https://holyspiritmgm.org/event/youth-group/2023-08-23/
END:VEVENT
BEGIN:VEVENT
DTSTART;TZID=America/Chicago:20230827T091500
DTEND;TZID=America/Chicago:20230827T104500
DTSTAMP:20260423T060747
CREATED:20230511T214810Z
LAST-MODIFIED:20230511T214810Z
UID:10001849-1693127700-1693133100@holyspiritmgm.org
SUMMARY:Adult Faith Formation Class
DESCRIPTION:Meet in the Parish Hall
URL:https://holyspiritmgm.org/event/adult-faith-formation-class/2023-08-27/
END:VEVENT
BEGIN:VEVENT
DTSTART;TZID=America/Chicago:20230827T091500
DTEND;TZID=America/Chicago:20230827T104500
DTSTAMP:20260423T060747
CREATED:20230511T215038Z
LAST-MODIFIED:20230511T215112Z
UID:10002110-1693127700-1693133100@holyspiritmgm.org
SUMMARY:Children Faith Formation
DESCRIPTION:Meet in the School
URL:https://holyspiritmgm.org/event/children-faith-formation/2023-08-27/
END:VEVENT
BEGIN:VEVENT
DTSTART;TZID=America/Chicago:20230829T090000
DTEND;TZID=America/Chicago:20230829T110000
DTSTAMP:20260423T060747
CREATED:20230511T185318Z
LAST-MODIFIED:20230511T185951Z
UID:10000016-1693299600-1693306800@holyspiritmgm.org
SUMMARY:Knitting and Crocheting Meeting
DESCRIPTION:Meet in the Library. \nQuestions\, Contact Peggy Comer 828-490-7976
URL:https://holyspiritmgm.org/event/knitting-and-crocheting-meeting/2023-08-29/
END:VEVENT
BEGIN:VEVENT
DTSTART;TZID=America/Chicago:20230829T190000
DTEND;TZID=America/Chicago:20230829T203000
DTSTAMP:20260423T060747
CREATED:20230511T190228Z
LAST-MODIFIED:20230511T190449Z
UID:10000278-1693335600-1693341000@holyspiritmgm.org
SUMMARY:Adult Choir Practice
DESCRIPTION:
URL:https://holyspiritmgm.org/event/adult-choir-practice/2023-08-29/
END:VEVENT
BEGIN:VEVENT
DTSTART;TZID=America/Chicago:20230830T090000
DTEND;TZID=America/Chicago:20230831T090000
DTSTAMP:20260423T060747
CREATED:20230511T190633Z
LAST-MODIFIED:20230511T213547Z
UID:10000540-1693386000-1693472400@holyspiritmgm.org
SUMMARY:Eucharistic Adoration
DESCRIPTION:Begins 9am Wednesday until 8am Thursday
URL:https://holyspiritmgm.org/event/eucharistic-adoration/2023-08-30/
END:VEVENT
BEGIN:VEVENT
DTSTART;TZID=America/Chicago:20230830T173000
DTEND;TZID=America/Chicago:20230830T181500
DTSTAMP:20260423T060747
CREATED:20230511T213850Z
LAST-MODIFIED:20230511T214027Z
UID:10001064-1693416600-1693419300@holyspiritmgm.org
SUMMARY:Men of St. Joseph
DESCRIPTION:Meet in the Library
URL:https://holyspiritmgm.org/event/men-of-st-joseph/2023-08-30/
END:VEVENT
BEGIN:VEVENT
DTSTART;TZID=America/Chicago:20230830T173000
DTEND;TZID=America/Chicago:20230830T183000
DTSTAMP:20260423T060747
CREATED:20230511T213706Z
LAST-MODIFIED:20230511T213706Z
UID:10000802-1693416600-1693420200@holyspiritmgm.org
SUMMARY:Daughters of Mary
DESCRIPTION:
URL:https://holyspiritmgm.org/event/daughters-of-mary/2023-08-30/
END:VEVENT
BEGIN:VEVENT
DTSTART;TZID=America/Chicago:20230830T190000
DTEND;TZID=America/Chicago:20230830T203000
DTSTAMP:20260423T060747
CREATED:20230511T214255Z
LAST-MODIFIED:20230511T214255Z
UID:10001326-1693422000-1693427400@holyspiritmgm.org
SUMMARY:Adult Bible Study
DESCRIPTION:Meet in the Library
URL:https://holyspiritmgm.org/event/adult-bible-study/2023-08-30/
END:VEVENT
BEGIN:VEVENT
DTSTART;TZID=America/Chicago:20230830T190000
DTEND;TZID=America/Chicago:20230830T203000
DTSTAMP:20260423T060747
CREATED:20230511T214433Z
LAST-MODIFIED:20230511T214433Z
UID:10001588-1693422000-1693427400@holyspiritmgm.org
SUMMARY:Youth Group
DESCRIPTION:Meet in the Parish Hall
URL:https://holyspiritmgm.org/event/youth-group/2023-08-30/
END:VEVENT
BEGIN:VEVENT
DTSTART;TZID=America/Chicago:20230903T091500
DTEND;TZID=America/Chicago:20230903T104500
DTSTAMP:20260423T060747
CREATED:20230511T214810Z
LAST-MODIFIED:20230511T214810Z
UID:10001850-1693732500-1693737900@holyspiritmgm.org
SUMMARY:Adult Faith Formation Class
DESCRIPTION:Meet in the Parish Hall
URL:https://holyspiritmgm.org/event/adult-faith-formation-class/2023-09-03/
END:VEVENT
BEGIN:VEVENT
DTSTART;TZID=America/Chicago:20230903T091500
DTEND;TZID=America/Chicago:20230903T104500
DTSTAMP:20260423T060747
CREATED:20230511T215038Z
LAST-MODIFIED:20230511T215112Z
UID:10002111-1693732500-1693737900@holyspiritmgm.org
SUMMARY:Children Faith Formation
DESCRIPTION:Meet in the School
URL:https://holyspiritmgm.org/event/children-faith-formation/2023-09-03/
END:VEVENT
BEGIN:VEVENT
DTSTART;TZID=America/Chicago:20230905T090000
DTEND;TZID=America/Chicago:20230905T110000
DTSTAMP:20260423T060747
CREATED:20230511T185318Z
LAST-MODIFIED:20230511T185951Z
UID:10000017-1693904400-1693911600@holyspiritmgm.org
SUMMARY:Knitting and Crocheting Meeting
DESCRIPTION:Meet in the Library. \nQuestions\, Contact Peggy Comer 828-490-7976
URL:https://holyspiritmgm.org/event/knitting-and-crocheting-meeting/2023-09-05/
END:VEVENT
BEGIN:VEVENT
DTSTART;TZID=America/Chicago:20230905T190000
DTEND;TZID=America/Chicago:20230905T203000
DTSTAMP:20260423T060747
CREATED:20230511T190228Z
LAST-MODIFIED:20230511T190449Z
UID:10000279-1693940400-1693945800@holyspiritmgm.org
SUMMARY:Adult Choir Practice
DESCRIPTION:
URL:https://holyspiritmgm.org/event/adult-choir-practice/2023-09-05/
END:VEVENT
BEGIN:VEVENT
DTSTART;TZID=America/Chicago:20230906T090000
DTEND;TZID=America/Chicago:20230907T090000
DTSTAMP:20260423T060747
CREATED:20230511T190633Z
LAST-MODIFIED:20230511T213547Z
UID:10000541-1693990800-1694077200@holyspiritmgm.org
SUMMARY:Eucharistic Adoration
DESCRIPTION:Begins 9am Wednesday until 8am Thursday
URL:https://holyspiritmgm.org/event/eucharistic-adoration/2023-09-06/
END:VEVENT
BEGIN:VEVENT
DTSTART;TZID=America/Chicago:20230906T173000
DTEND;TZID=America/Chicago:20230906T181500
DTSTAMP:20260423T060747
CREATED:20230511T213850Z
LAST-MODIFIED:20230511T214027Z
UID:10001065-1694021400-1694024100@holyspiritmgm.org
SUMMARY:Men of St. Joseph
DESCRIPTION:Meet in the Library
URL:https://holyspiritmgm.org/event/men-of-st-joseph/2023-09-06/
END:VEVENT
BEGIN:VEVENT
DTSTART;TZID=America/Chicago:20230906T173000
DTEND;TZID=America/Chicago:20230906T183000
DTSTAMP:20260423T060747
CREATED:20230511T213706Z
LAST-MODIFIED:20230511T213706Z
UID:10000803-1694021400-1694025000@holyspiritmgm.org
SUMMARY:Daughters of Mary
DESCRIPTION:
URL:https://holyspiritmgm.org/event/daughters-of-mary/2023-09-06/
END:VEVENT
BEGIN:VEVENT
DTSTART;TZID=America/Chicago:20230906T190000
DTEND;TZID=America/Chicago:20230906T203000
DTSTAMP:20260423T060747
CREATED:20230511T214255Z
LAST-MODIFIED:20230511T214255Z
UID:10001327-1694026800-1694032200@holyspiritmgm.org
SUMMARY:Adult Bible Study
DESCRIPTION:Meet in the Library
URL:https://holyspiritmgm.org/event/adult-bible-study/2023-09-06/
END:VEVENT
END:VCALENDAR