BEGIN:VCALENDAR
VERSION:2.0
PRODID:-//Holy Spirit Catholic Church - ECPv6.15.20//NONSGML v1.0//EN
CALSCALE:GREGORIAN
METHOD:PUBLISH
X-ORIGINAL-URL:https://holyspiritmgm.org
X-WR-CALDESC:Events for Holy Spirit Catholic Church
REFRESH-INTERVAL;VALUE=DURATION:PT1H
X-Robots-Tag:noindex
X-PUBLISHED-TTL:PT1H
BEGIN:VTIMEZONE
TZID:America/Chicago
BEGIN:DAYLIGHT
TZOFFSETFROM:-0600
TZOFFSETTO:-0500
TZNAME:CDT
DTSTART:20220313T080000
END:DAYLIGHT
BEGIN:STANDARD
TZOFFSETFROM:-0500
TZOFFSETTO:-0600
TZNAME:CST
DTSTART:20221106T070000
END:STANDARD
BEGIN:DAYLIGHT
TZOFFSETFROM:-0600
TZOFFSETTO:-0500
TZNAME:CDT
DTSTART:20230312T080000
END:DAYLIGHT
BEGIN:STANDARD
TZOFFSETFROM:-0500
TZOFFSETTO:-0600
TZNAME:CST
DTSTART:20231105T070000
END:STANDARD
BEGIN:DAYLIGHT
TZOFFSETFROM:-0600
TZOFFSETTO:-0500
TZNAME:CDT
DTSTART:20240310T080000
END:DAYLIGHT
BEGIN:STANDARD
TZOFFSETFROM:-0500
TZOFFSETTO:-0600
TZNAME:CST
DTSTART:20241103T070000
END:STANDARD
END:VTIMEZONE
BEGIN:VEVENT
DTSTART;TZID=America/Chicago:20230912T090000
DTEND;TZID=America/Chicago:20230912T110000
DTSTAMP:20260423T044817
CREATED:20230511T185318Z
LAST-MODIFIED:20230511T185951Z
UID:10000018-1694509200-1694516400@holyspiritmgm.org
SUMMARY:Knitting and Crocheting Meeting
DESCRIPTION:Meet in the Library. \nQuestions\, Contact Peggy Comer 828-490-7976
URL:https://holyspiritmgm.org/event/knitting-and-crocheting-meeting/2023-09-12/
END:VEVENT
BEGIN:VEVENT
DTSTART;TZID=America/Chicago:20230912T190000
DTEND;TZID=America/Chicago:20230912T203000
DTSTAMP:20260423T044817
CREATED:20230511T190228Z
LAST-MODIFIED:20230511T190449Z
UID:10000280-1694545200-1694550600@holyspiritmgm.org
SUMMARY:Adult Choir Practice
DESCRIPTION:
URL:https://holyspiritmgm.org/event/adult-choir-practice/2023-09-12/
END:VEVENT
BEGIN:VEVENT
DTSTART;TZID=America/Chicago:20230913T090000
DTEND;TZID=America/Chicago:20230914T090000
DTSTAMP:20260423T044817
CREATED:20230511T190633Z
LAST-MODIFIED:20230511T213547Z
UID:10000542-1694595600-1694682000@holyspiritmgm.org
SUMMARY:Eucharistic Adoration
DESCRIPTION:Begins 9am Wednesday until 8am Thursday
URL:https://holyspiritmgm.org/event/eucharistic-adoration/2023-09-13/
END:VEVENT
BEGIN:VEVENT
DTSTART;TZID=America/Chicago:20230913T173000
DTEND;TZID=America/Chicago:20230913T181500
DTSTAMP:20260423T044817
CREATED:20230511T213850Z
LAST-MODIFIED:20230511T214027Z
UID:10001066-1694626200-1694628900@holyspiritmgm.org
SUMMARY:Men of St. Joseph
DESCRIPTION:Meet in the Library
URL:https://holyspiritmgm.org/event/men-of-st-joseph/2023-09-13/
END:VEVENT
BEGIN:VEVENT
DTSTART;TZID=America/Chicago:20230913T173000
DTEND;TZID=America/Chicago:20230913T183000
DTSTAMP:20260423T044817
CREATED:20230511T213706Z
LAST-MODIFIED:20230511T213706Z
UID:10000804-1694626200-1694629800@holyspiritmgm.org
SUMMARY:Daughters of Mary
DESCRIPTION:
URL:https://holyspiritmgm.org/event/daughters-of-mary/2023-09-13/
END:VEVENT
BEGIN:VEVENT
DTSTART;TZID=America/Chicago:20230913T190000
DTEND;TZID=America/Chicago:20230913T203000
DTSTAMP:20260423T044817
CREATED:20230511T214255Z
LAST-MODIFIED:20230511T214255Z
UID:10001328-1694631600-1694637000@holyspiritmgm.org
SUMMARY:Adult Bible Study
DESCRIPTION:Meet in the Library
URL:https://holyspiritmgm.org/event/adult-bible-study/2023-09-13/
END:VEVENT
BEGIN:VEVENT
DTSTART;TZID=America/Chicago:20230913T190000
DTEND;TZID=America/Chicago:20230913T203000
DTSTAMP:20260423T044817
CREATED:20230511T214433Z
LAST-MODIFIED:20230511T214433Z
UID:10001590-1694631600-1694637000@holyspiritmgm.org
SUMMARY:Youth Group
DESCRIPTION:Meet in the Parish Hall
URL:https://holyspiritmgm.org/event/youth-group/2023-09-13/
END:VEVENT
BEGIN:VEVENT
DTSTART;TZID=America/Chicago:20230917T091500
DTEND;TZID=America/Chicago:20230917T104500
DTSTAMP:20260423T044817
CREATED:20230511T214810Z
LAST-MODIFIED:20230511T214810Z
UID:10001852-1694942100-1694947500@holyspiritmgm.org
SUMMARY:Adult Faith Formation Class
DESCRIPTION:Meet in the Parish Hall
URL:https://holyspiritmgm.org/event/adult-faith-formation-class/2023-09-17/
END:VEVENT
BEGIN:VEVENT
DTSTART;TZID=America/Chicago:20230917T091500
DTEND;TZID=America/Chicago:20230917T104500
DTSTAMP:20260423T044817
CREATED:20230511T215038Z
LAST-MODIFIED:20230511T215112Z
UID:10002113-1694942100-1694947500@holyspiritmgm.org
SUMMARY:Children Faith Formation
DESCRIPTION:Meet in the School
URL:https://holyspiritmgm.org/event/children-faith-formation/2023-09-17/
END:VEVENT
BEGIN:VEVENT
DTSTART;TZID=America/Chicago:20230919T090000
DTEND;TZID=America/Chicago:20230919T110000
DTSTAMP:20260423T044817
CREATED:20230511T185318Z
LAST-MODIFIED:20230511T185951Z
UID:10000019-1695114000-1695121200@holyspiritmgm.org
SUMMARY:Knitting and Crocheting Meeting
DESCRIPTION:Meet in the Library. \nQuestions\, Contact Peggy Comer 828-490-7976
URL:https://holyspiritmgm.org/event/knitting-and-crocheting-meeting/2023-09-19/
END:VEVENT
BEGIN:VEVENT
DTSTART;TZID=America/Chicago:20230919T190000
DTEND;TZID=America/Chicago:20230919T203000
DTSTAMP:20260423T044817
CREATED:20230511T190228Z
LAST-MODIFIED:20230511T190449Z
UID:10000281-1695150000-1695155400@holyspiritmgm.org
SUMMARY:Adult Choir Practice
DESCRIPTION:
URL:https://holyspiritmgm.org/event/adult-choir-practice/2023-09-19/
END:VEVENT
BEGIN:VEVENT
DTSTART;TZID=America/Chicago:20230920T090000
DTEND;TZID=America/Chicago:20230921T090000
DTSTAMP:20260423T044817
CREATED:20230511T190633Z
LAST-MODIFIED:20230511T213547Z
UID:10000543-1695200400-1695286800@holyspiritmgm.org
SUMMARY:Eucharistic Adoration
DESCRIPTION:Begins 9am Wednesday until 8am Thursday
URL:https://holyspiritmgm.org/event/eucharistic-adoration/2023-09-20/
END:VEVENT
BEGIN:VEVENT
DTSTART;TZID=America/Chicago:20230920T173000
DTEND;TZID=America/Chicago:20230920T181500
DTSTAMP:20260423T044817
CREATED:20230511T213850Z
LAST-MODIFIED:20230511T214027Z
UID:10001067-1695231000-1695233700@holyspiritmgm.org
SUMMARY:Men of St. Joseph
DESCRIPTION:Meet in the Library
URL:https://holyspiritmgm.org/event/men-of-st-joseph/2023-09-20/
END:VEVENT
BEGIN:VEVENT
DTSTART;TZID=America/Chicago:20230920T173000
DTEND;TZID=America/Chicago:20230920T183000
DTSTAMP:20260423T044817
CREATED:20230511T213706Z
LAST-MODIFIED:20230511T213706Z
UID:10000805-1695231000-1695234600@holyspiritmgm.org
SUMMARY:Daughters of Mary
DESCRIPTION:
URL:https://holyspiritmgm.org/event/daughters-of-mary/2023-09-20/
END:VEVENT
BEGIN:VEVENT
DTSTART;TZID=America/Chicago:20230920T190000
DTEND;TZID=America/Chicago:20230920T203000
DTSTAMP:20260423T044817
CREATED:20230511T214255Z
LAST-MODIFIED:20230511T214255Z
UID:10001329-1695236400-1695241800@holyspiritmgm.org
SUMMARY:Adult Bible Study
DESCRIPTION:Meet in the Library
URL:https://holyspiritmgm.org/event/adult-bible-study/2023-09-20/
END:VEVENT
BEGIN:VEVENT
DTSTART;TZID=America/Chicago:20230920T190000
DTEND;TZID=America/Chicago:20230920T203000
DTSTAMP:20260423T044817
CREATED:20230511T214433Z
LAST-MODIFIED:20230511T214433Z
UID:10001591-1695236400-1695241800@holyspiritmgm.org
SUMMARY:Youth Group
DESCRIPTION:Meet in the Parish Hall
URL:https://holyspiritmgm.org/event/youth-group/2023-09-20/
END:VEVENT
BEGIN:VEVENT
DTSTART;TZID=America/Chicago:20230924T091500
DTEND;TZID=America/Chicago:20230924T104500
DTSTAMP:20260423T044817
CREATED:20230511T214810Z
LAST-MODIFIED:20230511T214810Z
UID:10001853-1695546900-1695552300@holyspiritmgm.org
SUMMARY:Adult Faith Formation Class
DESCRIPTION:Meet in the Parish Hall
URL:https://holyspiritmgm.org/event/adult-faith-formation-class/2023-09-24/
END:VEVENT
BEGIN:VEVENT
DTSTART;TZID=America/Chicago:20230924T091500
DTEND;TZID=America/Chicago:20230924T104500
DTSTAMP:20260423T044817
CREATED:20230511T215038Z
LAST-MODIFIED:20230511T215112Z
UID:10002114-1695546900-1695552300@holyspiritmgm.org
SUMMARY:Children Faith Formation
DESCRIPTION:Meet in the School
URL:https://holyspiritmgm.org/event/children-faith-formation/2023-09-24/
END:VEVENT
BEGIN:VEVENT
DTSTART;TZID=America/Chicago:20230926T090000
DTEND;TZID=America/Chicago:20230926T110000
DTSTAMP:20260423T044818
CREATED:20230511T185318Z
LAST-MODIFIED:20230511T185951Z
UID:10000020-1695718800-1695726000@holyspiritmgm.org
SUMMARY:Knitting and Crocheting Meeting
DESCRIPTION:Meet in the Library. \nQuestions\, Contact Peggy Comer 828-490-7976
URL:https://holyspiritmgm.org/event/knitting-and-crocheting-meeting/2023-09-26/
END:VEVENT
BEGIN:VEVENT
DTSTART;TZID=America/Chicago:20230926T190000
DTEND;TZID=America/Chicago:20230926T203000
DTSTAMP:20260423T044818
CREATED:20230511T190228Z
LAST-MODIFIED:20230511T190449Z
UID:10000282-1695754800-1695760200@holyspiritmgm.org
SUMMARY:Adult Choir Practice
DESCRIPTION:
URL:https://holyspiritmgm.org/event/adult-choir-practice/2023-09-26/
END:VEVENT
BEGIN:VEVENT
DTSTART;TZID=America/Chicago:20230927T090000
DTEND;TZID=America/Chicago:20230928T090000
DTSTAMP:20260423T044818
CREATED:20230511T190633Z
LAST-MODIFIED:20230511T213547Z
UID:10000544-1695805200-1695891600@holyspiritmgm.org
SUMMARY:Eucharistic Adoration
DESCRIPTION:Begins 9am Wednesday until 8am Thursday
URL:https://holyspiritmgm.org/event/eucharistic-adoration/2023-09-27/
END:VEVENT
BEGIN:VEVENT
DTSTART;TZID=America/Chicago:20230927T173000
DTEND;TZID=America/Chicago:20230927T181500
DTSTAMP:20260423T044818
CREATED:20230511T213850Z
LAST-MODIFIED:20230511T214027Z
UID:10001068-1695835800-1695838500@holyspiritmgm.org
SUMMARY:Men of St. Joseph
DESCRIPTION:Meet in the Library
URL:https://holyspiritmgm.org/event/men-of-st-joseph/2023-09-27/
END:VEVENT
BEGIN:VEVENT
DTSTART;TZID=America/Chicago:20230927T173000
DTEND;TZID=America/Chicago:20230927T183000
DTSTAMP:20260423T044818
CREATED:20230511T213706Z
LAST-MODIFIED:20230511T213706Z
UID:10000806-1695835800-1695839400@holyspiritmgm.org
SUMMARY:Daughters of Mary
DESCRIPTION:
URL:https://holyspiritmgm.org/event/daughters-of-mary/2023-09-27/
END:VEVENT
BEGIN:VEVENT
DTSTART;TZID=America/Chicago:20230927T190000
DTEND;TZID=America/Chicago:20230927T203000
DTSTAMP:20260423T044818
CREATED:20230511T214255Z
LAST-MODIFIED:20230511T214255Z
UID:10001330-1695841200-1695846600@holyspiritmgm.org
SUMMARY:Adult Bible Study
DESCRIPTION:Meet in the Library
URL:https://holyspiritmgm.org/event/adult-bible-study/2023-09-27/
END:VEVENT
BEGIN:VEVENT
DTSTART;TZID=America/Chicago:20230927T190000
DTEND;TZID=America/Chicago:20230927T203000
DTSTAMP:20260423T044818
CREATED:20230511T214433Z
LAST-MODIFIED:20230511T214433Z
UID:10001592-1695841200-1695846600@holyspiritmgm.org
SUMMARY:Youth Group
DESCRIPTION:Meet in the Parish Hall
URL:https://holyspiritmgm.org/event/youth-group/2023-09-27/
END:VEVENT
BEGIN:VEVENT
DTSTART;TZID=America/Chicago:20231001T091500
DTEND;TZID=America/Chicago:20231001T104500
DTSTAMP:20260423T044818
CREATED:20230511T214810Z
LAST-MODIFIED:20230511T214810Z
UID:10001854-1696151700-1696157100@holyspiritmgm.org
SUMMARY:Adult Faith Formation Class
DESCRIPTION:Meet in the Parish Hall
URL:https://holyspiritmgm.org/event/adult-faith-formation-class/2023-10-01/
END:VEVENT
BEGIN:VEVENT
DTSTART;TZID=America/Chicago:20231001T091500
DTEND;TZID=America/Chicago:20231001T104500
DTSTAMP:20260423T044818
CREATED:20230511T215038Z
LAST-MODIFIED:20230511T215112Z
UID:10002115-1696151700-1696157100@holyspiritmgm.org
SUMMARY:Children Faith Formation
DESCRIPTION:Meet in the School
URL:https://holyspiritmgm.org/event/children-faith-formation/2023-10-01/
END:VEVENT
BEGIN:VEVENT
DTSTART;TZID=America/Chicago:20231003T090000
DTEND;TZID=America/Chicago:20231003T110000
DTSTAMP:20260423T044818
CREATED:20230511T185318Z
LAST-MODIFIED:20230511T185951Z
UID:10000021-1696323600-1696330800@holyspiritmgm.org
SUMMARY:Knitting and Crocheting Meeting
DESCRIPTION:Meet in the Library. \nQuestions\, Contact Peggy Comer 828-490-7976
URL:https://holyspiritmgm.org/event/knitting-and-crocheting-meeting/2023-10-03/
END:VEVENT
BEGIN:VEVENT
DTSTART;TZID=America/Chicago:20231003T190000
DTEND;TZID=America/Chicago:20231003T203000
DTSTAMP:20260423T044818
CREATED:20230511T190228Z
LAST-MODIFIED:20230511T190449Z
UID:10000283-1696359600-1696365000@holyspiritmgm.org
SUMMARY:Adult Choir Practice
DESCRIPTION:
URL:https://holyspiritmgm.org/event/adult-choir-practice/2023-10-03/
END:VEVENT
BEGIN:VEVENT
DTSTART;TZID=America/Chicago:20231004T090000
DTEND;TZID=America/Chicago:20231005T090000
DTSTAMP:20260423T044818
CREATED:20230511T190633Z
LAST-MODIFIED:20230511T213547Z
UID:10000545-1696410000-1696496400@holyspiritmgm.org
SUMMARY:Eucharistic Adoration
DESCRIPTION:Begins 9am Wednesday until 8am Thursday
URL:https://holyspiritmgm.org/event/eucharistic-adoration/2023-10-04/
END:VEVENT
END:VCALENDAR