BEGIN:VCALENDAR
VERSION:2.0
PRODID:-//Holy Spirit Catholic Church - ECPv6.15.20//NONSGML v1.0//EN
CALSCALE:GREGORIAN
METHOD:PUBLISH
X-ORIGINAL-URL:https://holyspiritmgm.org
X-WR-CALDESC:Events for Holy Spirit Catholic Church
REFRESH-INTERVAL;VALUE=DURATION:PT1H
X-Robots-Tag:noindex
X-PUBLISHED-TTL:PT1H
BEGIN:VTIMEZONE
TZID:America/Chicago
BEGIN:DAYLIGHT
TZOFFSETFROM:-0600
TZOFFSETTO:-0500
TZNAME:CDT
DTSTART:20230312T080000
END:DAYLIGHT
BEGIN:STANDARD
TZOFFSETFROM:-0500
TZOFFSETTO:-0600
TZNAME:CST
DTSTART:20231105T070000
END:STANDARD
BEGIN:DAYLIGHT
TZOFFSETFROM:-0600
TZOFFSETTO:-0500
TZNAME:CDT
DTSTART:20240310T080000
END:DAYLIGHT
BEGIN:STANDARD
TZOFFSETFROM:-0500
TZOFFSETTO:-0600
TZNAME:CST
DTSTART:20241103T070000
END:STANDARD
BEGIN:DAYLIGHT
TZOFFSETFROM:-0600
TZOFFSETTO:-0500
TZNAME:CDT
DTSTART:20250309T080000
END:DAYLIGHT
BEGIN:STANDARD
TZOFFSETFROM:-0500
TZOFFSETTO:-0600
TZNAME:CST
DTSTART:20251102T070000
END:STANDARD
END:VTIMEZONE
BEGIN:VEVENT
DTSTART;TZID=America/Chicago:20240702T190000
DTEND;TZID=America/Chicago:20240702T203000
DTSTAMP:20260422T165841
CREATED:20230511T190228Z
LAST-MODIFIED:20230511T190449Z
UID:10000322-1719946800-1719952200@holyspiritmgm.org
SUMMARY:Adult Choir Practice
DESCRIPTION:
URL:https://holyspiritmgm.org/event/adult-choir-practice/2024-07-02/
END:VEVENT
BEGIN:VEVENT
DTSTART;TZID=America/Chicago:20240703T090000
DTEND;TZID=America/Chicago:20240704T090000
DTSTAMP:20260422T165841
CREATED:20230511T190633Z
LAST-MODIFIED:20230511T213547Z
UID:10000584-1719997200-1720083600@holyspiritmgm.org
SUMMARY:Eucharistic Adoration
DESCRIPTION:Begins 9am Wednesday until 8am Thursday
URL:https://holyspiritmgm.org/event/eucharistic-adoration/2024-07-03/
END:VEVENT
BEGIN:VEVENT
DTSTART;TZID=America/Chicago:20240703T173000
DTEND;TZID=America/Chicago:20240703T181500
DTSTAMP:20260422T165841
CREATED:20230511T213850Z
LAST-MODIFIED:20230511T214027Z
UID:10001108-1720027800-1720030500@holyspiritmgm.org
SUMMARY:Men of St. Joseph
DESCRIPTION:Meet in the Library
URL:https://holyspiritmgm.org/event/men-of-st-joseph/2024-07-03/
END:VEVENT
BEGIN:VEVENT
DTSTART;TZID=America/Chicago:20240703T173000
DTEND;TZID=America/Chicago:20240703T183000
DTSTAMP:20260422T165841
CREATED:20230511T213706Z
LAST-MODIFIED:20230511T213706Z
UID:10000846-1720027800-1720031400@holyspiritmgm.org
SUMMARY:Daughters of Mary
DESCRIPTION:
URL:https://holyspiritmgm.org/event/daughters-of-mary/2024-07-03/
END:VEVENT
BEGIN:VEVENT
DTSTART;TZID=America/Chicago:20240703T190000
DTEND;TZID=America/Chicago:20240703T203000
DTSTAMP:20260422T165841
CREATED:20230511T214255Z
LAST-MODIFIED:20230511T214255Z
UID:10001370-1720033200-1720038600@holyspiritmgm.org
SUMMARY:Adult Bible Study
DESCRIPTION:Meet in the Library
URL:https://holyspiritmgm.org/event/adult-bible-study/2024-07-03/
END:VEVENT
BEGIN:VEVENT
DTSTART;TZID=America/Chicago:20240703T190000
DTEND;TZID=America/Chicago:20240703T203000
DTSTAMP:20260422T165841
CREATED:20230511T214433Z
LAST-MODIFIED:20230511T214433Z
UID:10001632-1720033200-1720038600@holyspiritmgm.org
SUMMARY:Youth Group
DESCRIPTION:Meet in the Parish Hall
URL:https://holyspiritmgm.org/event/youth-group/2024-07-03/
END:VEVENT
BEGIN:VEVENT
DTSTART;TZID=America/Chicago:20240707T091500
DTEND;TZID=America/Chicago:20240707T104500
DTSTAMP:20260422T165841
CREATED:20230511T214810Z
LAST-MODIFIED:20230511T214810Z
UID:10001894-1720343700-1720349100@holyspiritmgm.org
SUMMARY:Adult Faith Formation Class
DESCRIPTION:Meet in the Parish Hall
URL:https://holyspiritmgm.org/event/adult-faith-formation-class/2024-07-07/
END:VEVENT
BEGIN:VEVENT
DTSTART;TZID=America/Chicago:20240707T091500
DTEND;TZID=America/Chicago:20240707T104500
DTSTAMP:20260422T165841
CREATED:20230511T215038Z
LAST-MODIFIED:20230511T215112Z
UID:10002155-1720343700-1720349100@holyspiritmgm.org
SUMMARY:Children Faith Formation
DESCRIPTION:Meet in the School
URL:https://holyspiritmgm.org/event/children-faith-formation/2024-07-07/
END:VEVENT
BEGIN:VEVENT
DTSTART;TZID=America/Chicago:20240709T090000
DTEND;TZID=America/Chicago:20240709T110000
DTSTAMP:20260422T165841
CREATED:20230511T185318Z
LAST-MODIFIED:20230511T185951Z
UID:10000061-1720515600-1720522800@holyspiritmgm.org
SUMMARY:Knitting and Crocheting Meeting
DESCRIPTION:Meet in the Library. \nQuestions\, Contact Peggy Comer 828-490-7976
URL:https://holyspiritmgm.org/event/knitting-and-crocheting-meeting/2024-07-09/
END:VEVENT
BEGIN:VEVENT
DTSTART;TZID=America/Chicago:20240709T190000
DTEND;TZID=America/Chicago:20240709T203000
DTSTAMP:20260422T165841
CREATED:20230511T190228Z
LAST-MODIFIED:20230511T190449Z
UID:10000323-1720551600-1720557000@holyspiritmgm.org
SUMMARY:Adult Choir Practice
DESCRIPTION:
URL:https://holyspiritmgm.org/event/adult-choir-practice/2024-07-09/
END:VEVENT
BEGIN:VEVENT
DTSTART;TZID=America/Chicago:20240710T090000
DTEND;TZID=America/Chicago:20240711T090000
DTSTAMP:20260422T165841
CREATED:20230511T190633Z
LAST-MODIFIED:20230511T213547Z
UID:10000585-1720602000-1720688400@holyspiritmgm.org
SUMMARY:Eucharistic Adoration
DESCRIPTION:Begins 9am Wednesday until 8am Thursday
URL:https://holyspiritmgm.org/event/eucharistic-adoration/2024-07-10/
END:VEVENT
BEGIN:VEVENT
DTSTART;TZID=America/Chicago:20240710T173000
DTEND;TZID=America/Chicago:20240710T181500
DTSTAMP:20260422T165841
CREATED:20230511T213850Z
LAST-MODIFIED:20230511T214027Z
UID:10001109-1720632600-1720635300@holyspiritmgm.org
SUMMARY:Men of St. Joseph
DESCRIPTION:Meet in the Library
URL:https://holyspiritmgm.org/event/men-of-st-joseph/2024-07-10/
END:VEVENT
BEGIN:VEVENT
DTSTART;TZID=America/Chicago:20240710T173000
DTEND;TZID=America/Chicago:20240710T183000
DTSTAMP:20260422T165841
CREATED:20230511T213706Z
LAST-MODIFIED:20230511T213706Z
UID:10000847-1720632600-1720636200@holyspiritmgm.org
SUMMARY:Daughters of Mary
DESCRIPTION:
URL:https://holyspiritmgm.org/event/daughters-of-mary/2024-07-10/
END:VEVENT
BEGIN:VEVENT
DTSTART;TZID=America/Chicago:20240710T190000
DTEND;TZID=America/Chicago:20240710T203000
DTSTAMP:20260422T165841
CREATED:20230511T214255Z
LAST-MODIFIED:20230511T214255Z
UID:10001371-1720638000-1720643400@holyspiritmgm.org
SUMMARY:Adult Bible Study
DESCRIPTION:Meet in the Library
URL:https://holyspiritmgm.org/event/adult-bible-study/2024-07-10/
END:VEVENT
BEGIN:VEVENT
DTSTART;TZID=America/Chicago:20240710T190000
DTEND;TZID=America/Chicago:20240710T203000
DTSTAMP:20260422T165841
CREATED:20230511T214433Z
LAST-MODIFIED:20230511T214433Z
UID:10001633-1720638000-1720643400@holyspiritmgm.org
SUMMARY:Youth Group
DESCRIPTION:Meet in the Parish Hall
URL:https://holyspiritmgm.org/event/youth-group/2024-07-10/
END:VEVENT
BEGIN:VEVENT
DTSTART;TZID=America/Chicago:20240714T091500
DTEND;TZID=America/Chicago:20240714T104500
DTSTAMP:20260422T165841
CREATED:20230511T214810Z
LAST-MODIFIED:20230511T214810Z
UID:10001895-1720948500-1720953900@holyspiritmgm.org
SUMMARY:Adult Faith Formation Class
DESCRIPTION:Meet in the Parish Hall
URL:https://holyspiritmgm.org/event/adult-faith-formation-class/2024-07-14/
END:VEVENT
BEGIN:VEVENT
DTSTART;TZID=America/Chicago:20240714T091500
DTEND;TZID=America/Chicago:20240714T104500
DTSTAMP:20260422T165841
CREATED:20230511T215038Z
LAST-MODIFIED:20230511T215112Z
UID:10002156-1720948500-1720953900@holyspiritmgm.org
SUMMARY:Children Faith Formation
DESCRIPTION:Meet in the School
URL:https://holyspiritmgm.org/event/children-faith-formation/2024-07-14/
END:VEVENT
BEGIN:VEVENT
DTSTART;TZID=America/Chicago:20240716T090000
DTEND;TZID=America/Chicago:20240716T110000
DTSTAMP:20260422T165841
CREATED:20230511T185318Z
LAST-MODIFIED:20230511T185951Z
UID:10000062-1721120400-1721127600@holyspiritmgm.org
SUMMARY:Knitting and Crocheting Meeting
DESCRIPTION:Meet in the Library. \nQuestions\, Contact Peggy Comer 828-490-7976
URL:https://holyspiritmgm.org/event/knitting-and-crocheting-meeting/2024-07-16/
END:VEVENT
BEGIN:VEVENT
DTSTART;TZID=America/Chicago:20240716T190000
DTEND;TZID=America/Chicago:20240716T203000
DTSTAMP:20260422T165841
CREATED:20230511T190228Z
LAST-MODIFIED:20230511T190449Z
UID:10000324-1721156400-1721161800@holyspiritmgm.org
SUMMARY:Adult Choir Practice
DESCRIPTION:
URL:https://holyspiritmgm.org/event/adult-choir-practice/2024-07-16/
END:VEVENT
BEGIN:VEVENT
DTSTART;TZID=America/Chicago:20240717T090000
DTEND;TZID=America/Chicago:20240718T090000
DTSTAMP:20260422T165841
CREATED:20230511T190633Z
LAST-MODIFIED:20230511T213547Z
UID:10000586-1721206800-1721293200@holyspiritmgm.org
SUMMARY:Eucharistic Adoration
DESCRIPTION:Begins 9am Wednesday until 8am Thursday
URL:https://holyspiritmgm.org/event/eucharistic-adoration/2024-07-17/
END:VEVENT
BEGIN:VEVENT
DTSTART;TZID=America/Chicago:20240717T173000
DTEND;TZID=America/Chicago:20240717T181500
DTSTAMP:20260422T165841
CREATED:20230511T213850Z
LAST-MODIFIED:20230511T214027Z
UID:10001110-1721237400-1721240100@holyspiritmgm.org
SUMMARY:Men of St. Joseph
DESCRIPTION:Meet in the Library
URL:https://holyspiritmgm.org/event/men-of-st-joseph/2024-07-17/
END:VEVENT
BEGIN:VEVENT
DTSTART;TZID=America/Chicago:20240717T173000
DTEND;TZID=America/Chicago:20240717T183000
DTSTAMP:20260422T165841
CREATED:20230511T213706Z
LAST-MODIFIED:20230511T213706Z
UID:10000848-1721237400-1721241000@holyspiritmgm.org
SUMMARY:Daughters of Mary
DESCRIPTION:
URL:https://holyspiritmgm.org/event/daughters-of-mary/2024-07-17/
END:VEVENT
BEGIN:VEVENT
DTSTART;TZID=America/Chicago:20240717T190000
DTEND;TZID=America/Chicago:20240717T203000
DTSTAMP:20260422T165841
CREATED:20230511T214255Z
LAST-MODIFIED:20230511T214255Z
UID:10001372-1721242800-1721248200@holyspiritmgm.org
SUMMARY:Adult Bible Study
DESCRIPTION:Meet in the Library
URL:https://holyspiritmgm.org/event/adult-bible-study/2024-07-17/
END:VEVENT
BEGIN:VEVENT
DTSTART;TZID=America/Chicago:20240717T190000
DTEND;TZID=America/Chicago:20240717T203000
DTSTAMP:20260422T165841
CREATED:20230511T214433Z
LAST-MODIFIED:20230511T214433Z
UID:10001634-1721242800-1721248200@holyspiritmgm.org
SUMMARY:Youth Group
DESCRIPTION:Meet in the Parish Hall
URL:https://holyspiritmgm.org/event/youth-group/2024-07-17/
END:VEVENT
BEGIN:VEVENT
DTSTART;TZID=America/Chicago:20240721T091500
DTEND;TZID=America/Chicago:20240721T104500
DTSTAMP:20260422T165841
CREATED:20230511T214810Z
LAST-MODIFIED:20230511T214810Z
UID:10001896-1721553300-1721558700@holyspiritmgm.org
SUMMARY:Adult Faith Formation Class
DESCRIPTION:Meet in the Parish Hall
URL:https://holyspiritmgm.org/event/adult-faith-formation-class/2024-07-21/
END:VEVENT
BEGIN:VEVENT
DTSTART;TZID=America/Chicago:20240721T091500
DTEND;TZID=America/Chicago:20240721T104500
DTSTAMP:20260422T165841
CREATED:20230511T215038Z
LAST-MODIFIED:20230511T215112Z
UID:10002157-1721553300-1721558700@holyspiritmgm.org
SUMMARY:Children Faith Formation
DESCRIPTION:Meet in the School
URL:https://holyspiritmgm.org/event/children-faith-formation/2024-07-21/
END:VEVENT
BEGIN:VEVENT
DTSTART;TZID=America/Chicago:20240723T090000
DTEND;TZID=America/Chicago:20240723T110000
DTSTAMP:20260422T165841
CREATED:20230511T185318Z
LAST-MODIFIED:20230511T185951Z
UID:10000063-1721725200-1721732400@holyspiritmgm.org
SUMMARY:Knitting and Crocheting Meeting
DESCRIPTION:Meet in the Library. \nQuestions\, Contact Peggy Comer 828-490-7976
URL:https://holyspiritmgm.org/event/knitting-and-crocheting-meeting/2024-07-23/
END:VEVENT
BEGIN:VEVENT
DTSTART;TZID=America/Chicago:20240723T190000
DTEND;TZID=America/Chicago:20240723T203000
DTSTAMP:20260422T165841
CREATED:20230511T190228Z
LAST-MODIFIED:20230511T190449Z
UID:10000325-1721761200-1721766600@holyspiritmgm.org
SUMMARY:Adult Choir Practice
DESCRIPTION:
URL:https://holyspiritmgm.org/event/adult-choir-practice/2024-07-23/
END:VEVENT
BEGIN:VEVENT
DTSTART;TZID=America/Chicago:20240724T090000
DTEND;TZID=America/Chicago:20240725T090000
DTSTAMP:20260422T165841
CREATED:20230511T190633Z
LAST-MODIFIED:20230511T213547Z
UID:10000587-1721811600-1721898000@holyspiritmgm.org
SUMMARY:Eucharistic Adoration
DESCRIPTION:Begins 9am Wednesday until 8am Thursday
URL:https://holyspiritmgm.org/event/eucharistic-adoration/2024-07-24/
END:VEVENT
BEGIN:VEVENT
DTSTART;TZID=America/Chicago:20240724T173000
DTEND;TZID=America/Chicago:20240724T181500
DTSTAMP:20260422T165841
CREATED:20230511T213850Z
LAST-MODIFIED:20230511T214027Z
UID:10001111-1721842200-1721844900@holyspiritmgm.org
SUMMARY:Men of St. Joseph
DESCRIPTION:Meet in the Library
URL:https://holyspiritmgm.org/event/men-of-st-joseph/2024-07-24/
END:VEVENT
END:VCALENDAR