BEGIN:VCALENDAR
VERSION:2.0
PRODID:-//Holy Spirit Catholic Church - ECPv6.15.20//NONSGML v1.0//EN
CALSCALE:GREGORIAN
METHOD:PUBLISH
X-ORIGINAL-URL:https://holyspiritmgm.org
X-WR-CALDESC:Events for Holy Spirit Catholic Church
REFRESH-INTERVAL;VALUE=DURATION:PT1H
X-Robots-Tag:noindex
X-PUBLISHED-TTL:PT1H
BEGIN:VTIMEZONE
TZID:America/Chicago
BEGIN:DAYLIGHT
TZOFFSETFROM:-0600
TZOFFSETTO:-0500
TZNAME:CDT
DTSTART:20240310T080000
END:DAYLIGHT
BEGIN:STANDARD
TZOFFSETFROM:-0500
TZOFFSETTO:-0600
TZNAME:CST
DTSTART:20241103T070000
END:STANDARD
BEGIN:DAYLIGHT
TZOFFSETFROM:-0600
TZOFFSETTO:-0500
TZNAME:CDT
DTSTART:20250309T080000
END:DAYLIGHT
BEGIN:STANDARD
TZOFFSETFROM:-0500
TZOFFSETTO:-0600
TZNAME:CST
DTSTART:20251102T070000
END:STANDARD
BEGIN:DAYLIGHT
TZOFFSETFROM:-0600
TZOFFSETTO:-0500
TZNAME:CDT
DTSTART:20260308T080000
END:DAYLIGHT
BEGIN:STANDARD
TZOFFSETFROM:-0500
TZOFFSETTO:-0600
TZNAME:CST
DTSTART:20261101T070000
END:STANDARD
END:VTIMEZONE
BEGIN:VEVENT
DTSTART;TZID=America/Chicago:20250513T190000
DTEND;TZID=America/Chicago:20250513T203000
DTSTAMP:20260420T063231
CREATED:20230511T190228Z
LAST-MODIFIED:20230511T190449Z
UID:10000367-1747162800-1747168200@holyspiritmgm.org
SUMMARY:Adult Choir Practice
DESCRIPTION:
URL:https://holyspiritmgm.org/event/adult-choir-practice/2025-05-13/
END:VEVENT
BEGIN:VEVENT
DTSTART;TZID=America/Chicago:20250514T090000
DTEND;TZID=America/Chicago:20250515T090000
DTSTAMP:20260420T063231
CREATED:20230511T190633Z
LAST-MODIFIED:20230511T213547Z
UID:10000629-1747213200-1747299600@holyspiritmgm.org
SUMMARY:Eucharistic Adoration
DESCRIPTION:Begins 9am Wednesday until 8am Thursday
URL:https://holyspiritmgm.org/event/eucharistic-adoration/2025-05-14/
END:VEVENT
BEGIN:VEVENT
DTSTART;TZID=America/Chicago:20250514T173000
DTEND;TZID=America/Chicago:20250514T181500
DTSTAMP:20260420T063231
CREATED:20230511T213850Z
LAST-MODIFIED:20230511T214027Z
UID:10001153-1747243800-1747246500@holyspiritmgm.org
SUMMARY:Men of St. Joseph
DESCRIPTION:Meet in the Library
URL:https://holyspiritmgm.org/event/men-of-st-joseph/2025-05-14/
END:VEVENT
BEGIN:VEVENT
DTSTART;TZID=America/Chicago:20250514T173000
DTEND;TZID=America/Chicago:20250514T183000
DTSTAMP:20260420T063231
CREATED:20230511T213706Z
LAST-MODIFIED:20230511T213706Z
UID:10000891-1747243800-1747247400@holyspiritmgm.org
SUMMARY:Daughters of Mary
DESCRIPTION:
URL:https://holyspiritmgm.org/event/daughters-of-mary/2025-05-14/
END:VEVENT
BEGIN:VEVENT
DTSTART;TZID=America/Chicago:20250514T190000
DTEND;TZID=America/Chicago:20250514T203000
DTSTAMP:20260420T063231
CREATED:20230511T214255Z
LAST-MODIFIED:20230511T214255Z
UID:10001415-1747249200-1747254600@holyspiritmgm.org
SUMMARY:Adult Bible Study
DESCRIPTION:Meet in the Library
URL:https://holyspiritmgm.org/event/adult-bible-study/2025-05-14/
END:VEVENT
BEGIN:VEVENT
DTSTART;TZID=America/Chicago:20250514T190000
DTEND;TZID=America/Chicago:20250514T203000
DTSTAMP:20260420T063231
CREATED:20230511T214433Z
LAST-MODIFIED:20230511T214433Z
UID:10001677-1747249200-1747254600@holyspiritmgm.org
SUMMARY:Youth Group
DESCRIPTION:Meet in the Parish Hall
URL:https://holyspiritmgm.org/event/youth-group/2025-05-14/
END:VEVENT
BEGIN:VEVENT
DTSTART;TZID=America/Chicago:20250518T091500
DTEND;TZID=America/Chicago:20250518T104500
DTSTAMP:20260420T063231
CREATED:20230511T214810Z
LAST-MODIFIED:20230511T214810Z
UID:10001939-1747559700-1747565100@holyspiritmgm.org
SUMMARY:Adult Faith Formation Class
DESCRIPTION:Meet in the Parish Hall
URL:https://holyspiritmgm.org/event/adult-faith-formation-class/2025-05-18/
END:VEVENT
BEGIN:VEVENT
DTSTART;TZID=America/Chicago:20250518T091500
DTEND;TZID=America/Chicago:20250518T104500
DTSTAMP:20260420T063231
CREATED:20230511T215038Z
LAST-MODIFIED:20230511T215112Z
UID:10002200-1747559700-1747565100@holyspiritmgm.org
SUMMARY:Children Faith Formation
DESCRIPTION:Meet in the School
URL:https://holyspiritmgm.org/event/children-faith-formation/2025-05-18/
END:VEVENT
BEGIN:VEVENT
DTSTART;TZID=America/Chicago:20250520T090000
DTEND;TZID=America/Chicago:20250520T110000
DTSTAMP:20260420T063231
CREATED:20230511T185318Z
LAST-MODIFIED:20230511T185951Z
UID:10000106-1747731600-1747738800@holyspiritmgm.org
SUMMARY:Knitting and Crocheting Meeting
DESCRIPTION:Meet in the Library. \nQuestions\, Contact Peggy Comer 828-490-7976
URL:https://holyspiritmgm.org/event/knitting-and-crocheting-meeting/2025-05-20/
END:VEVENT
BEGIN:VEVENT
DTSTART;TZID=America/Chicago:20250520T190000
DTEND;TZID=America/Chicago:20250520T203000
DTSTAMP:20260420T063231
CREATED:20230511T190228Z
LAST-MODIFIED:20230511T190449Z
UID:10000368-1747767600-1747773000@holyspiritmgm.org
SUMMARY:Adult Choir Practice
DESCRIPTION:
URL:https://holyspiritmgm.org/event/adult-choir-practice/2025-05-20/
END:VEVENT
BEGIN:VEVENT
DTSTART;TZID=America/Chicago:20250521T090000
DTEND;TZID=America/Chicago:20250522T090000
DTSTAMP:20260420T063231
CREATED:20230511T190633Z
LAST-MODIFIED:20230511T213547Z
UID:10000630-1747818000-1747904400@holyspiritmgm.org
SUMMARY:Eucharistic Adoration
DESCRIPTION:Begins 9am Wednesday until 8am Thursday
URL:https://holyspiritmgm.org/event/eucharistic-adoration/2025-05-21/
END:VEVENT
BEGIN:VEVENT
DTSTART;TZID=America/Chicago:20250521T173000
DTEND;TZID=America/Chicago:20250521T181500
DTSTAMP:20260420T063231
CREATED:20230511T213850Z
LAST-MODIFIED:20230511T214027Z
UID:10001154-1747848600-1747851300@holyspiritmgm.org
SUMMARY:Men of St. Joseph
DESCRIPTION:Meet in the Library
URL:https://holyspiritmgm.org/event/men-of-st-joseph/2025-05-21/
END:VEVENT
BEGIN:VEVENT
DTSTART;TZID=America/Chicago:20250521T173000
DTEND;TZID=America/Chicago:20250521T183000
DTSTAMP:20260420T063231
CREATED:20230511T213706Z
LAST-MODIFIED:20230511T213706Z
UID:10000892-1747848600-1747852200@holyspiritmgm.org
SUMMARY:Daughters of Mary
DESCRIPTION:
URL:https://holyspiritmgm.org/event/daughters-of-mary/2025-05-21/
END:VEVENT
BEGIN:VEVENT
DTSTART;TZID=America/Chicago:20250521T190000
DTEND;TZID=America/Chicago:20250521T203000
DTSTAMP:20260420T063231
CREATED:20230511T214255Z
LAST-MODIFIED:20230511T214255Z
UID:10001416-1747854000-1747859400@holyspiritmgm.org
SUMMARY:Adult Bible Study
DESCRIPTION:Meet in the Library
URL:https://holyspiritmgm.org/event/adult-bible-study/2025-05-21/
END:VEVENT
BEGIN:VEVENT
DTSTART;TZID=America/Chicago:20250521T190000
DTEND;TZID=America/Chicago:20250521T203000
DTSTAMP:20260420T063231
CREATED:20230511T214433Z
LAST-MODIFIED:20230511T214433Z
UID:10001678-1747854000-1747859400@holyspiritmgm.org
SUMMARY:Youth Group
DESCRIPTION:Meet in the Parish Hall
URL:https://holyspiritmgm.org/event/youth-group/2025-05-21/
END:VEVENT
BEGIN:VEVENT
DTSTART;TZID=America/Chicago:20250525T091500
DTEND;TZID=America/Chicago:20250525T104500
DTSTAMP:20260420T063231
CREATED:20230511T214810Z
LAST-MODIFIED:20230511T214810Z
UID:10001940-1748164500-1748169900@holyspiritmgm.org
SUMMARY:Adult Faith Formation Class
DESCRIPTION:Meet in the Parish Hall
URL:https://holyspiritmgm.org/event/adult-faith-formation-class/2025-05-25/
END:VEVENT
BEGIN:VEVENT
DTSTART;TZID=America/Chicago:20250525T091500
DTEND;TZID=America/Chicago:20250525T104500
DTSTAMP:20260420T063231
CREATED:20230511T215038Z
LAST-MODIFIED:20230511T215112Z
UID:10002201-1748164500-1748169900@holyspiritmgm.org
SUMMARY:Children Faith Formation
DESCRIPTION:Meet in the School
URL:https://holyspiritmgm.org/event/children-faith-formation/2025-05-25/
END:VEVENT
BEGIN:VEVENT
DTSTART;TZID=America/Chicago:20250527T090000
DTEND;TZID=America/Chicago:20250527T110000
DTSTAMP:20260420T063231
CREATED:20230511T185318Z
LAST-MODIFIED:20230511T185951Z
UID:10000107-1748336400-1748343600@holyspiritmgm.org
SUMMARY:Knitting and Crocheting Meeting
DESCRIPTION:Meet in the Library. \nQuestions\, Contact Peggy Comer 828-490-7976
URL:https://holyspiritmgm.org/event/knitting-and-crocheting-meeting/2025-05-27/
END:VEVENT
BEGIN:VEVENT
DTSTART;TZID=America/Chicago:20250527T190000
DTEND;TZID=America/Chicago:20250527T203000
DTSTAMP:20260420T063231
CREATED:20230511T190228Z
LAST-MODIFIED:20230511T190449Z
UID:10000369-1748372400-1748377800@holyspiritmgm.org
SUMMARY:Adult Choir Practice
DESCRIPTION:
URL:https://holyspiritmgm.org/event/adult-choir-practice/2025-05-27/
END:VEVENT
BEGIN:VEVENT
DTSTART;TZID=America/Chicago:20250528T090000
DTEND;TZID=America/Chicago:20250529T090000
DTSTAMP:20260420T063231
CREATED:20230511T190633Z
LAST-MODIFIED:20230511T213547Z
UID:10000631-1748422800-1748509200@holyspiritmgm.org
SUMMARY:Eucharistic Adoration
DESCRIPTION:Begins 9am Wednesday until 8am Thursday
URL:https://holyspiritmgm.org/event/eucharistic-adoration/2025-05-28/
END:VEVENT
BEGIN:VEVENT
DTSTART;TZID=America/Chicago:20250528T173000
DTEND;TZID=America/Chicago:20250528T181500
DTSTAMP:20260420T063231
CREATED:20230511T213850Z
LAST-MODIFIED:20230511T214027Z
UID:10001155-1748453400-1748456100@holyspiritmgm.org
SUMMARY:Men of St. Joseph
DESCRIPTION:Meet in the Library
URL:https://holyspiritmgm.org/event/men-of-st-joseph/2025-05-28/
END:VEVENT
BEGIN:VEVENT
DTSTART;TZID=America/Chicago:20250528T173000
DTEND;TZID=America/Chicago:20250528T183000
DTSTAMP:20260420T063231
CREATED:20230511T213706Z
LAST-MODIFIED:20230511T213706Z
UID:10000893-1748453400-1748457000@holyspiritmgm.org
SUMMARY:Daughters of Mary
DESCRIPTION:
URL:https://holyspiritmgm.org/event/daughters-of-mary/2025-05-28/
END:VEVENT
BEGIN:VEVENT
DTSTART;TZID=America/Chicago:20250528T190000
DTEND;TZID=America/Chicago:20250528T203000
DTSTAMP:20260420T063231
CREATED:20230511T214255Z
LAST-MODIFIED:20230511T214255Z
UID:10001417-1748458800-1748464200@holyspiritmgm.org
SUMMARY:Adult Bible Study
DESCRIPTION:Meet in the Library
URL:https://holyspiritmgm.org/event/adult-bible-study/2025-05-28/
END:VEVENT
BEGIN:VEVENT
DTSTART;TZID=America/Chicago:20250528T190000
DTEND;TZID=America/Chicago:20250528T203000
DTSTAMP:20260420T063231
CREATED:20230511T214433Z
LAST-MODIFIED:20230511T214433Z
UID:10001679-1748458800-1748464200@holyspiritmgm.org
SUMMARY:Youth Group
DESCRIPTION:Meet in the Parish Hall
URL:https://holyspiritmgm.org/event/youth-group/2025-05-28/
END:VEVENT
BEGIN:VEVENT
DTSTART;TZID=America/Chicago:20250601T091500
DTEND;TZID=America/Chicago:20250601T104500
DTSTAMP:20260420T063231
CREATED:20230511T214810Z
LAST-MODIFIED:20230511T214810Z
UID:10001941-1748769300-1748774700@holyspiritmgm.org
SUMMARY:Adult Faith Formation Class
DESCRIPTION:Meet in the Parish Hall
URL:https://holyspiritmgm.org/event/adult-faith-formation-class/2025-06-01/
END:VEVENT
BEGIN:VEVENT
DTSTART;TZID=America/Chicago:20250601T091500
DTEND;TZID=America/Chicago:20250601T104500
DTSTAMP:20260420T063231
CREATED:20230511T215038Z
LAST-MODIFIED:20230511T215112Z
UID:10002202-1748769300-1748774700@holyspiritmgm.org
SUMMARY:Children Faith Formation
DESCRIPTION:Meet in the School
URL:https://holyspiritmgm.org/event/children-faith-formation/2025-06-01/
END:VEVENT
BEGIN:VEVENT
DTSTART;TZID=America/Chicago:20250603T090000
DTEND;TZID=America/Chicago:20250603T110000
DTSTAMP:20260420T063231
CREATED:20230511T185318Z
LAST-MODIFIED:20230511T185951Z
UID:10000108-1748941200-1748948400@holyspiritmgm.org
SUMMARY:Knitting and Crocheting Meeting
DESCRIPTION:Meet in the Library. \nQuestions\, Contact Peggy Comer 828-490-7976
URL:https://holyspiritmgm.org/event/knitting-and-crocheting-meeting/2025-06-03/
END:VEVENT
BEGIN:VEVENT
DTSTART;TZID=America/Chicago:20250603T190000
DTEND;TZID=America/Chicago:20250603T203000
DTSTAMP:20260420T063231
CREATED:20230511T190228Z
LAST-MODIFIED:20230511T190449Z
UID:10000370-1748977200-1748982600@holyspiritmgm.org
SUMMARY:Adult Choir Practice
DESCRIPTION:
URL:https://holyspiritmgm.org/event/adult-choir-practice/2025-06-03/
END:VEVENT
BEGIN:VEVENT
DTSTART;TZID=America/Chicago:20250604T090000
DTEND;TZID=America/Chicago:20250605T090000
DTSTAMP:20260420T063231
CREATED:20230511T190633Z
LAST-MODIFIED:20230511T213547Z
UID:10000632-1749027600-1749114000@holyspiritmgm.org
SUMMARY:Eucharistic Adoration
DESCRIPTION:Begins 9am Wednesday until 8am Thursday
URL:https://holyspiritmgm.org/event/eucharistic-adoration/2025-06-04/
END:VEVENT
BEGIN:VEVENT
DTSTART;TZID=America/Chicago:20250604T173000
DTEND;TZID=America/Chicago:20250604T181500
DTSTAMP:20260420T063231
CREATED:20230511T213850Z
LAST-MODIFIED:20230511T214027Z
UID:10001156-1749058200-1749060900@holyspiritmgm.org
SUMMARY:Men of St. Joseph
DESCRIPTION:Meet in the Library
URL:https://holyspiritmgm.org/event/men-of-st-joseph/2025-06-04/
END:VEVENT
END:VCALENDAR