BEGIN:VCALENDAR
VERSION:2.0
PRODID:-//Holy Spirit Catholic Church - ECPv6.15.20//NONSGML v1.0//EN
CALSCALE:GREGORIAN
METHOD:PUBLISH
X-ORIGINAL-URL:https://holyspiritmgm.org
X-WR-CALDESC:Events for Holy Spirit Catholic Church
REFRESH-INTERVAL;VALUE=DURATION:PT1H
X-Robots-Tag:noindex
X-PUBLISHED-TTL:PT1H
BEGIN:VTIMEZONE
TZID:America/Chicago
BEGIN:DAYLIGHT
TZOFFSETFROM:-0600
TZOFFSETTO:-0500
TZNAME:CDT
DTSTART:20240310T080000
END:DAYLIGHT
BEGIN:STANDARD
TZOFFSETFROM:-0500
TZOFFSETTO:-0600
TZNAME:CST
DTSTART:20241103T070000
END:STANDARD
BEGIN:DAYLIGHT
TZOFFSETFROM:-0600
TZOFFSETTO:-0500
TZNAME:CDT
DTSTART:20250309T080000
END:DAYLIGHT
BEGIN:STANDARD
TZOFFSETFROM:-0500
TZOFFSETTO:-0600
TZNAME:CST
DTSTART:20251102T070000
END:STANDARD
BEGIN:DAYLIGHT
TZOFFSETFROM:-0600
TZOFFSETTO:-0500
TZNAME:CDT
DTSTART:20260308T080000
END:DAYLIGHT
BEGIN:STANDARD
TZOFFSETFROM:-0500
TZOFFSETTO:-0600
TZNAME:CST
DTSTART:20261101T070000
END:STANDARD
END:VTIMEZONE
BEGIN:VEVENT
DTSTART;TZID=America/Chicago:20251021T190000
DTEND;TZID=America/Chicago:20251021T203000
DTSTAMP:20260421T115025
CREATED:20230511T190228Z
LAST-MODIFIED:20230511T190449Z
UID:10000390-1761073200-1761078600@holyspiritmgm.org
SUMMARY:Adult Choir Practice
DESCRIPTION:
URL:https://holyspiritmgm.org/event/adult-choir-practice/2025-10-21/
END:VEVENT
BEGIN:VEVENT
DTSTART;TZID=America/Chicago:20251022T090000
DTEND;TZID=America/Chicago:20251023T090000
DTSTAMP:20260421T115025
CREATED:20230511T190633Z
LAST-MODIFIED:20230511T213547Z
UID:10000652-1761123600-1761210000@holyspiritmgm.org
SUMMARY:Eucharistic Adoration
DESCRIPTION:Begins 9am Wednesday until 8am Thursday
URL:https://holyspiritmgm.org/event/eucharistic-adoration/2025-10-22/
END:VEVENT
BEGIN:VEVENT
DTSTART;TZID=America/Chicago:20251022T173000
DTEND;TZID=America/Chicago:20251022T181500
DTSTAMP:20260421T115025
CREATED:20230511T213850Z
LAST-MODIFIED:20230511T214027Z
UID:10001176-1761154200-1761156900@holyspiritmgm.org
SUMMARY:Men of St. Joseph
DESCRIPTION:Meet in the Library
URL:https://holyspiritmgm.org/event/men-of-st-joseph/2025-10-22/
END:VEVENT
BEGIN:VEVENT
DTSTART;TZID=America/Chicago:20251022T173000
DTEND;TZID=America/Chicago:20251022T183000
DTSTAMP:20260421T115025
CREATED:20230511T213706Z
LAST-MODIFIED:20230511T213706Z
UID:10000914-1761154200-1761157800@holyspiritmgm.org
SUMMARY:Daughters of Mary
DESCRIPTION:
URL:https://holyspiritmgm.org/event/daughters-of-mary/2025-10-22/
END:VEVENT
BEGIN:VEVENT
DTSTART;TZID=America/Chicago:20251022T190000
DTEND;TZID=America/Chicago:20251022T203000
DTSTAMP:20260421T115025
CREATED:20230511T214255Z
LAST-MODIFIED:20230511T214255Z
UID:10001438-1761159600-1761165000@holyspiritmgm.org
SUMMARY:Adult Bible Study
DESCRIPTION:Meet in the Library
URL:https://holyspiritmgm.org/event/adult-bible-study/2025-10-22/
END:VEVENT
BEGIN:VEVENT
DTSTART;TZID=America/Chicago:20251022T190000
DTEND;TZID=America/Chicago:20251022T203000
DTSTAMP:20260421T115025
CREATED:20230511T214433Z
LAST-MODIFIED:20230511T214433Z
UID:10001700-1761159600-1761165000@holyspiritmgm.org
SUMMARY:Youth Group
DESCRIPTION:Meet in the Parish Hall
URL:https://holyspiritmgm.org/event/youth-group/2025-10-22/
END:VEVENT
BEGIN:VEVENT
DTSTART;TZID=America/Chicago:20251026T091500
DTEND;TZID=America/Chicago:20251026T104500
DTSTAMP:20260421T115025
CREATED:20230511T214810Z
LAST-MODIFIED:20230511T214810Z
UID:10001962-1761470100-1761475500@holyspiritmgm.org
SUMMARY:Adult Faith Formation Class
DESCRIPTION:Meet in the Parish Hall
URL:https://holyspiritmgm.org/event/adult-faith-formation-class/2025-10-26/
END:VEVENT
BEGIN:VEVENT
DTSTART;TZID=America/Chicago:20251026T091500
DTEND;TZID=America/Chicago:20251026T104500
DTSTAMP:20260421T115025
CREATED:20230511T215038Z
LAST-MODIFIED:20230511T215112Z
UID:10002223-1761470100-1761475500@holyspiritmgm.org
SUMMARY:Children Faith Formation
DESCRIPTION:Meet in the School
URL:https://holyspiritmgm.org/event/children-faith-formation/2025-10-26/
END:VEVENT
BEGIN:VEVENT
DTSTART;TZID=America/Chicago:20251028T090000
DTEND;TZID=America/Chicago:20251028T110000
DTSTAMP:20260421T115025
CREATED:20230511T185318Z
LAST-MODIFIED:20230511T185951Z
UID:10000129-1761642000-1761649200@holyspiritmgm.org
SUMMARY:Knitting and Crocheting Meeting
DESCRIPTION:Meet in the Library. \nQuestions\, Contact Peggy Comer 828-490-7976
URL:https://holyspiritmgm.org/event/knitting-and-crocheting-meeting/2025-10-28/
END:VEVENT
BEGIN:VEVENT
DTSTART;TZID=America/Chicago:20251028T190000
DTEND;TZID=America/Chicago:20251028T203000
DTSTAMP:20260421T115025
CREATED:20230511T190228Z
LAST-MODIFIED:20230511T190449Z
UID:10000391-1761678000-1761683400@holyspiritmgm.org
SUMMARY:Adult Choir Practice
DESCRIPTION:
URL:https://holyspiritmgm.org/event/adult-choir-practice/2025-10-28/
END:VEVENT
BEGIN:VEVENT
DTSTART;TZID=America/Chicago:20251029T090000
DTEND;TZID=America/Chicago:20251030T090000
DTSTAMP:20260421T115025
CREATED:20230511T190633Z
LAST-MODIFIED:20230511T213547Z
UID:10000653-1761728400-1761814800@holyspiritmgm.org
SUMMARY:Eucharistic Adoration
DESCRIPTION:Begins 9am Wednesday until 8am Thursday
URL:https://holyspiritmgm.org/event/eucharistic-adoration/2025-10-29/
END:VEVENT
BEGIN:VEVENT
DTSTART;TZID=America/Chicago:20251029T173000
DTEND;TZID=America/Chicago:20251029T181500
DTSTAMP:20260421T115025
CREATED:20230511T213850Z
LAST-MODIFIED:20230511T214027Z
UID:10001177-1761759000-1761761700@holyspiritmgm.org
SUMMARY:Men of St. Joseph
DESCRIPTION:Meet in the Library
URL:https://holyspiritmgm.org/event/men-of-st-joseph/2025-10-29/
END:VEVENT
BEGIN:VEVENT
DTSTART;TZID=America/Chicago:20251029T173000
DTEND;TZID=America/Chicago:20251029T183000
DTSTAMP:20260421T115025
CREATED:20230511T213706Z
LAST-MODIFIED:20230511T213706Z
UID:10000915-1761759000-1761762600@holyspiritmgm.org
SUMMARY:Daughters of Mary
DESCRIPTION:
URL:https://holyspiritmgm.org/event/daughters-of-mary/2025-10-29/
END:VEVENT
BEGIN:VEVENT
DTSTART;TZID=America/Chicago:20251029T190000
DTEND;TZID=America/Chicago:20251029T203000
DTSTAMP:20260421T115025
CREATED:20230511T214255Z
LAST-MODIFIED:20230511T214255Z
UID:10001439-1761764400-1761769800@holyspiritmgm.org
SUMMARY:Adult Bible Study
DESCRIPTION:Meet in the Library
URL:https://holyspiritmgm.org/event/adult-bible-study/2025-10-29/
END:VEVENT
BEGIN:VEVENT
DTSTART;TZID=America/Chicago:20251029T190000
DTEND;TZID=America/Chicago:20251029T203000
DTSTAMP:20260421T115025
CREATED:20230511T214433Z
LAST-MODIFIED:20230511T214433Z
UID:10001701-1761764400-1761769800@holyspiritmgm.org
SUMMARY:Youth Group
DESCRIPTION:Meet in the Parish Hall
URL:https://holyspiritmgm.org/event/youth-group/2025-10-29/
END:VEVENT
BEGIN:VEVENT
DTSTART;TZID=America/Chicago:20251102T091500
DTEND;TZID=America/Chicago:20251102T104500
DTSTAMP:20260421T115025
CREATED:20230511T214810Z
LAST-MODIFIED:20230511T214810Z
UID:10001963-1762074900-1762080300@holyspiritmgm.org
SUMMARY:Adult Faith Formation Class
DESCRIPTION:Meet in the Parish Hall
URL:https://holyspiritmgm.org/event/adult-faith-formation-class/2025-11-02/
END:VEVENT
BEGIN:VEVENT
DTSTART;TZID=America/Chicago:20251102T091500
DTEND;TZID=America/Chicago:20251102T104500
DTSTAMP:20260421T115025
CREATED:20230511T215038Z
LAST-MODIFIED:20230511T215112Z
UID:10002224-1762074900-1762080300@holyspiritmgm.org
SUMMARY:Children Faith Formation
DESCRIPTION:Meet in the School
URL:https://holyspiritmgm.org/event/children-faith-formation/2025-11-02/
END:VEVENT
BEGIN:VEVENT
DTSTART;TZID=America/Chicago:20251104T090000
DTEND;TZID=America/Chicago:20251104T110000
DTSTAMP:20260421T115025
CREATED:20230511T185318Z
LAST-MODIFIED:20230511T185951Z
UID:10000130-1762246800-1762254000@holyspiritmgm.org
SUMMARY:Knitting and Crocheting Meeting
DESCRIPTION:Meet in the Library. \nQuestions\, Contact Peggy Comer 828-490-7976
URL:https://holyspiritmgm.org/event/knitting-and-crocheting-meeting/2025-11-04/
END:VEVENT
BEGIN:VEVENT
DTSTART;TZID=America/Chicago:20251104T190000
DTEND;TZID=America/Chicago:20251104T203000
DTSTAMP:20260421T115025
CREATED:20230511T190228Z
LAST-MODIFIED:20230511T190449Z
UID:10000392-1762282800-1762288200@holyspiritmgm.org
SUMMARY:Adult Choir Practice
DESCRIPTION:
URL:https://holyspiritmgm.org/event/adult-choir-practice/2025-11-04/
END:VEVENT
BEGIN:VEVENT
DTSTART;TZID=America/Chicago:20251105T090000
DTEND;TZID=America/Chicago:20251106T090000
DTSTAMP:20260421T115025
CREATED:20230511T190633Z
LAST-MODIFIED:20230511T213547Z
UID:10000654-1762333200-1762419600@holyspiritmgm.org
SUMMARY:Eucharistic Adoration
DESCRIPTION:Begins 9am Wednesday until 8am Thursday
URL:https://holyspiritmgm.org/event/eucharistic-adoration/2025-11-05/
END:VEVENT
BEGIN:VEVENT
DTSTART;TZID=America/Chicago:20251105T173000
DTEND;TZID=America/Chicago:20251105T181500
DTSTAMP:20260421T115025
CREATED:20230511T213850Z
LAST-MODIFIED:20230511T214027Z
UID:10001178-1762363800-1762366500@holyspiritmgm.org
SUMMARY:Men of St. Joseph
DESCRIPTION:Meet in the Library
URL:https://holyspiritmgm.org/event/men-of-st-joseph/2025-11-05/
END:VEVENT
BEGIN:VEVENT
DTSTART;TZID=America/Chicago:20251105T173000
DTEND;TZID=America/Chicago:20251105T183000
DTSTAMP:20260421T115025
CREATED:20230511T213706Z
LAST-MODIFIED:20230511T213706Z
UID:10000916-1762363800-1762367400@holyspiritmgm.org
SUMMARY:Daughters of Mary
DESCRIPTION:
URL:https://holyspiritmgm.org/event/daughters-of-mary/2025-11-05/
END:VEVENT
BEGIN:VEVENT
DTSTART;TZID=America/Chicago:20251105T190000
DTEND;TZID=America/Chicago:20251105T203000
DTSTAMP:20260421T115025
CREATED:20230511T214255Z
LAST-MODIFIED:20230511T214255Z
UID:10001440-1762369200-1762374600@holyspiritmgm.org
SUMMARY:Adult Bible Study
DESCRIPTION:Meet in the Library
URL:https://holyspiritmgm.org/event/adult-bible-study/2025-11-05/
END:VEVENT
BEGIN:VEVENT
DTSTART;TZID=America/Chicago:20251105T190000
DTEND;TZID=America/Chicago:20251105T203000
DTSTAMP:20260421T115025
CREATED:20230511T214433Z
LAST-MODIFIED:20230511T214433Z
UID:10001702-1762369200-1762374600@holyspiritmgm.org
SUMMARY:Youth Group
DESCRIPTION:Meet in the Parish Hall
URL:https://holyspiritmgm.org/event/youth-group/2025-11-05/
END:VEVENT
BEGIN:VEVENT
DTSTART;TZID=America/Chicago:20251109T091500
DTEND;TZID=America/Chicago:20251109T104500
DTSTAMP:20260421T115025
CREATED:20230511T214810Z
LAST-MODIFIED:20230511T214810Z
UID:10001964-1762679700-1762685100@holyspiritmgm.org
SUMMARY:Adult Faith Formation Class
DESCRIPTION:Meet in the Parish Hall
URL:https://holyspiritmgm.org/event/adult-faith-formation-class/2025-11-09/
END:VEVENT
BEGIN:VEVENT
DTSTART;TZID=America/Chicago:20251109T091500
DTEND;TZID=America/Chicago:20251109T104500
DTSTAMP:20260421T115025
CREATED:20230511T215038Z
LAST-MODIFIED:20230511T215112Z
UID:10002225-1762679700-1762685100@holyspiritmgm.org
SUMMARY:Children Faith Formation
DESCRIPTION:Meet in the School
URL:https://holyspiritmgm.org/event/children-faith-formation/2025-11-09/
END:VEVENT
BEGIN:VEVENT
DTSTART;TZID=America/Chicago:20251111T090000
DTEND;TZID=America/Chicago:20251111T110000
DTSTAMP:20260421T115025
CREATED:20230511T185318Z
LAST-MODIFIED:20230511T185951Z
UID:10000131-1762851600-1762858800@holyspiritmgm.org
SUMMARY:Knitting and Crocheting Meeting
DESCRIPTION:Meet in the Library. \nQuestions\, Contact Peggy Comer 828-490-7976
URL:https://holyspiritmgm.org/event/knitting-and-crocheting-meeting/2025-11-11/
END:VEVENT
BEGIN:VEVENT
DTSTART;TZID=America/Chicago:20251111T190000
DTEND;TZID=America/Chicago:20251111T203000
DTSTAMP:20260421T115025
CREATED:20230511T190228Z
LAST-MODIFIED:20230511T190449Z
UID:10000393-1762887600-1762893000@holyspiritmgm.org
SUMMARY:Adult Choir Practice
DESCRIPTION:
URL:https://holyspiritmgm.org/event/adult-choir-practice/2025-11-11/
END:VEVENT
BEGIN:VEVENT
DTSTART;TZID=America/Chicago:20251112T090000
DTEND;TZID=America/Chicago:20251113T090000
DTSTAMP:20260421T115025
CREATED:20230511T190633Z
LAST-MODIFIED:20230511T213547Z
UID:10000655-1762938000-1763024400@holyspiritmgm.org
SUMMARY:Eucharistic Adoration
DESCRIPTION:Begins 9am Wednesday until 8am Thursday
URL:https://holyspiritmgm.org/event/eucharistic-adoration/2025-11-12/
END:VEVENT
BEGIN:VEVENT
DTSTART;TZID=America/Chicago:20251112T173000
DTEND;TZID=America/Chicago:20251112T181500
DTSTAMP:20260421T115025
CREATED:20230511T213850Z
LAST-MODIFIED:20230511T214027Z
UID:10001179-1762968600-1762971300@holyspiritmgm.org
SUMMARY:Men of St. Joseph
DESCRIPTION:Meet in the Library
URL:https://holyspiritmgm.org/event/men-of-st-joseph/2025-11-12/
END:VEVENT
END:VCALENDAR