BEGIN:VCALENDAR
VERSION:2.0
PRODID:-//Holy Spirit Catholic Church - ECPv6.15.20//NONSGML v1.0//EN
CALSCALE:GREGORIAN
METHOD:PUBLISH
X-ORIGINAL-URL:https://holyspiritmgm.org
X-WR-CALDESC:Events for Holy Spirit Catholic Church
REFRESH-INTERVAL;VALUE=DURATION:PT1H
X-Robots-Tag:noindex
X-PUBLISHED-TTL:PT1H
BEGIN:VTIMEZONE
TZID:America/Chicago
BEGIN:DAYLIGHT
TZOFFSETFROM:-0600
TZOFFSETTO:-0500
TZNAME:CDT
DTSTART:20230312T080000
END:DAYLIGHT
BEGIN:STANDARD
TZOFFSETFROM:-0500
TZOFFSETTO:-0600
TZNAME:CST
DTSTART:20231105T070000
END:STANDARD
BEGIN:DAYLIGHT
TZOFFSETFROM:-0600
TZOFFSETTO:-0500
TZNAME:CDT
DTSTART:20240310T080000
END:DAYLIGHT
BEGIN:STANDARD
TZOFFSETFROM:-0500
TZOFFSETTO:-0600
TZNAME:CST
DTSTART:20241103T070000
END:STANDARD
BEGIN:DAYLIGHT
TZOFFSETFROM:-0600
TZOFFSETTO:-0500
TZNAME:CDT
DTSTART:20250309T080000
END:DAYLIGHT
BEGIN:STANDARD
TZOFFSETFROM:-0500
TZOFFSETTO:-0600
TZNAME:CST
DTSTART:20251102T070000
END:STANDARD
END:VTIMEZONE
BEGIN:VEVENT
DTSTART;TZID=America/Chicago:20240724T090000
DTEND;TZID=America/Chicago:20240725T090000
DTSTAMP:20260422T175137
CREATED:20230511T190633Z
LAST-MODIFIED:20230511T213547Z
UID:10000587-1721811600-1721898000@holyspiritmgm.org
SUMMARY:Eucharistic Adoration
DESCRIPTION:Begins 9am Wednesday until 8am Thursday
URL:https://holyspiritmgm.org/event/eucharistic-adoration/2024-07-24/
END:VEVENT
BEGIN:VEVENT
DTSTART;TZID=America/Chicago:20240724T173000
DTEND;TZID=America/Chicago:20240724T181500
DTSTAMP:20260422T175137
CREATED:20230511T213850Z
LAST-MODIFIED:20230511T214027Z
UID:10001111-1721842200-1721844900@holyspiritmgm.org
SUMMARY:Men of St. Joseph
DESCRIPTION:Meet in the Library
URL:https://holyspiritmgm.org/event/men-of-st-joseph/2024-07-24/
END:VEVENT
BEGIN:VEVENT
DTSTART;TZID=America/Chicago:20240724T173000
DTEND;TZID=America/Chicago:20240724T183000
DTSTAMP:20260422T175137
CREATED:20230511T213706Z
LAST-MODIFIED:20230511T213706Z
UID:10000849-1721842200-1721845800@holyspiritmgm.org
SUMMARY:Daughters of Mary
DESCRIPTION:
URL:https://holyspiritmgm.org/event/daughters-of-mary/2024-07-24/
END:VEVENT
BEGIN:VEVENT
DTSTART;TZID=America/Chicago:20240724T190000
DTEND;TZID=America/Chicago:20240724T203000
DTSTAMP:20260422T175137
CREATED:20230511T214255Z
LAST-MODIFIED:20230511T214255Z
UID:10001373-1721847600-1721853000@holyspiritmgm.org
SUMMARY:Adult Bible Study
DESCRIPTION:Meet in the Library
URL:https://holyspiritmgm.org/event/adult-bible-study/2024-07-24/
END:VEVENT
BEGIN:VEVENT
DTSTART;TZID=America/Chicago:20240724T190000
DTEND;TZID=America/Chicago:20240724T203000
DTSTAMP:20260422T175137
CREATED:20230511T214433Z
LAST-MODIFIED:20230511T214433Z
UID:10001635-1721847600-1721853000@holyspiritmgm.org
SUMMARY:Youth Group
DESCRIPTION:Meet in the Parish Hall
URL:https://holyspiritmgm.org/event/youth-group/2024-07-24/
END:VEVENT
BEGIN:VEVENT
DTSTART;TZID=America/Chicago:20240728T091500
DTEND;TZID=America/Chicago:20240728T104500
DTSTAMP:20260422T175137
CREATED:20230511T214810Z
LAST-MODIFIED:20230511T214810Z
UID:10001897-1722158100-1722163500@holyspiritmgm.org
SUMMARY:Adult Faith Formation Class
DESCRIPTION:Meet in the Parish Hall
URL:https://holyspiritmgm.org/event/adult-faith-formation-class/2024-07-28/
END:VEVENT
BEGIN:VEVENT
DTSTART;TZID=America/Chicago:20240728T091500
DTEND;TZID=America/Chicago:20240728T104500
DTSTAMP:20260422T175137
CREATED:20230511T215038Z
LAST-MODIFIED:20230511T215112Z
UID:10002158-1722158100-1722163500@holyspiritmgm.org
SUMMARY:Children Faith Formation
DESCRIPTION:Meet in the School
URL:https://holyspiritmgm.org/event/children-faith-formation/2024-07-28/
END:VEVENT
BEGIN:VEVENT
DTSTART;TZID=America/Chicago:20240730T090000
DTEND;TZID=America/Chicago:20240730T110000
DTSTAMP:20260422T175137
CREATED:20230511T185318Z
LAST-MODIFIED:20230511T185951Z
UID:10000064-1722330000-1722337200@holyspiritmgm.org
SUMMARY:Knitting and Crocheting Meeting
DESCRIPTION:Meet in the Library. \nQuestions\, Contact Peggy Comer 828-490-7976
URL:https://holyspiritmgm.org/event/knitting-and-crocheting-meeting/2024-07-30/
END:VEVENT
BEGIN:VEVENT
DTSTART;TZID=America/Chicago:20240730T190000
DTEND;TZID=America/Chicago:20240730T203000
DTSTAMP:20260422T175137
CREATED:20230511T190228Z
LAST-MODIFIED:20230511T190449Z
UID:10000326-1722366000-1722371400@holyspiritmgm.org
SUMMARY:Adult Choir Practice
DESCRIPTION:
URL:https://holyspiritmgm.org/event/adult-choir-practice/2024-07-30/
END:VEVENT
BEGIN:VEVENT
DTSTART;TZID=America/Chicago:20240731T090000
DTEND;TZID=America/Chicago:20240801T090000
DTSTAMP:20260422T175137
CREATED:20230511T190633Z
LAST-MODIFIED:20230511T213547Z
UID:10000588-1722416400-1722502800@holyspiritmgm.org
SUMMARY:Eucharistic Adoration
DESCRIPTION:Begins 9am Wednesday until 8am Thursday
URL:https://holyspiritmgm.org/event/eucharistic-adoration/2024-07-31/
END:VEVENT
BEGIN:VEVENT
DTSTART;TZID=America/Chicago:20240731T173000
DTEND;TZID=America/Chicago:20240731T181500
DTSTAMP:20260422T175137
CREATED:20230511T213850Z
LAST-MODIFIED:20230511T214027Z
UID:10001112-1722447000-1722449700@holyspiritmgm.org
SUMMARY:Men of St. Joseph
DESCRIPTION:Meet in the Library
URL:https://holyspiritmgm.org/event/men-of-st-joseph/2024-07-31/
END:VEVENT
BEGIN:VEVENT
DTSTART;TZID=America/Chicago:20240731T173000
DTEND;TZID=America/Chicago:20240731T183000
DTSTAMP:20260422T175137
CREATED:20230511T213706Z
LAST-MODIFIED:20230511T213706Z
UID:10000850-1722447000-1722450600@holyspiritmgm.org
SUMMARY:Daughters of Mary
DESCRIPTION:
URL:https://holyspiritmgm.org/event/daughters-of-mary/2024-07-31/
END:VEVENT
BEGIN:VEVENT
DTSTART;TZID=America/Chicago:20240731T190000
DTEND;TZID=America/Chicago:20240731T203000
DTSTAMP:20260422T175137
CREATED:20230511T214255Z
LAST-MODIFIED:20230511T214255Z
UID:10001374-1722452400-1722457800@holyspiritmgm.org
SUMMARY:Adult Bible Study
DESCRIPTION:Meet in the Library
URL:https://holyspiritmgm.org/event/adult-bible-study/2024-07-31/
END:VEVENT
BEGIN:VEVENT
DTSTART;TZID=America/Chicago:20240731T190000
DTEND;TZID=America/Chicago:20240731T203000
DTSTAMP:20260422T175137
CREATED:20230511T214433Z
LAST-MODIFIED:20230511T214433Z
UID:10001636-1722452400-1722457800@holyspiritmgm.org
SUMMARY:Youth Group
DESCRIPTION:Meet in the Parish Hall
URL:https://holyspiritmgm.org/event/youth-group/2024-07-31/
END:VEVENT
BEGIN:VEVENT
DTSTART;TZID=America/Chicago:20240804T091500
DTEND;TZID=America/Chicago:20240804T104500
DTSTAMP:20260422T175137
CREATED:20230511T214810Z
LAST-MODIFIED:20230511T214810Z
UID:10001898-1722762900-1722768300@holyspiritmgm.org
SUMMARY:Adult Faith Formation Class
DESCRIPTION:Meet in the Parish Hall
URL:https://holyspiritmgm.org/event/adult-faith-formation-class/2024-08-04/
END:VEVENT
BEGIN:VEVENT
DTSTART;TZID=America/Chicago:20240804T091500
DTEND;TZID=America/Chicago:20240804T104500
DTSTAMP:20260422T175137
CREATED:20230511T215038Z
LAST-MODIFIED:20230511T215112Z
UID:10002159-1722762900-1722768300@holyspiritmgm.org
SUMMARY:Children Faith Formation
DESCRIPTION:Meet in the School
URL:https://holyspiritmgm.org/event/children-faith-formation/2024-08-04/
END:VEVENT
BEGIN:VEVENT
DTSTART;TZID=America/Chicago:20240806T090000
DTEND;TZID=America/Chicago:20240806T110000
DTSTAMP:20260422T175137
CREATED:20230511T185318Z
LAST-MODIFIED:20230511T185951Z
UID:10000065-1722934800-1722942000@holyspiritmgm.org
SUMMARY:Knitting and Crocheting Meeting
DESCRIPTION:Meet in the Library. \nQuestions\, Contact Peggy Comer 828-490-7976
URL:https://holyspiritmgm.org/event/knitting-and-crocheting-meeting/2024-08-06/
END:VEVENT
BEGIN:VEVENT
DTSTART;TZID=America/Chicago:20240806T190000
DTEND;TZID=America/Chicago:20240806T203000
DTSTAMP:20260422T175137
CREATED:20230511T190228Z
LAST-MODIFIED:20230511T190449Z
UID:10000327-1722970800-1722976200@holyspiritmgm.org
SUMMARY:Adult Choir Practice
DESCRIPTION:
URL:https://holyspiritmgm.org/event/adult-choir-practice/2024-08-06/
END:VEVENT
BEGIN:VEVENT
DTSTART;TZID=America/Chicago:20240807T090000
DTEND;TZID=America/Chicago:20240808T090000
DTSTAMP:20260422T175137
CREATED:20230511T190633Z
LAST-MODIFIED:20230511T213547Z
UID:10000589-1723021200-1723107600@holyspiritmgm.org
SUMMARY:Eucharistic Adoration
DESCRIPTION:Begins 9am Wednesday until 8am Thursday
URL:https://holyspiritmgm.org/event/eucharistic-adoration/2024-08-07/
END:VEVENT
BEGIN:VEVENT
DTSTART;TZID=America/Chicago:20240807T173000
DTEND;TZID=America/Chicago:20240807T181500
DTSTAMP:20260422T175137
CREATED:20230511T213850Z
LAST-MODIFIED:20230511T214027Z
UID:10001113-1723051800-1723054500@holyspiritmgm.org
SUMMARY:Men of St. Joseph
DESCRIPTION:Meet in the Library
URL:https://holyspiritmgm.org/event/men-of-st-joseph/2024-08-07/
END:VEVENT
BEGIN:VEVENT
DTSTART;TZID=America/Chicago:20240807T173000
DTEND;TZID=America/Chicago:20240807T183000
DTSTAMP:20260422T175137
CREATED:20230511T213706Z
LAST-MODIFIED:20230511T213706Z
UID:10000851-1723051800-1723055400@holyspiritmgm.org
SUMMARY:Daughters of Mary
DESCRIPTION:
URL:https://holyspiritmgm.org/event/daughters-of-mary/2024-08-07/
END:VEVENT
BEGIN:VEVENT
DTSTART;TZID=America/Chicago:20240807T190000
DTEND;TZID=America/Chicago:20240807T203000
DTSTAMP:20260422T175137
CREATED:20230511T214255Z
LAST-MODIFIED:20230511T214255Z
UID:10001375-1723057200-1723062600@holyspiritmgm.org
SUMMARY:Adult Bible Study
DESCRIPTION:Meet in the Library
URL:https://holyspiritmgm.org/event/adult-bible-study/2024-08-07/
END:VEVENT
BEGIN:VEVENT
DTSTART;TZID=America/Chicago:20240807T190000
DTEND;TZID=America/Chicago:20240807T203000
DTSTAMP:20260422T175137
CREATED:20230511T214433Z
LAST-MODIFIED:20230511T214433Z
UID:10001637-1723057200-1723062600@holyspiritmgm.org
SUMMARY:Youth Group
DESCRIPTION:Meet in the Parish Hall
URL:https://holyspiritmgm.org/event/youth-group/2024-08-07/
END:VEVENT
BEGIN:VEVENT
DTSTART;TZID=America/Chicago:20240811T091500
DTEND;TZID=America/Chicago:20240811T104500
DTSTAMP:20260422T175137
CREATED:20230511T214810Z
LAST-MODIFIED:20230511T214810Z
UID:10001899-1723367700-1723373100@holyspiritmgm.org
SUMMARY:Adult Faith Formation Class
DESCRIPTION:Meet in the Parish Hall
URL:https://holyspiritmgm.org/event/adult-faith-formation-class/2024-08-11/
END:VEVENT
BEGIN:VEVENT
DTSTART;TZID=America/Chicago:20240811T091500
DTEND;TZID=America/Chicago:20240811T104500
DTSTAMP:20260422T175137
CREATED:20230511T215038Z
LAST-MODIFIED:20230511T215112Z
UID:10002160-1723367700-1723373100@holyspiritmgm.org
SUMMARY:Children Faith Formation
DESCRIPTION:Meet in the School
URL:https://holyspiritmgm.org/event/children-faith-formation/2024-08-11/
END:VEVENT
BEGIN:VEVENT
DTSTART;TZID=America/Chicago:20240813T090000
DTEND;TZID=America/Chicago:20240813T110000
DTSTAMP:20260422T175137
CREATED:20230511T185318Z
LAST-MODIFIED:20230511T185951Z
UID:10000066-1723539600-1723546800@holyspiritmgm.org
SUMMARY:Knitting and Crocheting Meeting
DESCRIPTION:Meet in the Library. \nQuestions\, Contact Peggy Comer 828-490-7976
URL:https://holyspiritmgm.org/event/knitting-and-crocheting-meeting/2024-08-13/
END:VEVENT
BEGIN:VEVENT
DTSTART;TZID=America/Chicago:20240813T190000
DTEND;TZID=America/Chicago:20240813T203000
DTSTAMP:20260422T175137
CREATED:20230511T190228Z
LAST-MODIFIED:20230511T190449Z
UID:10000328-1723575600-1723581000@holyspiritmgm.org
SUMMARY:Adult Choir Practice
DESCRIPTION:
URL:https://holyspiritmgm.org/event/adult-choir-practice/2024-08-13/
END:VEVENT
BEGIN:VEVENT
DTSTART;TZID=America/Chicago:20240814T090000
DTEND;TZID=America/Chicago:20240815T090000
DTSTAMP:20260422T175137
CREATED:20230511T190633Z
LAST-MODIFIED:20230511T213547Z
UID:10000590-1723626000-1723712400@holyspiritmgm.org
SUMMARY:Eucharistic Adoration
DESCRIPTION:Begins 9am Wednesday until 8am Thursday
URL:https://holyspiritmgm.org/event/eucharistic-adoration/2024-08-14/
END:VEVENT
BEGIN:VEVENT
DTSTART;TZID=America/Chicago:20240814T173000
DTEND;TZID=America/Chicago:20240814T181500
DTSTAMP:20260422T175137
CREATED:20230511T213850Z
LAST-MODIFIED:20230511T214027Z
UID:10001114-1723656600-1723659300@holyspiritmgm.org
SUMMARY:Men of St. Joseph
DESCRIPTION:Meet in the Library
URL:https://holyspiritmgm.org/event/men-of-st-joseph/2024-08-14/
END:VEVENT
BEGIN:VEVENT
DTSTART;TZID=America/Chicago:20240814T173000
DTEND;TZID=America/Chicago:20240814T183000
DTSTAMP:20260422T175137
CREATED:20230511T213706Z
LAST-MODIFIED:20230511T213706Z
UID:10000852-1723656600-1723660200@holyspiritmgm.org
SUMMARY:Daughters of Mary
DESCRIPTION:
URL:https://holyspiritmgm.org/event/daughters-of-mary/2024-08-14/
END:VEVENT
END:VCALENDAR