BEGIN:VCALENDAR
VERSION:2.0
PRODID:-//Holy Spirit Catholic Church - ECPv6.15.20//NONSGML v1.0//EN
CALSCALE:GREGORIAN
METHOD:PUBLISH
X-ORIGINAL-URL:https://holyspiritmgm.org
X-WR-CALDESC:Events for Holy Spirit Catholic Church
REFRESH-INTERVAL;VALUE=DURATION:PT1H
X-Robots-Tag:noindex
X-PUBLISHED-TTL:PT1H
BEGIN:VTIMEZONE
TZID:America/Chicago
BEGIN:DAYLIGHT
TZOFFSETFROM:-0600
TZOFFSETTO:-0500
TZNAME:CDT
DTSTART:20230312T080000
END:DAYLIGHT
BEGIN:STANDARD
TZOFFSETFROM:-0500
TZOFFSETTO:-0600
TZNAME:CST
DTSTART:20231105T070000
END:STANDARD
BEGIN:DAYLIGHT
TZOFFSETFROM:-0600
TZOFFSETTO:-0500
TZNAME:CDT
DTSTART:20240310T080000
END:DAYLIGHT
BEGIN:STANDARD
TZOFFSETFROM:-0500
TZOFFSETTO:-0600
TZNAME:CST
DTSTART:20241103T070000
END:STANDARD
BEGIN:DAYLIGHT
TZOFFSETFROM:-0600
TZOFFSETTO:-0500
TZNAME:CDT
DTSTART:20250309T080000
END:DAYLIGHT
BEGIN:STANDARD
TZOFFSETFROM:-0500
TZOFFSETTO:-0600
TZNAME:CST
DTSTART:20251102T070000
END:STANDARD
END:VTIMEZONE
BEGIN:VEVENT
DTSTART;TZID=America/Chicago:20240915T091500
DTEND;TZID=America/Chicago:20240915T104500
DTSTAMP:20260422T155901
CREATED:20230511T214810Z
LAST-MODIFIED:20230511T214810Z
UID:10001904-1726391700-1726397100@holyspiritmgm.org
SUMMARY:Adult Faith Formation Class
DESCRIPTION:Meet in the Parish Hall
URL:https://holyspiritmgm.org/event/adult-faith-formation-class/2024-09-15/
END:VEVENT
BEGIN:VEVENT
DTSTART;TZID=America/Chicago:20240915T091500
DTEND;TZID=America/Chicago:20240915T104500
DTSTAMP:20260422T155901
CREATED:20230511T215038Z
LAST-MODIFIED:20230511T215112Z
UID:10002165-1726391700-1726397100@holyspiritmgm.org
SUMMARY:Children Faith Formation
DESCRIPTION:Meet in the School
URL:https://holyspiritmgm.org/event/children-faith-formation/2024-09-15/
END:VEVENT
BEGIN:VEVENT
DTSTART;TZID=America/Chicago:20240917T090000
DTEND;TZID=America/Chicago:20240917T110000
DTSTAMP:20260422T155901
CREATED:20230511T185318Z
LAST-MODIFIED:20230511T185951Z
UID:10000071-1726563600-1726570800@holyspiritmgm.org
SUMMARY:Knitting and Crocheting Meeting
DESCRIPTION:Meet in the Library. \nQuestions\, Contact Peggy Comer 828-490-7976
URL:https://holyspiritmgm.org/event/knitting-and-crocheting-meeting/2024-09-17/
END:VEVENT
BEGIN:VEVENT
DTSTART;TZID=America/Chicago:20240917T190000
DTEND;TZID=America/Chicago:20240917T203000
DTSTAMP:20260422T155901
CREATED:20230511T190228Z
LAST-MODIFIED:20230511T190449Z
UID:10000333-1726599600-1726605000@holyspiritmgm.org
SUMMARY:Adult Choir Practice
DESCRIPTION:
URL:https://holyspiritmgm.org/event/adult-choir-practice/2024-09-17/
END:VEVENT
BEGIN:VEVENT
DTSTART;TZID=America/Chicago:20240918T090000
DTEND;TZID=America/Chicago:20240919T090000
DTSTAMP:20260422T155901
CREATED:20230511T190633Z
LAST-MODIFIED:20230511T213547Z
UID:10000595-1726650000-1726736400@holyspiritmgm.org
SUMMARY:Eucharistic Adoration
DESCRIPTION:Begins 9am Wednesday until 8am Thursday
URL:https://holyspiritmgm.org/event/eucharistic-adoration/2024-09-18/
END:VEVENT
BEGIN:VEVENT
DTSTART;TZID=America/Chicago:20240918T173000
DTEND;TZID=America/Chicago:20240918T181500
DTSTAMP:20260422T155901
CREATED:20230511T213850Z
LAST-MODIFIED:20230511T214027Z
UID:10001119-1726680600-1726683300@holyspiritmgm.org
SUMMARY:Men of St. Joseph
DESCRIPTION:Meet in the Library
URL:https://holyspiritmgm.org/event/men-of-st-joseph/2024-09-18/
END:VEVENT
BEGIN:VEVENT
DTSTART;TZID=America/Chicago:20240918T173000
DTEND;TZID=America/Chicago:20240918T183000
DTSTAMP:20260422T155901
CREATED:20230511T213706Z
LAST-MODIFIED:20230511T213706Z
UID:10000857-1726680600-1726684200@holyspiritmgm.org
SUMMARY:Daughters of Mary
DESCRIPTION:
URL:https://holyspiritmgm.org/event/daughters-of-mary/2024-09-18/
END:VEVENT
BEGIN:VEVENT
DTSTART;TZID=America/Chicago:20240918T190000
DTEND;TZID=America/Chicago:20240918T203000
DTSTAMP:20260422T155901
CREATED:20230511T214255Z
LAST-MODIFIED:20230511T214255Z
UID:10001381-1726686000-1726691400@holyspiritmgm.org
SUMMARY:Adult Bible Study
DESCRIPTION:Meet in the Library
URL:https://holyspiritmgm.org/event/adult-bible-study/2024-09-18/
END:VEVENT
BEGIN:VEVENT
DTSTART;TZID=America/Chicago:20240918T190000
DTEND;TZID=America/Chicago:20240918T203000
DTSTAMP:20260422T155901
CREATED:20230511T214433Z
LAST-MODIFIED:20230511T214433Z
UID:10001643-1726686000-1726691400@holyspiritmgm.org
SUMMARY:Youth Group
DESCRIPTION:Meet in the Parish Hall
URL:https://holyspiritmgm.org/event/youth-group/2024-09-18/
END:VEVENT
BEGIN:VEVENT
DTSTART;TZID=America/Chicago:20240922T091500
DTEND;TZID=America/Chicago:20240922T104500
DTSTAMP:20260422T155901
CREATED:20230511T214810Z
LAST-MODIFIED:20230511T214810Z
UID:10001905-1726996500-1727001900@holyspiritmgm.org
SUMMARY:Adult Faith Formation Class
DESCRIPTION:Meet in the Parish Hall
URL:https://holyspiritmgm.org/event/adult-faith-formation-class/2024-09-22/
END:VEVENT
BEGIN:VEVENT
DTSTART;TZID=America/Chicago:20240922T091500
DTEND;TZID=America/Chicago:20240922T104500
DTSTAMP:20260422T155901
CREATED:20230511T215038Z
LAST-MODIFIED:20230511T215112Z
UID:10002166-1726996500-1727001900@holyspiritmgm.org
SUMMARY:Children Faith Formation
DESCRIPTION:Meet in the School
URL:https://holyspiritmgm.org/event/children-faith-formation/2024-09-22/
END:VEVENT
BEGIN:VEVENT
DTSTART;TZID=America/Chicago:20240924T090000
DTEND;TZID=America/Chicago:20240924T110000
DTSTAMP:20260422T155901
CREATED:20230511T185318Z
LAST-MODIFIED:20230511T185951Z
UID:10000072-1727168400-1727175600@holyspiritmgm.org
SUMMARY:Knitting and Crocheting Meeting
DESCRIPTION:Meet in the Library. \nQuestions\, Contact Peggy Comer 828-490-7976
URL:https://holyspiritmgm.org/event/knitting-and-crocheting-meeting/2024-09-24/
END:VEVENT
BEGIN:VEVENT
DTSTART;TZID=America/Chicago:20240924T190000
DTEND;TZID=America/Chicago:20240924T203000
DTSTAMP:20260422T155901
CREATED:20230511T190228Z
LAST-MODIFIED:20230511T190449Z
UID:10000334-1727204400-1727209800@holyspiritmgm.org
SUMMARY:Adult Choir Practice
DESCRIPTION:
URL:https://holyspiritmgm.org/event/adult-choir-practice/2024-09-24/
END:VEVENT
BEGIN:VEVENT
DTSTART;TZID=America/Chicago:20240925T090000
DTEND;TZID=America/Chicago:20240926T090000
DTSTAMP:20260422T155901
CREATED:20230511T190633Z
LAST-MODIFIED:20230511T213547Z
UID:10000596-1727254800-1727341200@holyspiritmgm.org
SUMMARY:Eucharistic Adoration
DESCRIPTION:Begins 9am Wednesday until 8am Thursday
URL:https://holyspiritmgm.org/event/eucharistic-adoration/2024-09-25/
END:VEVENT
BEGIN:VEVENT
DTSTART;TZID=America/Chicago:20240925T173000
DTEND;TZID=America/Chicago:20240925T181500
DTSTAMP:20260422T155901
CREATED:20230511T213850Z
LAST-MODIFIED:20230511T214027Z
UID:10001120-1727285400-1727288100@holyspiritmgm.org
SUMMARY:Men of St. Joseph
DESCRIPTION:Meet in the Library
URL:https://holyspiritmgm.org/event/men-of-st-joseph/2024-09-25/
END:VEVENT
BEGIN:VEVENT
DTSTART;TZID=America/Chicago:20240925T173000
DTEND;TZID=America/Chicago:20240925T183000
DTSTAMP:20260422T155901
CREATED:20230511T213706Z
LAST-MODIFIED:20230511T213706Z
UID:10000858-1727285400-1727289000@holyspiritmgm.org
SUMMARY:Daughters of Mary
DESCRIPTION:
URL:https://holyspiritmgm.org/event/daughters-of-mary/2024-09-25/
END:VEVENT
BEGIN:VEVENT
DTSTART;TZID=America/Chicago:20240925T190000
DTEND;TZID=America/Chicago:20240925T203000
DTSTAMP:20260422T155901
CREATED:20230511T214255Z
LAST-MODIFIED:20230511T214255Z
UID:10001382-1727290800-1727296200@holyspiritmgm.org
SUMMARY:Adult Bible Study
DESCRIPTION:Meet in the Library
URL:https://holyspiritmgm.org/event/adult-bible-study/2024-09-25/
END:VEVENT
BEGIN:VEVENT
DTSTART;TZID=America/Chicago:20240925T190000
DTEND;TZID=America/Chicago:20240925T203000
DTSTAMP:20260422T155901
CREATED:20230511T214433Z
LAST-MODIFIED:20230511T214433Z
UID:10001644-1727290800-1727296200@holyspiritmgm.org
SUMMARY:Youth Group
DESCRIPTION:Meet in the Parish Hall
URL:https://holyspiritmgm.org/event/youth-group/2024-09-25/
END:VEVENT
BEGIN:VEVENT
DTSTART;TZID=America/Chicago:20240929T091500
DTEND;TZID=America/Chicago:20240929T104500
DTSTAMP:20260422T155901
CREATED:20230511T214810Z
LAST-MODIFIED:20230511T214810Z
UID:10001906-1727601300-1727606700@holyspiritmgm.org
SUMMARY:Adult Faith Formation Class
DESCRIPTION:Meet in the Parish Hall
URL:https://holyspiritmgm.org/event/adult-faith-formation-class/2024-09-29/
END:VEVENT
BEGIN:VEVENT
DTSTART;TZID=America/Chicago:20240929T091500
DTEND;TZID=America/Chicago:20240929T104500
DTSTAMP:20260422T155901
CREATED:20230511T215038Z
LAST-MODIFIED:20230511T215112Z
UID:10002167-1727601300-1727606700@holyspiritmgm.org
SUMMARY:Children Faith Formation
DESCRIPTION:Meet in the School
URL:https://holyspiritmgm.org/event/children-faith-formation/2024-09-29/
END:VEVENT
BEGIN:VEVENT
DTSTART;TZID=America/Chicago:20241001T090000
DTEND;TZID=America/Chicago:20241001T110000
DTSTAMP:20260422T155901
CREATED:20230511T185318Z
LAST-MODIFIED:20230511T185951Z
UID:10000073-1727773200-1727780400@holyspiritmgm.org
SUMMARY:Knitting and Crocheting Meeting
DESCRIPTION:Meet in the Library. \nQuestions\, Contact Peggy Comer 828-490-7976
URL:https://holyspiritmgm.org/event/knitting-and-crocheting-meeting/2024-10-01/
END:VEVENT
BEGIN:VEVENT
DTSTART;TZID=America/Chicago:20241001T190000
DTEND;TZID=America/Chicago:20241001T203000
DTSTAMP:20260422T155901
CREATED:20230511T190228Z
LAST-MODIFIED:20230511T190449Z
UID:10000335-1727809200-1727814600@holyspiritmgm.org
SUMMARY:Adult Choir Practice
DESCRIPTION:
URL:https://holyspiritmgm.org/event/adult-choir-practice/2024-10-01/
END:VEVENT
BEGIN:VEVENT
DTSTART;TZID=America/Chicago:20241002T090000
DTEND;TZID=America/Chicago:20241003T090000
DTSTAMP:20260422T155901
CREATED:20230511T190633Z
LAST-MODIFIED:20230511T213547Z
UID:10000597-1727859600-1727946000@holyspiritmgm.org
SUMMARY:Eucharistic Adoration
DESCRIPTION:Begins 9am Wednesday until 8am Thursday
URL:https://holyspiritmgm.org/event/eucharistic-adoration/2024-10-02/
END:VEVENT
BEGIN:VEVENT
DTSTART;TZID=America/Chicago:20241002T173000
DTEND;TZID=America/Chicago:20241002T181500
DTSTAMP:20260422T155901
CREATED:20230511T213850Z
LAST-MODIFIED:20230511T214027Z
UID:10001121-1727890200-1727892900@holyspiritmgm.org
SUMMARY:Men of St. Joseph
DESCRIPTION:Meet in the Library
URL:https://holyspiritmgm.org/event/men-of-st-joseph/2024-10-02/
END:VEVENT
BEGIN:VEVENT
DTSTART;TZID=America/Chicago:20241002T173000
DTEND;TZID=America/Chicago:20241002T183000
DTSTAMP:20260422T155901
CREATED:20230511T213706Z
LAST-MODIFIED:20230511T213706Z
UID:10000859-1727890200-1727893800@holyspiritmgm.org
SUMMARY:Daughters of Mary
DESCRIPTION:
URL:https://holyspiritmgm.org/event/daughters-of-mary/2024-10-02/
END:VEVENT
BEGIN:VEVENT
DTSTART;TZID=America/Chicago:20241002T190000
DTEND;TZID=America/Chicago:20241002T203000
DTSTAMP:20260422T155901
CREATED:20230511T214255Z
LAST-MODIFIED:20230511T214255Z
UID:10001383-1727895600-1727901000@holyspiritmgm.org
SUMMARY:Adult Bible Study
DESCRIPTION:Meet in the Library
URL:https://holyspiritmgm.org/event/adult-bible-study/2024-10-02/
END:VEVENT
BEGIN:VEVENT
DTSTART;TZID=America/Chicago:20241002T190000
DTEND;TZID=America/Chicago:20241002T203000
DTSTAMP:20260422T155901
CREATED:20230511T214433Z
LAST-MODIFIED:20230511T214433Z
UID:10001645-1727895600-1727901000@holyspiritmgm.org
SUMMARY:Youth Group
DESCRIPTION:Meet in the Parish Hall
URL:https://holyspiritmgm.org/event/youth-group/2024-10-02/
END:VEVENT
BEGIN:VEVENT
DTSTART;TZID=America/Chicago:20241006T091500
DTEND;TZID=America/Chicago:20241006T104500
DTSTAMP:20260422T155901
CREATED:20230511T214810Z
LAST-MODIFIED:20230511T214810Z
UID:10001907-1728206100-1728211500@holyspiritmgm.org
SUMMARY:Adult Faith Formation Class
DESCRIPTION:Meet in the Parish Hall
URL:https://holyspiritmgm.org/event/adult-faith-formation-class/2024-10-06/
END:VEVENT
BEGIN:VEVENT
DTSTART;TZID=America/Chicago:20241006T091500
DTEND;TZID=America/Chicago:20241006T104500
DTSTAMP:20260422T155901
CREATED:20230511T215038Z
LAST-MODIFIED:20230511T215112Z
UID:10002168-1728206100-1728211500@holyspiritmgm.org
SUMMARY:Children Faith Formation
DESCRIPTION:Meet in the School
URL:https://holyspiritmgm.org/event/children-faith-formation/2024-10-06/
END:VEVENT
BEGIN:VEVENT
DTSTART;TZID=America/Chicago:20241008T090000
DTEND;TZID=America/Chicago:20241008T110000
DTSTAMP:20260422T155901
CREATED:20230511T185318Z
LAST-MODIFIED:20230511T185951Z
UID:10000074-1728378000-1728385200@holyspiritmgm.org
SUMMARY:Knitting and Crocheting Meeting
DESCRIPTION:Meet in the Library. \nQuestions\, Contact Peggy Comer 828-490-7976
URL:https://holyspiritmgm.org/event/knitting-and-crocheting-meeting/2024-10-08/
END:VEVENT
END:VCALENDAR