BEGIN:VCALENDAR
VERSION:2.0
PRODID:-//Holy Spirit Catholic Church - ECPv6.15.20//NONSGML v1.0//EN
CALSCALE:GREGORIAN
METHOD:PUBLISH
X-ORIGINAL-URL:https://holyspiritmgm.org
X-WR-CALDESC:Events for Holy Spirit Catholic Church
REFRESH-INTERVAL;VALUE=DURATION:PT1H
X-Robots-Tag:noindex
X-PUBLISHED-TTL:PT1H
BEGIN:VTIMEZONE
TZID:America/Chicago
BEGIN:DAYLIGHT
TZOFFSETFROM:-0600
TZOFFSETTO:-0500
TZNAME:CDT
DTSTART:20230312T080000
END:DAYLIGHT
BEGIN:STANDARD
TZOFFSETFROM:-0500
TZOFFSETTO:-0600
TZNAME:CST
DTSTART:20231105T070000
END:STANDARD
BEGIN:DAYLIGHT
TZOFFSETFROM:-0600
TZOFFSETTO:-0500
TZNAME:CDT
DTSTART:20240310T080000
END:DAYLIGHT
BEGIN:STANDARD
TZOFFSETFROM:-0500
TZOFFSETTO:-0600
TZNAME:CST
DTSTART:20241103T070000
END:STANDARD
BEGIN:DAYLIGHT
TZOFFSETFROM:-0600
TZOFFSETTO:-0500
TZNAME:CDT
DTSTART:20250309T080000
END:DAYLIGHT
BEGIN:STANDARD
TZOFFSETFROM:-0500
TZOFFSETTO:-0600
TZNAME:CST
DTSTART:20251102T070000
END:STANDARD
END:VTIMEZONE
BEGIN:VEVENT
DTSTART;TZID=America/Chicago:20241008T190000
DTEND;TZID=America/Chicago:20241008T203000
DTSTAMP:20260422T170411
CREATED:20230511T190228Z
LAST-MODIFIED:20230511T190449Z
UID:10000336-1728414000-1728419400@holyspiritmgm.org
SUMMARY:Adult Choir Practice
DESCRIPTION:
URL:https://holyspiritmgm.org/event/adult-choir-practice/2024-10-08/
END:VEVENT
BEGIN:VEVENT
DTSTART;TZID=America/Chicago:20241009T090000
DTEND;TZID=America/Chicago:20241010T090000
DTSTAMP:20260422T170411
CREATED:20230511T190633Z
LAST-MODIFIED:20230511T213547Z
UID:10000598-1728464400-1728550800@holyspiritmgm.org
SUMMARY:Eucharistic Adoration
DESCRIPTION:Begins 9am Wednesday until 8am Thursday
URL:https://holyspiritmgm.org/event/eucharistic-adoration/2024-10-09/
END:VEVENT
BEGIN:VEVENT
DTSTART;TZID=America/Chicago:20241009T173000
DTEND;TZID=America/Chicago:20241009T181500
DTSTAMP:20260422T170411
CREATED:20230511T213850Z
LAST-MODIFIED:20230511T214027Z
UID:10001122-1728495000-1728497700@holyspiritmgm.org
SUMMARY:Men of St. Joseph
DESCRIPTION:Meet in the Library
URL:https://holyspiritmgm.org/event/men-of-st-joseph/2024-10-09/
END:VEVENT
BEGIN:VEVENT
DTSTART;TZID=America/Chicago:20241009T173000
DTEND;TZID=America/Chicago:20241009T183000
DTSTAMP:20260422T170411
CREATED:20230511T213706Z
LAST-MODIFIED:20230511T213706Z
UID:10000860-1728495000-1728498600@holyspiritmgm.org
SUMMARY:Daughters of Mary
DESCRIPTION:
URL:https://holyspiritmgm.org/event/daughters-of-mary/2024-10-09/
END:VEVENT
BEGIN:VEVENT
DTSTART;TZID=America/Chicago:20241009T190000
DTEND;TZID=America/Chicago:20241009T203000
DTSTAMP:20260422T170411
CREATED:20230511T214255Z
LAST-MODIFIED:20230511T214255Z
UID:10001384-1728500400-1728505800@holyspiritmgm.org
SUMMARY:Adult Bible Study
DESCRIPTION:Meet in the Library
URL:https://holyspiritmgm.org/event/adult-bible-study/2024-10-09/
END:VEVENT
BEGIN:VEVENT
DTSTART;TZID=America/Chicago:20241009T190000
DTEND;TZID=America/Chicago:20241009T203000
DTSTAMP:20260422T170411
CREATED:20230511T214433Z
LAST-MODIFIED:20230511T214433Z
UID:10001646-1728500400-1728505800@holyspiritmgm.org
SUMMARY:Youth Group
DESCRIPTION:Meet in the Parish Hall
URL:https://holyspiritmgm.org/event/youth-group/2024-10-09/
END:VEVENT
BEGIN:VEVENT
DTSTART;TZID=America/Chicago:20241013T091500
DTEND;TZID=America/Chicago:20241013T104500
DTSTAMP:20260422T170411
CREATED:20230511T214810Z
LAST-MODIFIED:20230511T214810Z
UID:10001908-1728810900-1728816300@holyspiritmgm.org
SUMMARY:Adult Faith Formation Class
DESCRIPTION:Meet in the Parish Hall
URL:https://holyspiritmgm.org/event/adult-faith-formation-class/2024-10-13/
END:VEVENT
BEGIN:VEVENT
DTSTART;TZID=America/Chicago:20241013T091500
DTEND;TZID=America/Chicago:20241013T104500
DTSTAMP:20260422T170411
CREATED:20230511T215038Z
LAST-MODIFIED:20230511T215112Z
UID:10002169-1728810900-1728816300@holyspiritmgm.org
SUMMARY:Children Faith Formation
DESCRIPTION:Meet in the School
URL:https://holyspiritmgm.org/event/children-faith-formation/2024-10-13/
END:VEVENT
BEGIN:VEVENT
DTSTART;TZID=America/Chicago:20241015T090000
DTEND;TZID=America/Chicago:20241015T110000
DTSTAMP:20260422T170411
CREATED:20230511T185318Z
LAST-MODIFIED:20230511T185951Z
UID:10000075-1728982800-1728990000@holyspiritmgm.org
SUMMARY:Knitting and Crocheting Meeting
DESCRIPTION:Meet in the Library. \nQuestions\, Contact Peggy Comer 828-490-7976
URL:https://holyspiritmgm.org/event/knitting-and-crocheting-meeting/2024-10-15/
END:VEVENT
BEGIN:VEVENT
DTSTART;TZID=America/Chicago:20241015T190000
DTEND;TZID=America/Chicago:20241015T203000
DTSTAMP:20260422T170411
CREATED:20230511T190228Z
LAST-MODIFIED:20230511T190449Z
UID:10000337-1729018800-1729024200@holyspiritmgm.org
SUMMARY:Adult Choir Practice
DESCRIPTION:
URL:https://holyspiritmgm.org/event/adult-choir-practice/2024-10-15/
END:VEVENT
BEGIN:VEVENT
DTSTART;TZID=America/Chicago:20241016T090000
DTEND;TZID=America/Chicago:20241017T090000
DTSTAMP:20260422T170411
CREATED:20230511T190633Z
LAST-MODIFIED:20230511T213547Z
UID:10000599-1729069200-1729155600@holyspiritmgm.org
SUMMARY:Eucharistic Adoration
DESCRIPTION:Begins 9am Wednesday until 8am Thursday
URL:https://holyspiritmgm.org/event/eucharistic-adoration/2024-10-16/
END:VEVENT
BEGIN:VEVENT
DTSTART;TZID=America/Chicago:20241016T173000
DTEND;TZID=America/Chicago:20241016T181500
DTSTAMP:20260422T170411
CREATED:20230511T213850Z
LAST-MODIFIED:20230511T214027Z
UID:10001123-1729099800-1729102500@holyspiritmgm.org
SUMMARY:Men of St. Joseph
DESCRIPTION:Meet in the Library
URL:https://holyspiritmgm.org/event/men-of-st-joseph/2024-10-16/
END:VEVENT
BEGIN:VEVENT
DTSTART;TZID=America/Chicago:20241016T173000
DTEND;TZID=America/Chicago:20241016T183000
DTSTAMP:20260422T170411
CREATED:20230511T213706Z
LAST-MODIFIED:20230511T213706Z
UID:10000861-1729099800-1729103400@holyspiritmgm.org
SUMMARY:Daughters of Mary
DESCRIPTION:
URL:https://holyspiritmgm.org/event/daughters-of-mary/2024-10-16/
END:VEVENT
BEGIN:VEVENT
DTSTART;TZID=America/Chicago:20241016T190000
DTEND;TZID=America/Chicago:20241016T203000
DTSTAMP:20260422T170411
CREATED:20230511T214255Z
LAST-MODIFIED:20230511T214255Z
UID:10001385-1729105200-1729110600@holyspiritmgm.org
SUMMARY:Adult Bible Study
DESCRIPTION:Meet in the Library
URL:https://holyspiritmgm.org/event/adult-bible-study/2024-10-16/
END:VEVENT
BEGIN:VEVENT
DTSTART;TZID=America/Chicago:20241016T190000
DTEND;TZID=America/Chicago:20241016T203000
DTSTAMP:20260422T170411
CREATED:20230511T214433Z
LAST-MODIFIED:20230511T214433Z
UID:10001647-1729105200-1729110600@holyspiritmgm.org
SUMMARY:Youth Group
DESCRIPTION:Meet in the Parish Hall
URL:https://holyspiritmgm.org/event/youth-group/2024-10-16/
END:VEVENT
BEGIN:VEVENT
DTSTART;TZID=America/Chicago:20241020T091500
DTEND;TZID=America/Chicago:20241020T104500
DTSTAMP:20260422T170411
CREATED:20230511T214810Z
LAST-MODIFIED:20230511T214810Z
UID:10001909-1729415700-1729421100@holyspiritmgm.org
SUMMARY:Adult Faith Formation Class
DESCRIPTION:Meet in the Parish Hall
URL:https://holyspiritmgm.org/event/adult-faith-formation-class/2024-10-20/
END:VEVENT
BEGIN:VEVENT
DTSTART;TZID=America/Chicago:20241020T091500
DTEND;TZID=America/Chicago:20241020T104500
DTSTAMP:20260422T170411
CREATED:20230511T215038Z
LAST-MODIFIED:20230511T215112Z
UID:10002170-1729415700-1729421100@holyspiritmgm.org
SUMMARY:Children Faith Formation
DESCRIPTION:Meet in the School
URL:https://holyspiritmgm.org/event/children-faith-formation/2024-10-20/
END:VEVENT
BEGIN:VEVENT
DTSTART;TZID=America/Chicago:20241022T090000
DTEND;TZID=America/Chicago:20241022T110000
DTSTAMP:20260422T170411
CREATED:20230511T185318Z
LAST-MODIFIED:20230511T185951Z
UID:10000076-1729587600-1729594800@holyspiritmgm.org
SUMMARY:Knitting and Crocheting Meeting
DESCRIPTION:Meet in the Library. \nQuestions\, Contact Peggy Comer 828-490-7976
URL:https://holyspiritmgm.org/event/knitting-and-crocheting-meeting/2024-10-22/
END:VEVENT
BEGIN:VEVENT
DTSTART;TZID=America/Chicago:20241022T190000
DTEND;TZID=America/Chicago:20241022T203000
DTSTAMP:20260422T170411
CREATED:20230511T190228Z
LAST-MODIFIED:20230511T190449Z
UID:10000338-1729623600-1729629000@holyspiritmgm.org
SUMMARY:Adult Choir Practice
DESCRIPTION:
URL:https://holyspiritmgm.org/event/adult-choir-practice/2024-10-22/
END:VEVENT
BEGIN:VEVENT
DTSTART;TZID=America/Chicago:20241023T090000
DTEND;TZID=America/Chicago:20241024T090000
DTSTAMP:20260422T170411
CREATED:20230511T190633Z
LAST-MODIFIED:20230511T213547Z
UID:10000600-1729674000-1729760400@holyspiritmgm.org
SUMMARY:Eucharistic Adoration
DESCRIPTION:Begins 9am Wednesday until 8am Thursday
URL:https://holyspiritmgm.org/event/eucharistic-adoration/2024-10-23/
END:VEVENT
BEGIN:VEVENT
DTSTART;TZID=America/Chicago:20241023T173000
DTEND;TZID=America/Chicago:20241023T181500
DTSTAMP:20260422T170411
CREATED:20230511T213850Z
LAST-MODIFIED:20230511T214027Z
UID:10001124-1729704600-1729707300@holyspiritmgm.org
SUMMARY:Men of St. Joseph
DESCRIPTION:Meet in the Library
URL:https://holyspiritmgm.org/event/men-of-st-joseph/2024-10-23/
END:VEVENT
BEGIN:VEVENT
DTSTART;TZID=America/Chicago:20241023T173000
DTEND;TZID=America/Chicago:20241023T183000
DTSTAMP:20260422T170411
CREATED:20230511T213706Z
LAST-MODIFIED:20230511T213706Z
UID:10000862-1729704600-1729708200@holyspiritmgm.org
SUMMARY:Daughters of Mary
DESCRIPTION:
URL:https://holyspiritmgm.org/event/daughters-of-mary/2024-10-23/
END:VEVENT
BEGIN:VEVENT
DTSTART;TZID=America/Chicago:20241023T190000
DTEND;TZID=America/Chicago:20241023T203000
DTSTAMP:20260422T170411
CREATED:20230511T214255Z
LAST-MODIFIED:20230511T214255Z
UID:10001386-1729710000-1729715400@holyspiritmgm.org
SUMMARY:Adult Bible Study
DESCRIPTION:Meet in the Library
URL:https://holyspiritmgm.org/event/adult-bible-study/2024-10-23/
END:VEVENT
BEGIN:VEVENT
DTSTART;TZID=America/Chicago:20241023T190000
DTEND;TZID=America/Chicago:20241023T203000
DTSTAMP:20260422T170411
CREATED:20230511T214433Z
LAST-MODIFIED:20230511T214433Z
UID:10001648-1729710000-1729715400@holyspiritmgm.org
SUMMARY:Youth Group
DESCRIPTION:Meet in the Parish Hall
URL:https://holyspiritmgm.org/event/youth-group/2024-10-23/
END:VEVENT
BEGIN:VEVENT
DTSTART;TZID=America/Chicago:20241027T091500
DTEND;TZID=America/Chicago:20241027T104500
DTSTAMP:20260422T170411
CREATED:20230511T214810Z
LAST-MODIFIED:20230511T214810Z
UID:10001910-1730020500-1730025900@holyspiritmgm.org
SUMMARY:Adult Faith Formation Class
DESCRIPTION:Meet in the Parish Hall
URL:https://holyspiritmgm.org/event/adult-faith-formation-class/2024-10-27/
END:VEVENT
BEGIN:VEVENT
DTSTART;TZID=America/Chicago:20241027T091500
DTEND;TZID=America/Chicago:20241027T104500
DTSTAMP:20260422T170411
CREATED:20230511T215038Z
LAST-MODIFIED:20230511T215112Z
UID:10002171-1730020500-1730025900@holyspiritmgm.org
SUMMARY:Children Faith Formation
DESCRIPTION:Meet in the School
URL:https://holyspiritmgm.org/event/children-faith-formation/2024-10-27/
END:VEVENT
BEGIN:VEVENT
DTSTART;TZID=America/Chicago:20241029T090000
DTEND;TZID=America/Chicago:20241029T110000
DTSTAMP:20260422T170411
CREATED:20230511T185318Z
LAST-MODIFIED:20230511T185951Z
UID:10000077-1730192400-1730199600@holyspiritmgm.org
SUMMARY:Knitting and Crocheting Meeting
DESCRIPTION:Meet in the Library. \nQuestions\, Contact Peggy Comer 828-490-7976
URL:https://holyspiritmgm.org/event/knitting-and-crocheting-meeting/2024-10-29/
END:VEVENT
BEGIN:VEVENT
DTSTART;TZID=America/Chicago:20241029T190000
DTEND;TZID=America/Chicago:20241029T203000
DTSTAMP:20260422T170411
CREATED:20230511T190228Z
LAST-MODIFIED:20230511T190449Z
UID:10000339-1730228400-1730233800@holyspiritmgm.org
SUMMARY:Adult Choir Practice
DESCRIPTION:
URL:https://holyspiritmgm.org/event/adult-choir-practice/2024-10-29/
END:VEVENT
BEGIN:VEVENT
DTSTART;TZID=America/Chicago:20241030T090000
DTEND;TZID=America/Chicago:20241031T090000
DTSTAMP:20260422T170411
CREATED:20230511T190633Z
LAST-MODIFIED:20230511T213547Z
UID:10000601-1730278800-1730365200@holyspiritmgm.org
SUMMARY:Eucharistic Adoration
DESCRIPTION:Begins 9am Wednesday until 8am Thursday
URL:https://holyspiritmgm.org/event/eucharistic-adoration/2024-10-30/
END:VEVENT
BEGIN:VEVENT
DTSTART;TZID=America/Chicago:20241030T173000
DTEND;TZID=America/Chicago:20241030T181500
DTSTAMP:20260422T170411
CREATED:20230511T213850Z
LAST-MODIFIED:20230511T214027Z
UID:10001125-1730309400-1730312100@holyspiritmgm.org
SUMMARY:Men of St. Joseph
DESCRIPTION:Meet in the Library
URL:https://holyspiritmgm.org/event/men-of-st-joseph/2024-10-30/
END:VEVENT
END:VCALENDAR