BEGIN:VCALENDAR
VERSION:2.0
PRODID:-//Holy Spirit Catholic Church - ECPv6.15.20//NONSGML v1.0//EN
CALSCALE:GREGORIAN
METHOD:PUBLISH
X-ORIGINAL-URL:https://holyspiritmgm.org
X-WR-CALDESC:Events for Holy Spirit Catholic Church
REFRESH-INTERVAL;VALUE=DURATION:PT1H
X-Robots-Tag:noindex
X-PUBLISHED-TTL:PT1H
BEGIN:VTIMEZONE
TZID:America/Chicago
BEGIN:DAYLIGHT
TZOFFSETFROM:-0600
TZOFFSETTO:-0500
TZNAME:CDT
DTSTART:20240310T080000
END:DAYLIGHT
BEGIN:STANDARD
TZOFFSETFROM:-0500
TZOFFSETTO:-0600
TZNAME:CST
DTSTART:20241103T070000
END:STANDARD
BEGIN:DAYLIGHT
TZOFFSETFROM:-0600
TZOFFSETTO:-0500
TZNAME:CDT
DTSTART:20250309T080000
END:DAYLIGHT
BEGIN:STANDARD
TZOFFSETFROM:-0500
TZOFFSETTO:-0600
TZNAME:CST
DTSTART:20251102T070000
END:STANDARD
BEGIN:DAYLIGHT
TZOFFSETFROM:-0600
TZOFFSETTO:-0500
TZNAME:CDT
DTSTART:20260308T080000
END:DAYLIGHT
BEGIN:STANDARD
TZOFFSETFROM:-0500
TZOFFSETTO:-0600
TZNAME:CST
DTSTART:20261101T070000
END:STANDARD
END:VTIMEZONE
BEGIN:VEVENT
DTSTART;TZID=America/Chicago:20250107T090000
DTEND;TZID=America/Chicago:20250107T110000
DTSTAMP:20260422T165503
CREATED:20230511T185318Z
LAST-MODIFIED:20230511T185951Z
UID:10000087-1736240400-1736247600@holyspiritmgm.org
SUMMARY:Knitting and Crocheting Meeting
DESCRIPTION:Meet in the Library. \nQuestions\, Contact Peggy Comer 828-490-7976
URL:https://holyspiritmgm.org/event/knitting-and-crocheting-meeting/2025-01-07/
END:VEVENT
BEGIN:VEVENT
DTSTART;TZID=America/Chicago:20250107T190000
DTEND;TZID=America/Chicago:20250107T203000
DTSTAMP:20260422T165503
CREATED:20230511T190228Z
LAST-MODIFIED:20230511T190449Z
UID:10000349-1736276400-1736281800@holyspiritmgm.org
SUMMARY:Adult Choir Practice
DESCRIPTION:
URL:https://holyspiritmgm.org/event/adult-choir-practice/2025-01-07/
END:VEVENT
BEGIN:VEVENT
DTSTART;TZID=America/Chicago:20250108T090000
DTEND;TZID=America/Chicago:20250109T090000
DTSTAMP:20260422T165503
CREATED:20230511T190633Z
LAST-MODIFIED:20230511T213547Z
UID:10000611-1736326800-1736413200@holyspiritmgm.org
SUMMARY:Eucharistic Adoration
DESCRIPTION:Begins 9am Wednesday until 8am Thursday
URL:https://holyspiritmgm.org/event/eucharistic-adoration/2025-01-08/
END:VEVENT
BEGIN:VEVENT
DTSTART;TZID=America/Chicago:20250108T173000
DTEND;TZID=America/Chicago:20250108T181500
DTSTAMP:20260422T165503
CREATED:20230511T213850Z
LAST-MODIFIED:20230511T214027Z
UID:10001135-1736357400-1736360100@holyspiritmgm.org
SUMMARY:Men of St. Joseph
DESCRIPTION:Meet in the Library
URL:https://holyspiritmgm.org/event/men-of-st-joseph/2025-01-08/
END:VEVENT
BEGIN:VEVENT
DTSTART;TZID=America/Chicago:20250108T173000
DTEND;TZID=America/Chicago:20250108T183000
DTSTAMP:20260422T165503
CREATED:20230511T213706Z
LAST-MODIFIED:20230511T213706Z
UID:10000873-1736357400-1736361000@holyspiritmgm.org
SUMMARY:Daughters of Mary
DESCRIPTION:
URL:https://holyspiritmgm.org/event/daughters-of-mary/2025-01-08/
END:VEVENT
BEGIN:VEVENT
DTSTART;TZID=America/Chicago:20250108T190000
DTEND;TZID=America/Chicago:20250108T203000
DTSTAMP:20260422T165503
CREATED:20230511T214255Z
LAST-MODIFIED:20230511T214255Z
UID:10001397-1736362800-1736368200@holyspiritmgm.org
SUMMARY:Adult Bible Study
DESCRIPTION:Meet in the Library
URL:https://holyspiritmgm.org/event/adult-bible-study/2025-01-08/
END:VEVENT
BEGIN:VEVENT
DTSTART;TZID=America/Chicago:20250108T190000
DTEND;TZID=America/Chicago:20250108T203000
DTSTAMP:20260422T165503
CREATED:20230511T214433Z
LAST-MODIFIED:20230511T214433Z
UID:10001659-1736362800-1736368200@holyspiritmgm.org
SUMMARY:Youth Group
DESCRIPTION:Meet in the Parish Hall
URL:https://holyspiritmgm.org/event/youth-group/2025-01-08/
END:VEVENT
BEGIN:VEVENT
DTSTART;TZID=America/Chicago:20250112T091500
DTEND;TZID=America/Chicago:20250112T104500
DTSTAMP:20260422T165503
CREATED:20230511T214810Z
LAST-MODIFIED:20230511T214810Z
UID:10001921-1736673300-1736678700@holyspiritmgm.org
SUMMARY:Adult Faith Formation Class
DESCRIPTION:Meet in the Parish Hall
URL:https://holyspiritmgm.org/event/adult-faith-formation-class/2025-01-12/
END:VEVENT
BEGIN:VEVENT
DTSTART;TZID=America/Chicago:20250112T091500
DTEND;TZID=America/Chicago:20250112T104500
DTSTAMP:20260422T165503
CREATED:20230511T215038Z
LAST-MODIFIED:20230511T215112Z
UID:10002182-1736673300-1736678700@holyspiritmgm.org
SUMMARY:Children Faith Formation
DESCRIPTION:Meet in the School
URL:https://holyspiritmgm.org/event/children-faith-formation/2025-01-12/
END:VEVENT
BEGIN:VEVENT
DTSTART;TZID=America/Chicago:20250114T090000
DTEND;TZID=America/Chicago:20250114T110000
DTSTAMP:20260422T165503
CREATED:20230511T185318Z
LAST-MODIFIED:20230511T185951Z
UID:10000088-1736845200-1736852400@holyspiritmgm.org
SUMMARY:Knitting and Crocheting Meeting
DESCRIPTION:Meet in the Library. \nQuestions\, Contact Peggy Comer 828-490-7976
URL:https://holyspiritmgm.org/event/knitting-and-crocheting-meeting/2025-01-14/
END:VEVENT
BEGIN:VEVENT
DTSTART;TZID=America/Chicago:20250114T190000
DTEND;TZID=America/Chicago:20250114T203000
DTSTAMP:20260422T165503
CREATED:20230511T190228Z
LAST-MODIFIED:20230511T190449Z
UID:10000350-1736881200-1736886600@holyspiritmgm.org
SUMMARY:Adult Choir Practice
DESCRIPTION:
URL:https://holyspiritmgm.org/event/adult-choir-practice/2025-01-14/
END:VEVENT
BEGIN:VEVENT
DTSTART;TZID=America/Chicago:20250115T090000
DTEND;TZID=America/Chicago:20250116T090000
DTSTAMP:20260422T165503
CREATED:20230511T190633Z
LAST-MODIFIED:20230511T213547Z
UID:10000612-1736931600-1737018000@holyspiritmgm.org
SUMMARY:Eucharistic Adoration
DESCRIPTION:Begins 9am Wednesday until 8am Thursday
URL:https://holyspiritmgm.org/event/eucharistic-adoration/2025-01-15/
END:VEVENT
BEGIN:VEVENT
DTSTART;TZID=America/Chicago:20250115T173000
DTEND;TZID=America/Chicago:20250115T181500
DTSTAMP:20260422T165503
CREATED:20230511T213850Z
LAST-MODIFIED:20230511T214027Z
UID:10001136-1736962200-1736964900@holyspiritmgm.org
SUMMARY:Men of St. Joseph
DESCRIPTION:Meet in the Library
URL:https://holyspiritmgm.org/event/men-of-st-joseph/2025-01-15/
END:VEVENT
BEGIN:VEVENT
DTSTART;TZID=America/Chicago:20250115T173000
DTEND;TZID=America/Chicago:20250115T183000
DTSTAMP:20260422T165503
CREATED:20230511T213706Z
LAST-MODIFIED:20230511T213706Z
UID:10000874-1736962200-1736965800@holyspiritmgm.org
SUMMARY:Daughters of Mary
DESCRIPTION:
URL:https://holyspiritmgm.org/event/daughters-of-mary/2025-01-15/
END:VEVENT
BEGIN:VEVENT
DTSTART;TZID=America/Chicago:20250115T190000
DTEND;TZID=America/Chicago:20250115T203000
DTSTAMP:20260422T165503
CREATED:20230511T214255Z
LAST-MODIFIED:20230511T214255Z
UID:10001398-1736967600-1736973000@holyspiritmgm.org
SUMMARY:Adult Bible Study
DESCRIPTION:Meet in the Library
URL:https://holyspiritmgm.org/event/adult-bible-study/2025-01-15/
END:VEVENT
BEGIN:VEVENT
DTSTART;TZID=America/Chicago:20250115T190000
DTEND;TZID=America/Chicago:20250115T203000
DTSTAMP:20260422T165503
CREATED:20230511T214433Z
LAST-MODIFIED:20230511T214433Z
UID:10001660-1736967600-1736973000@holyspiritmgm.org
SUMMARY:Youth Group
DESCRIPTION:Meet in the Parish Hall
URL:https://holyspiritmgm.org/event/youth-group/2025-01-15/
END:VEVENT
BEGIN:VEVENT
DTSTART;TZID=America/Chicago:20250119T091500
DTEND;TZID=America/Chicago:20250119T104500
DTSTAMP:20260422T165503
CREATED:20230511T214810Z
LAST-MODIFIED:20230511T214810Z
UID:10001922-1737278100-1737283500@holyspiritmgm.org
SUMMARY:Adult Faith Formation Class
DESCRIPTION:Meet in the Parish Hall
URL:https://holyspiritmgm.org/event/adult-faith-formation-class/2025-01-19/
END:VEVENT
BEGIN:VEVENT
DTSTART;TZID=America/Chicago:20250119T091500
DTEND;TZID=America/Chicago:20250119T104500
DTSTAMP:20260422T165503
CREATED:20230511T215038Z
LAST-MODIFIED:20230511T215112Z
UID:10002183-1737278100-1737283500@holyspiritmgm.org
SUMMARY:Children Faith Formation
DESCRIPTION:Meet in the School
URL:https://holyspiritmgm.org/event/children-faith-formation/2025-01-19/
END:VEVENT
BEGIN:VEVENT
DTSTART;TZID=America/Chicago:20250121T090000
DTEND;TZID=America/Chicago:20250121T110000
DTSTAMP:20260422T165503
CREATED:20230511T185318Z
LAST-MODIFIED:20230511T185951Z
UID:10000089-1737450000-1737457200@holyspiritmgm.org
SUMMARY:Knitting and Crocheting Meeting
DESCRIPTION:Meet in the Library. \nQuestions\, Contact Peggy Comer 828-490-7976
URL:https://holyspiritmgm.org/event/knitting-and-crocheting-meeting/2025-01-21/
END:VEVENT
BEGIN:VEVENT
DTSTART;TZID=America/Chicago:20250121T190000
DTEND;TZID=America/Chicago:20250121T203000
DTSTAMP:20260422T165503
CREATED:20230511T190228Z
LAST-MODIFIED:20230511T190449Z
UID:10000351-1737486000-1737491400@holyspiritmgm.org
SUMMARY:Adult Choir Practice
DESCRIPTION:
URL:https://holyspiritmgm.org/event/adult-choir-practice/2025-01-21/
END:VEVENT
BEGIN:VEVENT
DTSTART;TZID=America/Chicago:20250122T090000
DTEND;TZID=America/Chicago:20250123T090000
DTSTAMP:20260422T165503
CREATED:20230511T190633Z
LAST-MODIFIED:20230511T213547Z
UID:10000613-1737536400-1737622800@holyspiritmgm.org
SUMMARY:Eucharistic Adoration
DESCRIPTION:Begins 9am Wednesday until 8am Thursday
URL:https://holyspiritmgm.org/event/eucharistic-adoration/2025-01-22/
END:VEVENT
BEGIN:VEVENT
DTSTART;TZID=America/Chicago:20250122T173000
DTEND;TZID=America/Chicago:20250122T181500
DTSTAMP:20260422T165503
CREATED:20230511T213850Z
LAST-MODIFIED:20230511T214027Z
UID:10001137-1737567000-1737569700@holyspiritmgm.org
SUMMARY:Men of St. Joseph
DESCRIPTION:Meet in the Library
URL:https://holyspiritmgm.org/event/men-of-st-joseph/2025-01-22/
END:VEVENT
BEGIN:VEVENT
DTSTART;TZID=America/Chicago:20250122T173000
DTEND;TZID=America/Chicago:20250122T183000
DTSTAMP:20260422T165503
CREATED:20230511T213706Z
LAST-MODIFIED:20230511T213706Z
UID:10000875-1737567000-1737570600@holyspiritmgm.org
SUMMARY:Daughters of Mary
DESCRIPTION:
URL:https://holyspiritmgm.org/event/daughters-of-mary/2025-01-22/
END:VEVENT
BEGIN:VEVENT
DTSTART;TZID=America/Chicago:20250122T190000
DTEND;TZID=America/Chicago:20250122T203000
DTSTAMP:20260422T165503
CREATED:20230511T214255Z
LAST-MODIFIED:20230511T214255Z
UID:10001399-1737572400-1737577800@holyspiritmgm.org
SUMMARY:Adult Bible Study
DESCRIPTION:Meet in the Library
URL:https://holyspiritmgm.org/event/adult-bible-study/2025-01-22/
END:VEVENT
BEGIN:VEVENT
DTSTART;TZID=America/Chicago:20250122T190000
DTEND;TZID=America/Chicago:20250122T203000
DTSTAMP:20260422T165503
CREATED:20230511T214433Z
LAST-MODIFIED:20230511T214433Z
UID:10001661-1737572400-1737577800@holyspiritmgm.org
SUMMARY:Youth Group
DESCRIPTION:Meet in the Parish Hall
URL:https://holyspiritmgm.org/event/youth-group/2025-01-22/
END:VEVENT
BEGIN:VEVENT
DTSTART;TZID=America/Chicago:20250126T091500
DTEND;TZID=America/Chicago:20250126T104500
DTSTAMP:20260422T165503
CREATED:20230511T214810Z
LAST-MODIFIED:20230511T214810Z
UID:10001923-1737882900-1737888300@holyspiritmgm.org
SUMMARY:Adult Faith Formation Class
DESCRIPTION:Meet in the Parish Hall
URL:https://holyspiritmgm.org/event/adult-faith-formation-class/2025-01-26/
END:VEVENT
BEGIN:VEVENT
DTSTART;TZID=America/Chicago:20250126T091500
DTEND;TZID=America/Chicago:20250126T104500
DTSTAMP:20260422T165503
CREATED:20230511T215038Z
LAST-MODIFIED:20230511T215112Z
UID:10002184-1737882900-1737888300@holyspiritmgm.org
SUMMARY:Children Faith Formation
DESCRIPTION:Meet in the School
URL:https://holyspiritmgm.org/event/children-faith-formation/2025-01-26/
END:VEVENT
BEGIN:VEVENT
DTSTART;TZID=America/Chicago:20250128T090000
DTEND;TZID=America/Chicago:20250128T110000
DTSTAMP:20260422T165503
CREATED:20230511T185318Z
LAST-MODIFIED:20230511T185951Z
UID:10000090-1738054800-1738062000@holyspiritmgm.org
SUMMARY:Knitting and Crocheting Meeting
DESCRIPTION:Meet in the Library. \nQuestions\, Contact Peggy Comer 828-490-7976
URL:https://holyspiritmgm.org/event/knitting-and-crocheting-meeting/2025-01-28/
END:VEVENT
BEGIN:VEVENT
DTSTART;TZID=America/Chicago:20250128T190000
DTEND;TZID=America/Chicago:20250128T203000
DTSTAMP:20260422T165503
CREATED:20230511T190228Z
LAST-MODIFIED:20230511T190449Z
UID:10000352-1738090800-1738096200@holyspiritmgm.org
SUMMARY:Adult Choir Practice
DESCRIPTION:
URL:https://holyspiritmgm.org/event/adult-choir-practice/2025-01-28/
END:VEVENT
BEGIN:VEVENT
DTSTART;TZID=America/Chicago:20250129T090000
DTEND;TZID=America/Chicago:20250130T090000
DTSTAMP:20260422T165503
CREATED:20230511T190633Z
LAST-MODIFIED:20230511T213547Z
UID:10000614-1738141200-1738227600@holyspiritmgm.org
SUMMARY:Eucharistic Adoration
DESCRIPTION:Begins 9am Wednesday until 8am Thursday
URL:https://holyspiritmgm.org/event/eucharistic-adoration/2025-01-29/
END:VEVENT
END:VCALENDAR