BEGIN:VCALENDAR
VERSION:2.0
PRODID:-//Holy Spirit Catholic Church - ECPv6.15.20//NONSGML v1.0//EN
CALSCALE:GREGORIAN
METHOD:PUBLISH
X-WR-CALNAME:Holy Spirit Catholic Church
X-ORIGINAL-URL:https://holyspiritmgm.org
X-WR-CALDESC:Events for Holy Spirit Catholic Church
REFRESH-INTERVAL;VALUE=DURATION:PT1H
X-Robots-Tag:noindex
X-PUBLISHED-TTL:PT1H
BEGIN:VTIMEZONE
TZID:America/Chicago
BEGIN:DAYLIGHT
TZOFFSETFROM:-0600
TZOFFSETTO:-0500
TZNAME:CDT
DTSTART:20220313T080000
END:DAYLIGHT
BEGIN:STANDARD
TZOFFSETFROM:-0500
TZOFFSETTO:-0600
TZNAME:CST
DTSTART:20221106T070000
END:STANDARD
BEGIN:DAYLIGHT
TZOFFSETFROM:-0600
TZOFFSETTO:-0500
TZNAME:CDT
DTSTART:20230312T080000
END:DAYLIGHT
BEGIN:STANDARD
TZOFFSETFROM:-0500
TZOFFSETTO:-0600
TZNAME:CST
DTSTART:20231105T070000
END:STANDARD
BEGIN:DAYLIGHT
TZOFFSETFROM:-0600
TZOFFSETTO:-0500
TZNAME:CDT
DTSTART:20240310T080000
END:DAYLIGHT
BEGIN:STANDARD
TZOFFSETFROM:-0500
TZOFFSETTO:-0600
TZNAME:CST
DTSTART:20241103T070000
END:STANDARD
END:VTIMEZONE
BEGIN:VEVENT
DTSTART;TZID=America/Chicago:20231108T190000
DTEND;TZID=America/Chicago:20231108T203000
DTSTAMP:20260421T031738
CREATED:20230511T214433Z
LAST-MODIFIED:20230511T214433Z
UID:10001598-1699470000-1699475400@holyspiritmgm.org
SUMMARY:Youth Group
DESCRIPTION:Meet in the Parish Hall
URL:https://holyspiritmgm.org/event/youth-group/2023-11-08/
END:VEVENT
BEGIN:VEVENT
DTSTART;TZID=America/Chicago:20231108T190000
DTEND;TZID=America/Chicago:20231108T203000
DTSTAMP:20260421T031738
CREATED:20230511T214255Z
LAST-MODIFIED:20230511T214255Z
UID:10001336-1699470000-1699475400@holyspiritmgm.org
SUMMARY:Adult Bible Study
DESCRIPTION:Meet in the Library
URL:https://holyspiritmgm.org/event/adult-bible-study/2023-11-08/
END:VEVENT
BEGIN:VEVENT
DTSTART;TZID=America/Chicago:20231108T173000
DTEND;TZID=America/Chicago:20231108T183000
DTSTAMP:20260421T031738
CREATED:20230511T213706Z
LAST-MODIFIED:20230511T213706Z
UID:10000812-1699464600-1699468200@holyspiritmgm.org
SUMMARY:Daughters of Mary
DESCRIPTION:
URL:https://holyspiritmgm.org/event/daughters-of-mary/2023-11-08/
END:VEVENT
BEGIN:VEVENT
DTSTART;TZID=America/Chicago:20231108T173000
DTEND;TZID=America/Chicago:20231108T181500
DTSTAMP:20260421T031738
CREATED:20230511T213850Z
LAST-MODIFIED:20230511T214027Z
UID:10001074-1699464600-1699467300@holyspiritmgm.org
SUMMARY:Men of St. Joseph
DESCRIPTION:Meet in the Library
URL:https://holyspiritmgm.org/event/men-of-st-joseph/2023-11-08/
END:VEVENT
BEGIN:VEVENT
DTSTART;TZID=America/Chicago:20231108T090000
DTEND;TZID=America/Chicago:20231109T090000
DTSTAMP:20260421T031738
CREATED:20230511T190633Z
LAST-MODIFIED:20230511T213547Z
UID:10000550-1699434000-1699520400@holyspiritmgm.org
SUMMARY:Eucharistic Adoration
DESCRIPTION:Begins 9am Wednesday until 8am Thursday
URL:https://holyspiritmgm.org/event/eucharistic-adoration/2023-11-08/
END:VEVENT
BEGIN:VEVENT
DTSTART;TZID=America/Chicago:20231107T190000
DTEND;TZID=America/Chicago:20231107T203000
DTSTAMP:20260421T031738
CREATED:20230511T190228Z
LAST-MODIFIED:20230511T190449Z
UID:10000288-1699383600-1699389000@holyspiritmgm.org
SUMMARY:Adult Choir Practice
DESCRIPTION:
URL:https://holyspiritmgm.org/event/adult-choir-practice/2023-11-07/
END:VEVENT
BEGIN:VEVENT
DTSTART;TZID=America/Chicago:20231107T090000
DTEND;TZID=America/Chicago:20231107T110000
DTSTAMP:20260421T031738
CREATED:20230511T185318Z
LAST-MODIFIED:20230511T185951Z
UID:10000026-1699347600-1699354800@holyspiritmgm.org
SUMMARY:Knitting and Crocheting Meeting
DESCRIPTION:Meet in the Library. \nQuestions\, Contact Peggy Comer 828-490-7976
URL:https://holyspiritmgm.org/event/knitting-and-crocheting-meeting/2023-11-07/
END:VEVENT
BEGIN:VEVENT
DTSTART;TZID=America/Chicago:20231105T091500
DTEND;TZID=America/Chicago:20231105T104500
DTSTAMP:20260421T031738
CREATED:20230511T215038Z
LAST-MODIFIED:20230511T215112Z
UID:10002120-1699175700-1699181100@holyspiritmgm.org
SUMMARY:Children Faith Formation
DESCRIPTION:Meet in the School
URL:https://holyspiritmgm.org/event/children-faith-formation/2023-11-05/
END:VEVENT
BEGIN:VEVENT
DTSTART;TZID=America/Chicago:20231105T091500
DTEND;TZID=America/Chicago:20231105T104500
DTSTAMP:20260421T031738
CREATED:20230511T214810Z
LAST-MODIFIED:20230511T214810Z
UID:10001859-1699175700-1699181100@holyspiritmgm.org
SUMMARY:Adult Faith Formation Class
DESCRIPTION:Meet in the Parish Hall
URL:https://holyspiritmgm.org/event/adult-faith-formation-class/2023-11-05/
END:VEVENT
BEGIN:VEVENT
DTSTART;TZID=America/Chicago:20231101T190000
DTEND;TZID=America/Chicago:20231101T203000
DTSTAMP:20260421T031738
CREATED:20230511T214433Z
LAST-MODIFIED:20230511T214433Z
UID:10001597-1698865200-1698870600@holyspiritmgm.org
SUMMARY:Youth Group
DESCRIPTION:Meet in the Parish Hall
URL:https://holyspiritmgm.org/event/youth-group/2023-11-01/
END:VEVENT
BEGIN:VEVENT
DTSTART;TZID=America/Chicago:20231101T190000
DTEND;TZID=America/Chicago:20231101T203000
DTSTAMP:20260421T031738
CREATED:20230511T214255Z
LAST-MODIFIED:20230511T214255Z
UID:10001335-1698865200-1698870600@holyspiritmgm.org
SUMMARY:Adult Bible Study
DESCRIPTION:Meet in the Library
URL:https://holyspiritmgm.org/event/adult-bible-study/2023-11-01/
END:VEVENT
BEGIN:VEVENT
DTSTART;TZID=America/Chicago:20231101T173000
DTEND;TZID=America/Chicago:20231101T183000
DTSTAMP:20260421T031738
CREATED:20230511T213706Z
LAST-MODIFIED:20230511T213706Z
UID:10000811-1698859800-1698863400@holyspiritmgm.org
SUMMARY:Daughters of Mary
DESCRIPTION:
URL:https://holyspiritmgm.org/event/daughters-of-mary/2023-11-01/
END:VEVENT
BEGIN:VEVENT
DTSTART;TZID=America/Chicago:20231101T173000
DTEND;TZID=America/Chicago:20231101T181500
DTSTAMP:20260421T031738
CREATED:20230511T213850Z
LAST-MODIFIED:20230511T214027Z
UID:10001073-1698859800-1698862500@holyspiritmgm.org
SUMMARY:Men of St. Joseph
DESCRIPTION:Meet in the Library
URL:https://holyspiritmgm.org/event/men-of-st-joseph/2023-11-01/
END:VEVENT
BEGIN:VEVENT
DTSTART;TZID=America/Chicago:20231101T090000
DTEND;TZID=America/Chicago:20231102T090000
DTSTAMP:20260421T031738
CREATED:20230511T190633Z
LAST-MODIFIED:20230511T213547Z
UID:10000549-1698829200-1698915600@holyspiritmgm.org
SUMMARY:Eucharistic Adoration
DESCRIPTION:Begins 9am Wednesday until 8am Thursday
URL:https://holyspiritmgm.org/event/eucharistic-adoration/2023-11-01/
END:VEVENT
BEGIN:VEVENT
DTSTART;TZID=America/Chicago:20231031T190000
DTEND;TZID=America/Chicago:20231031T203000
DTSTAMP:20260421T031738
CREATED:20230511T190228Z
LAST-MODIFIED:20230511T190449Z
UID:10000287-1698778800-1698784200@holyspiritmgm.org
SUMMARY:Adult Choir Practice
DESCRIPTION:
URL:https://holyspiritmgm.org/event/adult-choir-practice/2023-10-31/
END:VEVENT
BEGIN:VEVENT
DTSTART;TZID=America/Chicago:20231031T090000
DTEND;TZID=America/Chicago:20231031T110000
DTSTAMP:20260421T031738
CREATED:20230511T185318Z
LAST-MODIFIED:20230511T185951Z
UID:10000025-1698742800-1698750000@holyspiritmgm.org
SUMMARY:Knitting and Crocheting Meeting
DESCRIPTION:Meet in the Library. \nQuestions\, Contact Peggy Comer 828-490-7976
URL:https://holyspiritmgm.org/event/knitting-and-crocheting-meeting/2023-10-31/
END:VEVENT
BEGIN:VEVENT
DTSTART;TZID=America/Chicago:20231029T091500
DTEND;TZID=America/Chicago:20231029T104500
DTSTAMP:20260421T031738
CREATED:20230511T215038Z
LAST-MODIFIED:20230511T215112Z
UID:10002119-1698570900-1698576300@holyspiritmgm.org
SUMMARY:Children Faith Formation
DESCRIPTION:Meet in the School
URL:https://holyspiritmgm.org/event/children-faith-formation/2023-10-29/
END:VEVENT
BEGIN:VEVENT
DTSTART;TZID=America/Chicago:20231029T091500
DTEND;TZID=America/Chicago:20231029T104500
DTSTAMP:20260421T031738
CREATED:20230511T214810Z
LAST-MODIFIED:20230511T214810Z
UID:10001858-1698570900-1698576300@holyspiritmgm.org
SUMMARY:Adult Faith Formation Class
DESCRIPTION:Meet in the Parish Hall
URL:https://holyspiritmgm.org/event/adult-faith-formation-class/2023-10-29/
END:VEVENT
BEGIN:VEVENT
DTSTART;TZID=America/Chicago:20231025T190000
DTEND;TZID=America/Chicago:20231025T203000
DTSTAMP:20260421T031738
CREATED:20230511T214433Z
LAST-MODIFIED:20230511T214433Z
UID:10001596-1698260400-1698265800@holyspiritmgm.org
SUMMARY:Youth Group
DESCRIPTION:Meet in the Parish Hall
URL:https://holyspiritmgm.org/event/youth-group/2023-10-25/
END:VEVENT
BEGIN:VEVENT
DTSTART;TZID=America/Chicago:20231025T190000
DTEND;TZID=America/Chicago:20231025T203000
DTSTAMP:20260421T031738
CREATED:20230511T214255Z
LAST-MODIFIED:20230511T214255Z
UID:10001334-1698260400-1698265800@holyspiritmgm.org
SUMMARY:Adult Bible Study
DESCRIPTION:Meet in the Library
URL:https://holyspiritmgm.org/event/adult-bible-study/2023-10-25/
END:VEVENT
BEGIN:VEVENT
DTSTART;TZID=America/Chicago:20231025T173000
DTEND;TZID=America/Chicago:20231025T183000
DTSTAMP:20260421T031738
CREATED:20230511T213706Z
LAST-MODIFIED:20230511T213706Z
UID:10000810-1698255000-1698258600@holyspiritmgm.org
SUMMARY:Daughters of Mary
DESCRIPTION:
URL:https://holyspiritmgm.org/event/daughters-of-mary/2023-10-25/
END:VEVENT
BEGIN:VEVENT
DTSTART;TZID=America/Chicago:20231025T173000
DTEND;TZID=America/Chicago:20231025T181500
DTSTAMP:20260421T031738
CREATED:20230511T213850Z
LAST-MODIFIED:20230511T214027Z
UID:10001072-1698255000-1698257700@holyspiritmgm.org
SUMMARY:Men of St. Joseph
DESCRIPTION:Meet in the Library
URL:https://holyspiritmgm.org/event/men-of-st-joseph/2023-10-25/
END:VEVENT
BEGIN:VEVENT
DTSTART;TZID=America/Chicago:20231025T090000
DTEND;TZID=America/Chicago:20231026T090000
DTSTAMP:20260421T031738
CREATED:20230511T190633Z
LAST-MODIFIED:20230511T213547Z
UID:10000548-1698224400-1698310800@holyspiritmgm.org
SUMMARY:Eucharistic Adoration
DESCRIPTION:Begins 9am Wednesday until 8am Thursday
URL:https://holyspiritmgm.org/event/eucharistic-adoration/2023-10-25/
END:VEVENT
BEGIN:VEVENT
DTSTART;TZID=America/Chicago:20231024T190000
DTEND;TZID=America/Chicago:20231024T203000
DTSTAMP:20260421T031738
CREATED:20230511T190228Z
LAST-MODIFIED:20230511T190449Z
UID:10000286-1698174000-1698179400@holyspiritmgm.org
SUMMARY:Adult Choir Practice
DESCRIPTION:
URL:https://holyspiritmgm.org/event/adult-choir-practice/2023-10-24/
END:VEVENT
BEGIN:VEVENT
DTSTART;TZID=America/Chicago:20231024T090000
DTEND;TZID=America/Chicago:20231024T110000
DTSTAMP:20260421T031738
CREATED:20230511T185318Z
LAST-MODIFIED:20230511T185951Z
UID:10000024-1698138000-1698145200@holyspiritmgm.org
SUMMARY:Knitting and Crocheting Meeting
DESCRIPTION:Meet in the Library. \nQuestions\, Contact Peggy Comer 828-490-7976
URL:https://holyspiritmgm.org/event/knitting-and-crocheting-meeting/2023-10-24/
END:VEVENT
BEGIN:VEVENT
DTSTART;TZID=America/Chicago:20231022T091500
DTEND;TZID=America/Chicago:20231022T104500
DTSTAMP:20260421T031738
CREATED:20230511T215038Z
LAST-MODIFIED:20230511T215112Z
UID:10002118-1697966100-1697971500@holyspiritmgm.org
SUMMARY:Children Faith Formation
DESCRIPTION:Meet in the School
URL:https://holyspiritmgm.org/event/children-faith-formation/2023-10-22/
END:VEVENT
BEGIN:VEVENT
DTSTART;TZID=America/Chicago:20231022T091500
DTEND;TZID=America/Chicago:20231022T104500
DTSTAMP:20260421T031738
CREATED:20230511T214810Z
LAST-MODIFIED:20230511T214810Z
UID:10001857-1697966100-1697971500@holyspiritmgm.org
SUMMARY:Adult Faith Formation Class
DESCRIPTION:Meet in the Parish Hall
URL:https://holyspiritmgm.org/event/adult-faith-formation-class/2023-10-22/
END:VEVENT
BEGIN:VEVENT
DTSTART;TZID=America/Chicago:20231018T190000
DTEND;TZID=America/Chicago:20231018T203000
DTSTAMP:20260421T031738
CREATED:20230511T214433Z
LAST-MODIFIED:20230511T214433Z
UID:10001595-1697655600-1697661000@holyspiritmgm.org
SUMMARY:Youth Group
DESCRIPTION:Meet in the Parish Hall
URL:https://holyspiritmgm.org/event/youth-group/2023-10-18/
END:VEVENT
BEGIN:VEVENT
DTSTART;TZID=America/Chicago:20231018T190000
DTEND;TZID=America/Chicago:20231018T203000
DTSTAMP:20260421T031738
CREATED:20230511T214255Z
LAST-MODIFIED:20230511T214255Z
UID:10001333-1697655600-1697661000@holyspiritmgm.org
SUMMARY:Adult Bible Study
DESCRIPTION:Meet in the Library
URL:https://holyspiritmgm.org/event/adult-bible-study/2023-10-18/
END:VEVENT
BEGIN:VEVENT
DTSTART;TZID=America/Chicago:20231018T173000
DTEND;TZID=America/Chicago:20231018T183000
DTSTAMP:20260421T031738
CREATED:20230511T213706Z
LAST-MODIFIED:20230511T213706Z
UID:10000809-1697650200-1697653800@holyspiritmgm.org
SUMMARY:Daughters of Mary
DESCRIPTION:
URL:https://holyspiritmgm.org/event/daughters-of-mary/2023-10-18/
END:VEVENT
END:VCALENDAR