BEGIN:VCALENDAR
VERSION:2.0
PRODID:-//Holy Spirit Catholic Church - ECPv6.15.20//NONSGML v1.0//EN
CALSCALE:GREGORIAN
METHOD:PUBLISH
X-ORIGINAL-URL:https://holyspiritmgm.org
X-WR-CALDESC:Events for Holy Spirit Catholic Church
REFRESH-INTERVAL;VALUE=DURATION:PT1H
X-Robots-Tag:noindex
X-PUBLISHED-TTL:PT1H
BEGIN:VTIMEZONE
TZID:America/Chicago
BEGIN:DAYLIGHT
TZOFFSETFROM:-0600
TZOFFSETTO:-0500
TZNAME:CDT
DTSTART:20240310T080000
END:DAYLIGHT
BEGIN:STANDARD
TZOFFSETFROM:-0500
TZOFFSETTO:-0600
TZNAME:CST
DTSTART:20241103T070000
END:STANDARD
BEGIN:DAYLIGHT
TZOFFSETFROM:-0600
TZOFFSETTO:-0500
TZNAME:CDT
DTSTART:20250309T080000
END:DAYLIGHT
BEGIN:STANDARD
TZOFFSETFROM:-0500
TZOFFSETTO:-0600
TZNAME:CST
DTSTART:20251102T070000
END:STANDARD
BEGIN:DAYLIGHT
TZOFFSETFROM:-0600
TZOFFSETTO:-0500
TZNAME:CDT
DTSTART:20260308T080000
END:DAYLIGHT
BEGIN:STANDARD
TZOFFSETFROM:-0500
TZOFFSETTO:-0600
TZNAME:CST
DTSTART:20261101T070000
END:STANDARD
END:VTIMEZONE
BEGIN:VEVENT
DTSTART;TZID=America/Chicago:20250806T173000
DTEND;TZID=America/Chicago:20250806T183000
DTSTAMP:20260420T172109
CREATED:20230511T213706Z
LAST-MODIFIED:20230511T213706Z
UID:10000903-1754501400-1754505000@holyspiritmgm.org
SUMMARY:Daughters of Mary
DESCRIPTION:
URL:https://holyspiritmgm.org/event/daughters-of-mary/2025-08-06/
END:VEVENT
BEGIN:VEVENT
DTSTART;TZID=America/Chicago:20250806T190000
DTEND;TZID=America/Chicago:20250806T203000
DTSTAMP:20260420T172109
CREATED:20230511T214255Z
LAST-MODIFIED:20230511T214255Z
UID:10001427-1754506800-1754512200@holyspiritmgm.org
SUMMARY:Adult Bible Study
DESCRIPTION:Meet in the Library
URL:https://holyspiritmgm.org/event/adult-bible-study/2025-08-06/
END:VEVENT
BEGIN:VEVENT
DTSTART;TZID=America/Chicago:20250806T190000
DTEND;TZID=America/Chicago:20250806T203000
DTSTAMP:20260420T172109
CREATED:20230511T214433Z
LAST-MODIFIED:20230511T214433Z
UID:10001689-1754506800-1754512200@holyspiritmgm.org
SUMMARY:Youth Group
DESCRIPTION:Meet in the Parish Hall
URL:https://holyspiritmgm.org/event/youth-group/2025-08-06/
END:VEVENT
BEGIN:VEVENT
DTSTART;TZID=America/Chicago:20250810T091500
DTEND;TZID=America/Chicago:20250810T104500
DTSTAMP:20260420T172109
CREATED:20230511T214810Z
LAST-MODIFIED:20230511T214810Z
UID:10001951-1754817300-1754822700@holyspiritmgm.org
SUMMARY:Adult Faith Formation Class
DESCRIPTION:Meet in the Parish Hall
URL:https://holyspiritmgm.org/event/adult-faith-formation-class/2025-08-10/
END:VEVENT
BEGIN:VEVENT
DTSTART;TZID=America/Chicago:20250810T091500
DTEND;TZID=America/Chicago:20250810T104500
DTSTAMP:20260420T172109
CREATED:20230511T215038Z
LAST-MODIFIED:20230511T215112Z
UID:10002212-1754817300-1754822700@holyspiritmgm.org
SUMMARY:Children Faith Formation
DESCRIPTION:Meet in the School
URL:https://holyspiritmgm.org/event/children-faith-formation/2025-08-10/
END:VEVENT
BEGIN:VEVENT
DTSTART;TZID=America/Chicago:20250812T090000
DTEND;TZID=America/Chicago:20250812T110000
DTSTAMP:20260420T172109
CREATED:20230511T185318Z
LAST-MODIFIED:20230511T185951Z
UID:10000118-1754989200-1754996400@holyspiritmgm.org
SUMMARY:Knitting and Crocheting Meeting
DESCRIPTION:Meet in the Library. \nQuestions\, Contact Peggy Comer 828-490-7976
URL:https://holyspiritmgm.org/event/knitting-and-crocheting-meeting/2025-08-12/
END:VEVENT
BEGIN:VEVENT
DTSTART;TZID=America/Chicago:20250812T190000
DTEND;TZID=America/Chicago:20250812T203000
DTSTAMP:20260420T172109
CREATED:20230511T190228Z
LAST-MODIFIED:20230511T190449Z
UID:10000380-1755025200-1755030600@holyspiritmgm.org
SUMMARY:Adult Choir Practice
DESCRIPTION:
URL:https://holyspiritmgm.org/event/adult-choir-practice/2025-08-12/
END:VEVENT
BEGIN:VEVENT
DTSTART;TZID=America/Chicago:20250813T090000
DTEND;TZID=America/Chicago:20250814T090000
DTSTAMP:20260420T172109
CREATED:20230511T190633Z
LAST-MODIFIED:20230511T213547Z
UID:10000642-1755075600-1755162000@holyspiritmgm.org
SUMMARY:Eucharistic Adoration
DESCRIPTION:Begins 9am Wednesday until 8am Thursday
URL:https://holyspiritmgm.org/event/eucharistic-adoration/2025-08-13/
END:VEVENT
BEGIN:VEVENT
DTSTART;TZID=America/Chicago:20250813T173000
DTEND;TZID=America/Chicago:20250813T181500
DTSTAMP:20260420T172109
CREATED:20230511T213850Z
LAST-MODIFIED:20230511T214027Z
UID:10001166-1755106200-1755108900@holyspiritmgm.org
SUMMARY:Men of St. Joseph
DESCRIPTION:Meet in the Library
URL:https://holyspiritmgm.org/event/men-of-st-joseph/2025-08-13/
END:VEVENT
BEGIN:VEVENT
DTSTART;TZID=America/Chicago:20250813T173000
DTEND;TZID=America/Chicago:20250813T183000
DTSTAMP:20260420T172109
CREATED:20230511T213706Z
LAST-MODIFIED:20230511T213706Z
UID:10000904-1755106200-1755109800@holyspiritmgm.org
SUMMARY:Daughters of Mary
DESCRIPTION:
URL:https://holyspiritmgm.org/event/daughters-of-mary/2025-08-13/
END:VEVENT
BEGIN:VEVENT
DTSTART;TZID=America/Chicago:20250813T190000
DTEND;TZID=America/Chicago:20250813T203000
DTSTAMP:20260420T172109
CREATED:20230511T214255Z
LAST-MODIFIED:20230511T214255Z
UID:10001428-1755111600-1755117000@holyspiritmgm.org
SUMMARY:Adult Bible Study
DESCRIPTION:Meet in the Library
URL:https://holyspiritmgm.org/event/adult-bible-study/2025-08-13/
END:VEVENT
BEGIN:VEVENT
DTSTART;TZID=America/Chicago:20250813T190000
DTEND;TZID=America/Chicago:20250813T203000
DTSTAMP:20260420T172109
CREATED:20230511T214433Z
LAST-MODIFIED:20230511T214433Z
UID:10001690-1755111600-1755117000@holyspiritmgm.org
SUMMARY:Youth Group
DESCRIPTION:Meet in the Parish Hall
URL:https://holyspiritmgm.org/event/youth-group/2025-08-13/
END:VEVENT
BEGIN:VEVENT
DTSTART;TZID=America/Chicago:20250817T091500
DTEND;TZID=America/Chicago:20250817T104500
DTSTAMP:20260420T172109
CREATED:20230511T214810Z
LAST-MODIFIED:20230511T214810Z
UID:10001952-1755422100-1755427500@holyspiritmgm.org
SUMMARY:Adult Faith Formation Class
DESCRIPTION:Meet in the Parish Hall
URL:https://holyspiritmgm.org/event/adult-faith-formation-class/2025-08-17/
END:VEVENT
BEGIN:VEVENT
DTSTART;TZID=America/Chicago:20250817T091500
DTEND;TZID=America/Chicago:20250817T104500
DTSTAMP:20260420T172109
CREATED:20230511T215038Z
LAST-MODIFIED:20230511T215112Z
UID:10002213-1755422100-1755427500@holyspiritmgm.org
SUMMARY:Children Faith Formation
DESCRIPTION:Meet in the School
URL:https://holyspiritmgm.org/event/children-faith-formation/2025-08-17/
END:VEVENT
BEGIN:VEVENT
DTSTART;TZID=America/Chicago:20250819T090000
DTEND;TZID=America/Chicago:20250819T110000
DTSTAMP:20260420T172109
CREATED:20230511T185318Z
LAST-MODIFIED:20230511T185951Z
UID:10000119-1755594000-1755601200@holyspiritmgm.org
SUMMARY:Knitting and Crocheting Meeting
DESCRIPTION:Meet in the Library. \nQuestions\, Contact Peggy Comer 828-490-7976
URL:https://holyspiritmgm.org/event/knitting-and-crocheting-meeting/2025-08-19/
END:VEVENT
BEGIN:VEVENT
DTSTART;TZID=America/Chicago:20250819T190000
DTEND;TZID=America/Chicago:20250819T203000
DTSTAMP:20260420T172109
CREATED:20230511T190228Z
LAST-MODIFIED:20230511T190449Z
UID:10000381-1755630000-1755635400@holyspiritmgm.org
SUMMARY:Adult Choir Practice
DESCRIPTION:
URL:https://holyspiritmgm.org/event/adult-choir-practice/2025-08-19/
END:VEVENT
BEGIN:VEVENT
DTSTART;TZID=America/Chicago:20250820T090000
DTEND;TZID=America/Chicago:20250821T090000
DTSTAMP:20260420T172109
CREATED:20230511T190633Z
LAST-MODIFIED:20230511T213547Z
UID:10000643-1755680400-1755766800@holyspiritmgm.org
SUMMARY:Eucharistic Adoration
DESCRIPTION:Begins 9am Wednesday until 8am Thursday
URL:https://holyspiritmgm.org/event/eucharistic-adoration/2025-08-20/
END:VEVENT
BEGIN:VEVENT
DTSTART;TZID=America/Chicago:20250820T173000
DTEND;TZID=America/Chicago:20250820T181500
DTSTAMP:20260420T172109
CREATED:20230511T213850Z
LAST-MODIFIED:20230511T214027Z
UID:10001167-1755711000-1755713700@holyspiritmgm.org
SUMMARY:Men of St. Joseph
DESCRIPTION:Meet in the Library
URL:https://holyspiritmgm.org/event/men-of-st-joseph/2025-08-20/
END:VEVENT
BEGIN:VEVENT
DTSTART;TZID=America/Chicago:20250820T173000
DTEND;TZID=America/Chicago:20250820T183000
DTSTAMP:20260420T172109
CREATED:20230511T213706Z
LAST-MODIFIED:20230511T213706Z
UID:10000905-1755711000-1755714600@holyspiritmgm.org
SUMMARY:Daughters of Mary
DESCRIPTION:
URL:https://holyspiritmgm.org/event/daughters-of-mary/2025-08-20/
END:VEVENT
BEGIN:VEVENT
DTSTART;TZID=America/Chicago:20250820T190000
DTEND;TZID=America/Chicago:20250820T203000
DTSTAMP:20260420T172109
CREATED:20230511T214255Z
LAST-MODIFIED:20230511T214255Z
UID:10001429-1755716400-1755721800@holyspiritmgm.org
SUMMARY:Adult Bible Study
DESCRIPTION:Meet in the Library
URL:https://holyspiritmgm.org/event/adult-bible-study/2025-08-20/
END:VEVENT
BEGIN:VEVENT
DTSTART;TZID=America/Chicago:20250820T190000
DTEND;TZID=America/Chicago:20250820T203000
DTSTAMP:20260420T172109
CREATED:20230511T214433Z
LAST-MODIFIED:20230511T214433Z
UID:10001691-1755716400-1755721800@holyspiritmgm.org
SUMMARY:Youth Group
DESCRIPTION:Meet in the Parish Hall
URL:https://holyspiritmgm.org/event/youth-group/2025-08-20/
END:VEVENT
BEGIN:VEVENT
DTSTART;TZID=America/Chicago:20250824T091500
DTEND;TZID=America/Chicago:20250824T104500
DTSTAMP:20260420T172109
CREATED:20230511T214810Z
LAST-MODIFIED:20230511T214810Z
UID:10001953-1756026900-1756032300@holyspiritmgm.org
SUMMARY:Adult Faith Formation Class
DESCRIPTION:Meet in the Parish Hall
URL:https://holyspiritmgm.org/event/adult-faith-formation-class/2025-08-24/
END:VEVENT
BEGIN:VEVENT
DTSTART;TZID=America/Chicago:20250824T091500
DTEND;TZID=America/Chicago:20250824T104500
DTSTAMP:20260420T172109
CREATED:20230511T215038Z
LAST-MODIFIED:20230511T215112Z
UID:10002214-1756026900-1756032300@holyspiritmgm.org
SUMMARY:Children Faith Formation
DESCRIPTION:Meet in the School
URL:https://holyspiritmgm.org/event/children-faith-formation/2025-08-24/
END:VEVENT
BEGIN:VEVENT
DTSTART;TZID=America/Chicago:20250826T090000
DTEND;TZID=America/Chicago:20250826T110000
DTSTAMP:20260420T172109
CREATED:20230511T185318Z
LAST-MODIFIED:20230511T185951Z
UID:10000120-1756198800-1756206000@holyspiritmgm.org
SUMMARY:Knitting and Crocheting Meeting
DESCRIPTION:Meet in the Library. \nQuestions\, Contact Peggy Comer 828-490-7976
URL:https://holyspiritmgm.org/event/knitting-and-crocheting-meeting/2025-08-26/
END:VEVENT
BEGIN:VEVENT
DTSTART;TZID=America/Chicago:20250826T190000
DTEND;TZID=America/Chicago:20250826T203000
DTSTAMP:20260420T172109
CREATED:20230511T190228Z
LAST-MODIFIED:20230511T190449Z
UID:10000382-1756234800-1756240200@holyspiritmgm.org
SUMMARY:Adult Choir Practice
DESCRIPTION:
URL:https://holyspiritmgm.org/event/adult-choir-practice/2025-08-26/
END:VEVENT
BEGIN:VEVENT
DTSTART;TZID=America/Chicago:20250827T090000
DTEND;TZID=America/Chicago:20250828T090000
DTSTAMP:20260420T172109
CREATED:20230511T190633Z
LAST-MODIFIED:20230511T213547Z
UID:10000644-1756285200-1756371600@holyspiritmgm.org
SUMMARY:Eucharistic Adoration
DESCRIPTION:Begins 9am Wednesday until 8am Thursday
URL:https://holyspiritmgm.org/event/eucharistic-adoration/2025-08-27/
END:VEVENT
BEGIN:VEVENT
DTSTART;TZID=America/Chicago:20250827T173000
DTEND;TZID=America/Chicago:20250827T181500
DTSTAMP:20260420T172109
CREATED:20230511T213850Z
LAST-MODIFIED:20230511T214027Z
UID:10001168-1756315800-1756318500@holyspiritmgm.org
SUMMARY:Men of St. Joseph
DESCRIPTION:Meet in the Library
URL:https://holyspiritmgm.org/event/men-of-st-joseph/2025-08-27/
END:VEVENT
BEGIN:VEVENT
DTSTART;TZID=America/Chicago:20250827T173000
DTEND;TZID=America/Chicago:20250827T183000
DTSTAMP:20260420T172109
CREATED:20230511T213706Z
LAST-MODIFIED:20230511T213706Z
UID:10000906-1756315800-1756319400@holyspiritmgm.org
SUMMARY:Daughters of Mary
DESCRIPTION:
URL:https://holyspiritmgm.org/event/daughters-of-mary/2025-08-27/
END:VEVENT
BEGIN:VEVENT
DTSTART;TZID=America/Chicago:20250827T190000
DTEND;TZID=America/Chicago:20250827T203000
DTSTAMP:20260420T172109
CREATED:20230511T214255Z
LAST-MODIFIED:20230511T214255Z
UID:10001430-1756321200-1756326600@holyspiritmgm.org
SUMMARY:Adult Bible Study
DESCRIPTION:Meet in the Library
URL:https://holyspiritmgm.org/event/adult-bible-study/2025-08-27/
END:VEVENT
BEGIN:VEVENT
DTSTART;TZID=America/Chicago:20250827T190000
DTEND;TZID=America/Chicago:20250827T203000
DTSTAMP:20260420T172109
CREATED:20230511T214433Z
LAST-MODIFIED:20230511T214433Z
UID:10001692-1756321200-1756326600@holyspiritmgm.org
SUMMARY:Youth Group
DESCRIPTION:Meet in the Parish Hall
URL:https://holyspiritmgm.org/event/youth-group/2025-08-27/
END:VEVENT
END:VCALENDAR