BEGIN:VCALENDAR
VERSION:2.0
PRODID:-//Holy Spirit Catholic Church - ECPv6.15.20//NONSGML v1.0//EN
CALSCALE:GREGORIAN
METHOD:PUBLISH
X-ORIGINAL-URL:https://holyspiritmgm.org
X-WR-CALDESC:Events for Holy Spirit Catholic Church
REFRESH-INTERVAL;VALUE=DURATION:PT1H
X-Robots-Tag:noindex
X-PUBLISHED-TTL:PT1H
BEGIN:VTIMEZONE
TZID:America/Chicago
BEGIN:DAYLIGHT
TZOFFSETFROM:-0600
TZOFFSETTO:-0500
TZNAME:CDT
DTSTART:20220313T080000
END:DAYLIGHT
BEGIN:STANDARD
TZOFFSETFROM:-0500
TZOFFSETTO:-0600
TZNAME:CST
DTSTART:20221106T070000
END:STANDARD
BEGIN:DAYLIGHT
TZOFFSETFROM:-0600
TZOFFSETTO:-0500
TZNAME:CDT
DTSTART:20230312T080000
END:DAYLIGHT
BEGIN:STANDARD
TZOFFSETFROM:-0500
TZOFFSETTO:-0600
TZNAME:CST
DTSTART:20231105T070000
END:STANDARD
BEGIN:DAYLIGHT
TZOFFSETFROM:-0600
TZOFFSETTO:-0500
TZNAME:CDT
DTSTART:20240310T080000
END:DAYLIGHT
BEGIN:STANDARD
TZOFFSETFROM:-0500
TZOFFSETTO:-0600
TZNAME:CST
DTSTART:20241103T070000
END:STANDARD
END:VTIMEZONE
BEGIN:VEVENT
DTSTART;TZID=America/Chicago:20230509T190000
DTEND;TZID=America/Chicago:20230509T203000
DTSTAMP:20260423T060456
CREATED:20230511T190228Z
LAST-MODIFIED:20230511T190449Z
UID:10000262-1683658800-1683664200@holyspiritmgm.org
SUMMARY:Adult Choir Practice
DESCRIPTION:
URL:https://holyspiritmgm.org/event/adult-choir-practice/2023-05-09/
END:VEVENT
BEGIN:VEVENT
DTSTART;TZID=America/Chicago:20230510T090000
DTEND;TZID=America/Chicago:20230511T090000
DTSTAMP:20260423T060456
CREATED:20230511T190633Z
LAST-MODIFIED:20230511T213547Z
UID:10000524-1683709200-1683795600@holyspiritmgm.org
SUMMARY:Eucharistic Adoration
DESCRIPTION:Begins 9am Wednesday until 8am Thursday
URL:https://holyspiritmgm.org/event/eucharistic-adoration/2023-05-10/
END:VEVENT
BEGIN:VEVENT
DTSTART;TZID=America/Chicago:20230510T173000
DTEND;TZID=America/Chicago:20230510T181500
DTSTAMP:20260423T060456
CREATED:20230511T213850Z
LAST-MODIFIED:20230511T214027Z
UID:10001048-1683739800-1683742500@holyspiritmgm.org
SUMMARY:Men of St. Joseph
DESCRIPTION:Meet in the Library
URL:https://holyspiritmgm.org/event/men-of-st-joseph/2023-05-10/
END:VEVENT
BEGIN:VEVENT
DTSTART;TZID=America/Chicago:20230510T173000
DTEND;TZID=America/Chicago:20230510T183000
DTSTAMP:20260423T060456
CREATED:20230511T213706Z
LAST-MODIFIED:20230511T213706Z
UID:10000786-1683739800-1683743400@holyspiritmgm.org
SUMMARY:Daughters of Mary
DESCRIPTION:
URL:https://holyspiritmgm.org/event/daughters-of-mary/2023-05-10/
END:VEVENT
BEGIN:VEVENT
DTSTART;TZID=America/Chicago:20230510T190000
DTEND;TZID=America/Chicago:20230510T203000
DTSTAMP:20260423T060456
CREATED:20230511T214255Z
LAST-MODIFIED:20230511T214255Z
UID:10001310-1683745200-1683750600@holyspiritmgm.org
SUMMARY:Adult Bible Study
DESCRIPTION:Meet in the Library
URL:https://holyspiritmgm.org/event/adult-bible-study/2023-05-10/
END:VEVENT
BEGIN:VEVENT
DTSTART;TZID=America/Chicago:20230510T190000
DTEND;TZID=America/Chicago:20230510T203000
DTSTAMP:20260423T060456
CREATED:20230511T214433Z
LAST-MODIFIED:20230511T214433Z
UID:10001572-1683745200-1683750600@holyspiritmgm.org
SUMMARY:Youth Group
DESCRIPTION:Meet in the Parish Hall
URL:https://holyspiritmgm.org/event/youth-group/2023-05-10/
END:VEVENT
BEGIN:VEVENT
DTSTART;TZID=America/Chicago:20230514T091500
DTEND;TZID=America/Chicago:20230514T104500
DTSTAMP:20260423T060456
CREATED:20230511T214810Z
LAST-MODIFIED:20230511T214810Z
UID:10001834-1684055700-1684061100@holyspiritmgm.org
SUMMARY:Adult Faith Formation Class
DESCRIPTION:Meet in the Parish Hall
URL:https://holyspiritmgm.org/event/adult-faith-formation-class/2023-05-14/
END:VEVENT
BEGIN:VEVENT
DTSTART;TZID=America/Chicago:20230514T091500
DTEND;TZID=America/Chicago:20230514T104500
DTSTAMP:20260423T060456
CREATED:20230511T215038Z
LAST-MODIFIED:20230511T215112Z
UID:10002095-1684055700-1684061100@holyspiritmgm.org
SUMMARY:Children Faith Formation
DESCRIPTION:Meet in the School
URL:https://holyspiritmgm.org/event/children-faith-formation/2023-05-14/
END:VEVENT
BEGIN:VEVENT
DTSTART;TZID=America/Chicago:20230516T090000
DTEND;TZID=America/Chicago:20230516T110000
DTSTAMP:20260423T060456
CREATED:20230511T185318Z
LAST-MODIFIED:20230511T185951Z
UID:10000001-1684227600-1684234800@holyspiritmgm.org
SUMMARY:Knitting and Crocheting Meeting
DESCRIPTION:Meet in the Library. \nQuestions\, Contact Peggy Comer 828-490-7976
URL:https://holyspiritmgm.org/event/knitting-and-crocheting-meeting/2023-05-16/
END:VEVENT
BEGIN:VEVENT
DTSTART;TZID=America/Chicago:20230516T190000
DTEND;TZID=America/Chicago:20230516T203000
DTSTAMP:20260423T060456
CREATED:20230511T190228Z
LAST-MODIFIED:20230511T190449Z
UID:10000263-1684263600-1684269000@holyspiritmgm.org
SUMMARY:Adult Choir Practice
DESCRIPTION:
URL:https://holyspiritmgm.org/event/adult-choir-practice/2023-05-16/
END:VEVENT
BEGIN:VEVENT
DTSTART;TZID=America/Chicago:20230517T090000
DTEND;TZID=America/Chicago:20230518T090000
DTSTAMP:20260423T060456
CREATED:20230511T190633Z
LAST-MODIFIED:20230511T213547Z
UID:10000525-1684314000-1684400400@holyspiritmgm.org
SUMMARY:Eucharistic Adoration
DESCRIPTION:Begins 9am Wednesday until 8am Thursday
URL:https://holyspiritmgm.org/event/eucharistic-adoration/2023-05-17/
END:VEVENT
BEGIN:VEVENT
DTSTART;TZID=America/Chicago:20230517T173000
DTEND;TZID=America/Chicago:20230517T181500
DTSTAMP:20260423T060456
CREATED:20230511T213850Z
LAST-MODIFIED:20230511T214027Z
UID:10001049-1684344600-1684347300@holyspiritmgm.org
SUMMARY:Men of St. Joseph
DESCRIPTION:Meet in the Library
URL:https://holyspiritmgm.org/event/men-of-st-joseph/2023-05-17/
END:VEVENT
BEGIN:VEVENT
DTSTART;TZID=America/Chicago:20230517T173000
DTEND;TZID=America/Chicago:20230517T183000
DTSTAMP:20260423T060456
CREATED:20230511T213706Z
LAST-MODIFIED:20230511T213706Z
UID:10000787-1684344600-1684348200@holyspiritmgm.org
SUMMARY:Daughters of Mary
DESCRIPTION:
URL:https://holyspiritmgm.org/event/daughters-of-mary/2023-05-17/
END:VEVENT
BEGIN:VEVENT
DTSTART;TZID=America/Chicago:20230517T190000
DTEND;TZID=America/Chicago:20230517T203000
DTSTAMP:20260423T060456
CREATED:20230511T214255Z
LAST-MODIFIED:20230511T214255Z
UID:10001311-1684350000-1684355400@holyspiritmgm.org
SUMMARY:Adult Bible Study
DESCRIPTION:Meet in the Library
URL:https://holyspiritmgm.org/event/adult-bible-study/2023-05-17/
END:VEVENT
BEGIN:VEVENT
DTSTART;TZID=America/Chicago:20230517T190000
DTEND;TZID=America/Chicago:20230517T203000
DTSTAMP:20260423T060456
CREATED:20230511T214433Z
LAST-MODIFIED:20230511T214433Z
UID:10001573-1684350000-1684355400@holyspiritmgm.org
SUMMARY:Youth Group
DESCRIPTION:Meet in the Parish Hall
URL:https://holyspiritmgm.org/event/youth-group/2023-05-17/
END:VEVENT
BEGIN:VEVENT
DTSTART;TZID=America/Chicago:20230521T091500
DTEND;TZID=America/Chicago:20230521T104500
DTSTAMP:20260423T060456
CREATED:20230511T214810Z
LAST-MODIFIED:20230511T214810Z
UID:10001835-1684660500-1684665900@holyspiritmgm.org
SUMMARY:Adult Faith Formation Class
DESCRIPTION:Meet in the Parish Hall
URL:https://holyspiritmgm.org/event/adult-faith-formation-class/2023-05-21/
END:VEVENT
BEGIN:VEVENT
DTSTART;TZID=America/Chicago:20230521T091500
DTEND;TZID=America/Chicago:20230521T104500
DTSTAMP:20260423T060456
CREATED:20230511T215038Z
LAST-MODIFIED:20230511T215112Z
UID:10002096-1684660500-1684665900@holyspiritmgm.org
SUMMARY:Children Faith Formation
DESCRIPTION:Meet in the School
URL:https://holyspiritmgm.org/event/children-faith-formation/2023-05-21/
END:VEVENT
BEGIN:VEVENT
DTSTART;TZID=America/Chicago:20230523T090000
DTEND;TZID=America/Chicago:20230523T110000
DTSTAMP:20260423T060456
CREATED:20230511T185318Z
LAST-MODIFIED:20230511T185951Z
UID:10000002-1684832400-1684839600@holyspiritmgm.org
SUMMARY:Knitting and Crocheting Meeting
DESCRIPTION:Meet in the Library. \nQuestions\, Contact Peggy Comer 828-490-7976
URL:https://holyspiritmgm.org/event/knitting-and-crocheting-meeting/2023-05-23/
END:VEVENT
BEGIN:VEVENT
DTSTART;TZID=America/Chicago:20230523T190000
DTEND;TZID=America/Chicago:20230523T203000
DTSTAMP:20260423T060456
CREATED:20230511T190228Z
LAST-MODIFIED:20230511T190449Z
UID:10000264-1684868400-1684873800@holyspiritmgm.org
SUMMARY:Adult Choir Practice
DESCRIPTION:
URL:https://holyspiritmgm.org/event/adult-choir-practice/2023-05-23/
END:VEVENT
BEGIN:VEVENT
DTSTART;TZID=America/Chicago:20230524T090000
DTEND;TZID=America/Chicago:20230525T090000
DTSTAMP:20260423T060456
CREATED:20230511T190633Z
LAST-MODIFIED:20230511T213547Z
UID:10000526-1684918800-1685005200@holyspiritmgm.org
SUMMARY:Eucharistic Adoration
DESCRIPTION:Begins 9am Wednesday until 8am Thursday
URL:https://holyspiritmgm.org/event/eucharistic-adoration/2023-05-24/
END:VEVENT
BEGIN:VEVENT
DTSTART;TZID=America/Chicago:20230524T173000
DTEND;TZID=America/Chicago:20230524T181500
DTSTAMP:20260423T060456
CREATED:20230511T213850Z
LAST-MODIFIED:20230511T214027Z
UID:10001050-1684949400-1684952100@holyspiritmgm.org
SUMMARY:Men of St. Joseph
DESCRIPTION:Meet in the Library
URL:https://holyspiritmgm.org/event/men-of-st-joseph/2023-05-24/
END:VEVENT
BEGIN:VEVENT
DTSTART;TZID=America/Chicago:20230524T173000
DTEND;TZID=America/Chicago:20230524T183000
DTSTAMP:20260423T060456
CREATED:20230511T213706Z
LAST-MODIFIED:20230511T213706Z
UID:10000788-1684949400-1684953000@holyspiritmgm.org
SUMMARY:Daughters of Mary
DESCRIPTION:
URL:https://holyspiritmgm.org/event/daughters-of-mary/2023-05-24/
END:VEVENT
BEGIN:VEVENT
DTSTART;TZID=America/Chicago:20230524T190000
DTEND;TZID=America/Chicago:20230524T203000
DTSTAMP:20260423T060456
CREATED:20230511T214255Z
LAST-MODIFIED:20230511T214255Z
UID:10001312-1684954800-1684960200@holyspiritmgm.org
SUMMARY:Adult Bible Study
DESCRIPTION:Meet in the Library
URL:https://holyspiritmgm.org/event/adult-bible-study/2023-05-24/
END:VEVENT
BEGIN:VEVENT
DTSTART;TZID=America/Chicago:20230524T190000
DTEND;TZID=America/Chicago:20230524T203000
DTSTAMP:20260423T060456
CREATED:20230511T214433Z
LAST-MODIFIED:20230511T214433Z
UID:10001574-1684954800-1684960200@holyspiritmgm.org
SUMMARY:Youth Group
DESCRIPTION:Meet in the Parish Hall
URL:https://holyspiritmgm.org/event/youth-group/2023-05-24/
END:VEVENT
BEGIN:VEVENT
DTSTART;TZID=America/Chicago:20230528T091500
DTEND;TZID=America/Chicago:20230528T104500
DTSTAMP:20260423T060456
CREATED:20230511T214810Z
LAST-MODIFIED:20230511T214810Z
UID:10001836-1685265300-1685270700@holyspiritmgm.org
SUMMARY:Adult Faith Formation Class
DESCRIPTION:Meet in the Parish Hall
URL:https://holyspiritmgm.org/event/adult-faith-formation-class/2023-05-28/
END:VEVENT
BEGIN:VEVENT
DTSTART;TZID=America/Chicago:20230528T091500
DTEND;TZID=America/Chicago:20230528T104500
DTSTAMP:20260423T060456
CREATED:20230511T215038Z
LAST-MODIFIED:20230511T215112Z
UID:10002097-1685265300-1685270700@holyspiritmgm.org
SUMMARY:Children Faith Formation
DESCRIPTION:Meet in the School
URL:https://holyspiritmgm.org/event/children-faith-formation/2023-05-28/
END:VEVENT
BEGIN:VEVENT
DTSTART;TZID=America/Chicago:20230530T090000
DTEND;TZID=America/Chicago:20230530T110000
DTSTAMP:20260423T060456
CREATED:20230511T185318Z
LAST-MODIFIED:20230511T185951Z
UID:10000003-1685437200-1685444400@holyspiritmgm.org
SUMMARY:Knitting and Crocheting Meeting
DESCRIPTION:Meet in the Library. \nQuestions\, Contact Peggy Comer 828-490-7976
URL:https://holyspiritmgm.org/event/knitting-and-crocheting-meeting/2023-05-30/
END:VEVENT
BEGIN:VEVENT
DTSTART;TZID=America/Chicago:20230530T190000
DTEND;TZID=America/Chicago:20230530T203000
DTSTAMP:20260423T060456
CREATED:20230511T190228Z
LAST-MODIFIED:20230511T190449Z
UID:10000265-1685473200-1685478600@holyspiritmgm.org
SUMMARY:Adult Choir Practice
DESCRIPTION:
URL:https://holyspiritmgm.org/event/adult-choir-practice/2023-05-30/
END:VEVENT
BEGIN:VEVENT
DTSTART;TZID=America/Chicago:20230531T090000
DTEND;TZID=America/Chicago:20230601T090000
DTSTAMP:20260423T060456
CREATED:20230511T190633Z
LAST-MODIFIED:20230511T213547Z
UID:10000527-1685523600-1685610000@holyspiritmgm.org
SUMMARY:Eucharistic Adoration
DESCRIPTION:Begins 9am Wednesday until 8am Thursday
URL:https://holyspiritmgm.org/event/eucharistic-adoration/2023-05-31/
END:VEVENT
BEGIN:VEVENT
DTSTART;TZID=America/Chicago:20230531T173000
DTEND;TZID=America/Chicago:20230531T181500
DTSTAMP:20260423T060456
CREATED:20230511T213850Z
LAST-MODIFIED:20230511T214027Z
UID:10001051-1685554200-1685556900@holyspiritmgm.org
SUMMARY:Men of St. Joseph
DESCRIPTION:Meet in the Library
URL:https://holyspiritmgm.org/event/men-of-st-joseph/2023-05-31/
END:VEVENT
END:VCALENDAR